BEGIN:VCALENDAR
PRODID:-//WikiCFP//tuncgk 1.0//EN
VERSION:2.0
CALSCALE:GREGORIAN
BEGIN:VEVENT
DTSTAMP:20260423T133815Z
DTSTART;VALUE=DATE:20201214
SUMMARY:AMAI 2021 Deadline
DESCRIPTION:Annals of Mathematics and Artificial Intelligence Special Iss
 ue on Theoretical and Practical Aspects of Unification
URL:http://www.wikicfp.com/cfp/servlet/event.showcfp?eventid=114564&copyo
 wnerid=166191
UID:cfp861925-D@wikicfp.com
END:VEVENT
END:VCALENDAR
