BEGIN:VCALENDAR
PRODID:-//WikiCFP//tome01 1.0//EN
VERSION:2.0
CALSCALE:GREGORIAN
BEGIN:VEVENT
DTSTAMP:20260423T190829Z
DTSTART;VALUE=DATE:20201017
DTEND;VALUE=DATE:20201022
SUMMARY:MICRO 2020
DESCRIPTION:International Symposium on Microarchitecture
URL:http://www.wikicfp.com/cfp/servlet/event.showcfp?eventid=99336&copyow
 nerid=165902
UID:cfp860726-E@wikicfp.com
END:VEVENT
BEGIN:VEVENT
DTSTAMP:20260423T190829Z
DTSTART;VALUE=DATE:20200410
SUMMARY:MICRO 2020 Abstract Due
DESCRIPTION:International Symposium on Microarchitecture
URL:http://www.wikicfp.com/cfp/servlet/event.showcfp?eventid=99336&copyow
 nerid=165902
UID:cfp860726-A@wikicfp.com
END:VEVENT
BEGIN:VEVENT
DTSTAMP:20260423T190829Z
DTSTART;VALUE=DATE:20200417
SUMMARY:MICRO 2020 Deadline
DESCRIPTION:International Symposium on Microarchitecture
URL:http://www.wikicfp.com/cfp/servlet/event.showcfp?eventid=99336&copyow
 nerid=165902
UID:cfp860726-D@wikicfp.com
END:VEVENT
BEGIN:VEVENT
DTSTAMP:20260423T190829Z
DTSTART;VALUE=DATE:20200707
SUMMARY:MICRO 2020 Notification Due
DESCRIPTION:International Symposium on Microarchitecture
URL:http://www.wikicfp.com/cfp/servlet/event.showcfp?eventid=99336&copyow
 nerid=165902
UID:cfp860726-N@wikicfp.com
END:VEVENT
BEGIN:VEVENT
DTSTAMP:20260423T190829Z
DTSTART;VALUE=DATE:20201003
DTEND;VALUE=DATE:20201008
SUMMARY:PACT 2020
DESCRIPTION:International Conference on Parallel Architectures and Compil
 ation Techniques
URL:http://www.wikicfp.com/cfp/servlet/event.showcfp?eventid=98286&copyow
 nerid=165902
UID:cfp859268-E@wikicfp.com
END:VEVENT
BEGIN:VEVENT
DTSTAMP:20260423T190829Z
DTSTART;VALUE=DATE:20200417
SUMMARY:PACT 2020 Abstract Due
DESCRIPTION:International Conference on Parallel Architectures and Compil
 ation Techniques
URL:http://www.wikicfp.com/cfp/servlet/event.showcfp?eventid=98286&copyow
 nerid=165902
UID:cfp859268-A@wikicfp.com
END:VEVENT
BEGIN:VEVENT
DTSTAMP:20260423T190829Z
DTSTART;VALUE=DATE:20200424
SUMMARY:PACT 2020 Deadline
DESCRIPTION:International Conference on Parallel Architectures and Compil
 ation Techniques
URL:http://www.wikicfp.com/cfp/servlet/event.showcfp?eventid=98286&copyow
 nerid=165902
UID:cfp859268-D@wikicfp.com
END:VEVENT
BEGIN:VEVENT
DTSTAMP:20260423T190829Z
DTSTART;VALUE=DATE:20200715
SUMMARY:PACT 2020 Notification Due
DESCRIPTION:International Conference on Parallel Architectures and Compil
 ation Techniques
URL:http://www.wikicfp.com/cfp/servlet/event.showcfp?eventid=98286&copyow
 nerid=165902
UID:cfp859268-N@wikicfp.com
END:VEVENT
BEGIN:VEVENT
DTSTAMP:20260423T190829Z
DTSTART;VALUE=DATE:20210227
DTEND;VALUE=DATE:20210304
SUMMARY:HPCA 2021
DESCRIPTION:High-Performance Computer Architecture
URL:http://www.wikicfp.com/cfp/servlet/event.showcfp?eventid=105960&copyo
 wnerid=165902
UID:cfp859266-E@wikicfp.com
END:VEVENT
BEGIN:VEVENT
DTSTAMP:20260423T190829Z
DTSTART;VALUE=DATE:20200724
SUMMARY:HPCA 2021 Abstract Due
DESCRIPTION:High-Performance Computer Architecture
URL:http://www.wikicfp.com/cfp/servlet/event.showcfp?eventid=105960&copyo
 wnerid=165902
UID:cfp859266-A@wikicfp.com
END:VEVENT
BEGIN:VEVENT
DTSTAMP:20260423T190829Z
DTSTART;VALUE=DATE:20200731
SUMMARY:HPCA 2021 Deadline
DESCRIPTION:High-Performance Computer Architecture
URL:http://www.wikicfp.com/cfp/servlet/event.showcfp?eventid=105960&copyo
 wnerid=165902
UID:cfp859266-D@wikicfp.com
END:VEVENT
BEGIN:VEVENT
DTSTAMP:20260423T190829Z
DTSTART;VALUE=DATE:20200331
DTEND;VALUE=DATE:20200401
SUMMARY:ASPLOS 2021
DESCRIPTION:Architectural Support for Programming Languages and Operating
  Systems
URL:http://www.wikicfp.com/cfp/servlet/event.showcfp?eventid=109027&copyo
 wnerid=165902
UID:cfp859264-E@wikicfp.com
END:VEVENT
BEGIN:VEVENT
DTSTAMP:20260423T190829Z
DTSTART;VALUE=DATE:20200814
SUMMARY:ASPLOS 2021 Abstract Due
DESCRIPTION:Architectural Support for Programming Languages and Operating
  Systems
URL:http://www.wikicfp.com/cfp/servlet/event.showcfp?eventid=109027&copyo
 wnerid=165902
UID:cfp859264-A@wikicfp.com
END:VEVENT
BEGIN:VEVENT
DTSTAMP:20260423T190829Z
DTSTART;VALUE=DATE:20200821
SUMMARY:ASPLOS 2021 Deadline
DESCRIPTION:Architectural Support for Programming Languages and Operating
  Systems
URL:http://www.wikicfp.com/cfp/servlet/event.showcfp?eventid=109027&copyo
 wnerid=165902
UID:cfp859264-D@wikicfp.com
END:VEVENT
BEGIN:VEVENT
DTSTAMP:20260423T190829Z
DTSTART;VALUE=DATE:20201104
SUMMARY:ASPLOS 2021 Notification Due
DESCRIPTION:Architectural Support for Programming Languages and Operating
  Systems
URL:http://www.wikicfp.com/cfp/servlet/event.showcfp?eventid=109027&copyo
 wnerid=165902
UID:cfp859264-N@wikicfp.com
END:VEVENT
BEGIN:VEVENT
DTSTAMP:20260423T190829Z
DTSTART;VALUE=DATE:20210201
SUMMARY:ASPLOS 2021 Final Version Due
DESCRIPTION:Architectural Support for Programming Languages and Operating
  Systems
URL:http://www.wikicfp.com/cfp/servlet/event.showcfp?eventid=109027&copyo
 wnerid=165902
UID:cfp859264-N@wikicfp.com
END:VEVENT
BEGIN:VEVENT
DTSTAMP:20260423T190829Z
DTSTART;VALUE=DATE:20200924
DTEND;VALUE=DATE:20210126
SUMMARY:FAST 2021
DESCRIPTION:19th USENIX Conference on File and Storage Technologies
URL:http://www.wikicfp.com/cfp/servlet/event.showcfp?eventid=105959&copyo
 wnerid=165902
UID:cfp859265-E@wikicfp.com
END:VEVENT
BEGIN:VEVENT
DTSTAMP:20260423T190829Z
DTSTART;VALUE=DATE:20200924
SUMMARY:FAST 2021 Deadline
DESCRIPTION:19th USENIX Conference on File and Storage Technologies
URL:http://www.wikicfp.com/cfp/servlet/event.showcfp?eventid=105959&copyo
 wnerid=165902
UID:cfp859265-D@wikicfp.com
END:VEVENT
BEGIN:VEVENT
DTSTAMP:20260423T190829Z
DTSTART;VALUE=DATE:20210426
DTEND;VALUE=DATE:20210430
SUMMARY:EuroSys 2021
DESCRIPTION:European Conference on Computer Systems
URL:http://www.wikicfp.com/cfp/servlet/event.showcfp?eventid=109757&copyo
 wnerid=165902
UID:cfp859267-E@wikicfp.com
END:VEVENT
BEGIN:VEVENT
DTSTAMP:20260423T190829Z
DTSTART;VALUE=DATE:20201001
SUMMARY:EuroSys 2021 Abstract Due
DESCRIPTION:European Conference on Computer Systems
URL:http://www.wikicfp.com/cfp/servlet/event.showcfp?eventid=109757&copyo
 wnerid=165902
UID:cfp859267-A@wikicfp.com
END:VEVENT
BEGIN:VEVENT
DTSTAMP:20260423T190829Z
DTSTART;VALUE=DATE:20201009
SUMMARY:EuroSys 2021 Deadline
DESCRIPTION:European Conference on Computer Systems
URL:http://www.wikicfp.com/cfp/servlet/event.showcfp?eventid=109757&copyo
 wnerid=165902
UID:cfp859267-D@wikicfp.com
END:VEVENT
BEGIN:VEVENT
DTSTAMP:20260423T190829Z
DTSTART;VALUE=DATE:20210120
SUMMARY:EuroSys 2021 Notification Due
DESCRIPTION:European Conference on Computer Systems
URL:http://www.wikicfp.com/cfp/servlet/event.showcfp?eventid=109757&copyo
 wnerid=165902
UID:cfp859267-N@wikicfp.com
END:VEVENT
BEGIN:VEVENT
DTSTAMP:20260423T190829Z
DTSTART;VALUE=DATE:20210326
SUMMARY:EuroSys 2021 Final Version Due
DESCRIPTION:European Conference on Computer Systems
URL:http://www.wikicfp.com/cfp/servlet/event.showcfp?eventid=109757&copyo
 wnerid=165902
UID:cfp859267-N@wikicfp.com
END:VEVENT
BEGIN:VEVENT
DTSTAMP:20260423T190829Z
DTSTART;VALUE=DATE:20210522
DTEND;VALUE=DATE:20210527
SUMMARY:ISCA 2021
DESCRIPTION:International Symposium on Computer Architecture
URL:http://www.wikicfp.com/cfp/servlet/event.showcfp?eventid=115207&copyo
 wnerid=165902
UID:cfp859263-E@wikicfp.com
END:VEVENT
BEGIN:VEVENT
DTSTAMP:20260423T190829Z
DTSTART;VALUE=DATE:20201119
SUMMARY:ISCA 2021 Abstract Due
DESCRIPTION:International Symposium on Computer Architecture
URL:http://www.wikicfp.com/cfp/servlet/event.showcfp?eventid=115207&copyo
 wnerid=165902
UID:cfp859263-A@wikicfp.com
END:VEVENT
BEGIN:VEVENT
DTSTAMP:20260423T190829Z
DTSTART;VALUE=DATE:20201124
SUMMARY:ISCA 2021 Deadline
DESCRIPTION:International Symposium on Computer Architecture
URL:http://www.wikicfp.com/cfp/servlet/event.showcfp?eventid=115207&copyo
 wnerid=165902
UID:cfp859263-D@wikicfp.com
END:VEVENT
BEGIN:VEVENT
DTSTAMP:20260423T190829Z
DTSTART;VALUE=DATE:20210304
SUMMARY:ISCA 2021 Notification Due
DESCRIPTION:International Symposium on Computer Architecture
URL:http://www.wikicfp.com/cfp/servlet/event.showcfp?eventid=115207&copyo
 wnerid=165902
UID:cfp859263-N@wikicfp.com
END:VEVENT
BEGIN:VEVENT
DTSTAMP:20260423T190829Z
DTSTART;VALUE=DATE:20210420
SUMMARY:ISCA 2021 Final Version Due
DESCRIPTION:International Symposium on Computer Architecture
URL:http://www.wikicfp.com/cfp/servlet/event.showcfp?eventid=115207&copyo
 wnerid=165902
UID:cfp859263-N@wikicfp.com
END:VEVENT
BEGIN:VEVENT
DTSTAMP:20260423T190829Z
DTSTART;VALUE=DATE:20240401
DTEND;VALUE=DATE:20240403
SUMMARY:ASPLOS 2024
DESCRIPTION:The ACM International Conference on Architectural Support for
  Programming Languages and Operating Systems (Spring)
URL:http://www.wikicfp.com/cfp/servlet/event.showcfp?eventid=172619&copyo
 wnerid=165902
UID:cfp962187-E@wikicfp.com
END:VEVENT
BEGIN:VEVENT
DTSTAMP:20260423T190829Z
DTSTART;VALUE=DATE:20230413
SUMMARY:ASPLOS 2024 Abstract Due
DESCRIPTION:The ACM International Conference on Architectural Support for
  Programming Languages and Operating Systems (Spring)
URL:http://www.wikicfp.com/cfp/servlet/event.showcfp?eventid=172619&copyo
 wnerid=165902
UID:cfp962187-A@wikicfp.com
END:VEVENT
BEGIN:VEVENT
DTSTAMP:20260423T190829Z
DTSTART;VALUE=DATE:20230420
SUMMARY:ASPLOS 2024 Deadline
DESCRIPTION:The ACM International Conference on Architectural Support for
  Programming Languages and Operating Systems (Spring)
URL:http://www.wikicfp.com/cfp/servlet/event.showcfp?eventid=172619&copyo
 wnerid=165902
UID:cfp962187-D@wikicfp.com
END:VEVENT
BEGIN:VEVENT
DTSTAMP:20260423T190829Z
DTSTART;VALUE=DATE:20230802
SUMMARY:ASPLOS 2024 Notification Due
DESCRIPTION:The ACM International Conference on Architectural Support for
  Programming Languages and Operating Systems (Spring)
URL:http://www.wikicfp.com/cfp/servlet/event.showcfp?eventid=172619&copyo
 wnerid=165902
UID:cfp962187-N@wikicfp.com
END:VEVENT
BEGIN:VEVENT
DTSTAMP:20260423T190829Z
DTSTART;VALUE=DATE:20230919
SUMMARY:ASPLOS 2024 Final Version Due
DESCRIPTION:The ACM International Conference on Architectural Support for
  Programming Languages and Operating Systems (Spring)
URL:http://www.wikicfp.com/cfp/servlet/event.showcfp?eventid=172619&copyo
 wnerid=165902
UID:cfp962187-N@wikicfp.com
END:VEVENT
BEGIN:VEVENT
DTSTAMP:20260423T190829Z
DTSTART;VALUE=DATE:20240401
DTEND;VALUE=DATE:20240403
SUMMARY:ASPLOS 2024
DESCRIPTION:The ACM International Conference on Architectural Support for
  Programming Languages and Operating Systems (Summer)
URL:http://www.wikicfp.com/cfp/servlet/event.showcfp?eventid=172620&copyo
 wnerid=165902
UID:cfp962188-E@wikicfp.com
END:VEVENT
BEGIN:VEVENT
DTSTAMP:20260423T190829Z
DTSTART;VALUE=DATE:20230803
SUMMARY:ASPLOS 2024 Abstract Due
DESCRIPTION:The ACM International Conference on Architectural Support for
  Programming Languages and Operating Systems (Summer)
URL:http://www.wikicfp.com/cfp/servlet/event.showcfp?eventid=172620&copyo
 wnerid=165902
UID:cfp962188-A@wikicfp.com
END:VEVENT
BEGIN:VEVENT
DTSTAMP:20260423T190829Z
DTSTART;VALUE=DATE:20230810
SUMMARY:ASPLOS 2024 Deadline
DESCRIPTION:The ACM International Conference on Architectural Support for
  Programming Languages and Operating Systems (Summer)
URL:http://www.wikicfp.com/cfp/servlet/event.showcfp?eventid=172620&copyo
 wnerid=165902
UID:cfp962188-D@wikicfp.com
END:VEVENT
BEGIN:VEVENT
DTSTAMP:20260423T190829Z
DTSTART;VALUE=DATE:20231115
SUMMARY:ASPLOS 2024 Notification Due
DESCRIPTION:The ACM International Conference on Architectural Support for
  Programming Languages and Operating Systems (Summer)
URL:http://www.wikicfp.com/cfp/servlet/event.showcfp?eventid=172620&copyo
 wnerid=165902
UID:cfp962188-N@wikicfp.com
END:VEVENT
BEGIN:VEVENT
DTSTAMP:20260423T190829Z
DTSTART;VALUE=DATE:20240109
SUMMARY:ASPLOS 2024 Final Version Due
DESCRIPTION:The ACM International Conference on Architectural Support for
  Programming Languages and Operating Systems (Summer)
URL:http://www.wikicfp.com/cfp/servlet/event.showcfp?eventid=172620&copyo
 wnerid=165902
UID:cfp962188-N@wikicfp.com
END:VEVENT
BEGIN:VEVENT
DTSTAMP:20260423T190829Z
DTSTART;VALUE=DATE:20240401
DTEND;VALUE=DATE:20240403
SUMMARY:ASPLOS 2024
DESCRIPTION:The ACM International Conference on Architectural Support for
  Programming Languages and Operating Systems (Fall)
URL:http://www.wikicfp.com/cfp/servlet/event.showcfp?eventid=172621&copyo
 wnerid=165902
UID:cfp962189-E@wikicfp.com
END:VEVENT
BEGIN:VEVENT
DTSTAMP:20260423T190829Z
DTSTART;VALUE=DATE:20231123
SUMMARY:ASPLOS 2024 Abstract Due
DESCRIPTION:The ACM International Conference on Architectural Support for
  Programming Languages and Operating Systems (Fall)
URL:http://www.wikicfp.com/cfp/servlet/event.showcfp?eventid=172621&copyo
 wnerid=165902
UID:cfp962189-A@wikicfp.com
END:VEVENT
BEGIN:VEVENT
DTSTAMP:20260423T190829Z
DTSTART;VALUE=DATE:20231130
SUMMARY:ASPLOS 2024 Deadline
DESCRIPTION:The ACM International Conference on Architectural Support for
  Programming Languages and Operating Systems (Fall)
URL:http://www.wikicfp.com/cfp/servlet/event.showcfp?eventid=172621&copyo
 wnerid=165902
UID:cfp962189-D@wikicfp.com
END:VEVENT
BEGIN:VEVENT
DTSTAMP:20260423T190829Z
DTSTART;VALUE=DATE:20240306
SUMMARY:ASPLOS 2024 Notification Due
DESCRIPTION:The ACM International Conference on Architectural Support for
  Programming Languages and Operating Systems (Fall)
URL:http://www.wikicfp.com/cfp/servlet/event.showcfp?eventid=172621&copyo
 wnerid=165902
UID:cfp962189-N@wikicfp.com
END:VEVENT
BEGIN:VEVENT
DTSTAMP:20260423T190829Z
DTSTART;VALUE=DATE:20240327
SUMMARY:ASPLOS 2024 Final Version Due
DESCRIPTION:The ACM International Conference on Architectural Support for
  Programming Languages and Operating Systems (Fall)
URL:http://www.wikicfp.com/cfp/servlet/event.showcfp?eventid=172621&copyo
 wnerid=165902
UID:cfp962189-N@wikicfp.com
END:VEVENT
END:VCALENDAR
