BEGIN:VCALENDAR
PRODID:-//WikiCFP//Zhuldyz_04 1.0//EN
VERSION:2.0
CALSCALE:GREGORIAN
BEGIN:VEVENT
DTSTAMP:20260422T035710Z
DTSTART;VALUE=DATE:20201229
DTEND;VALUE=DATE:20210101
SUMMARY:ICHC 2020
DESCRIPTION:2020 The 7th International Conference on History and Culture 
 (ICHC 2020)
URL:http://www.wikicfp.com/cfp/servlet/event.showcfp?eventid=104287&copyo
 wnerid=165827
UID:cfp858488-E@wikicfp.com
END:VEVENT
BEGIN:VEVENT
DTSTAMP:20260422T035710Z
DTSTART;VALUE=DATE:20201110
SUMMARY:ICHC 2020 Deadline
DESCRIPTION:2020 The 7th International Conference on History and Culture 
 (ICHC 2020)
URL:http://www.wikicfp.com/cfp/servlet/event.showcfp?eventid=104287&copyo
 wnerid=165827
UID:cfp858488-D@wikicfp.com
END:VEVENT
BEGIN:VEVENT
DTSTAMP:20260422T035710Z
DTSTART;VALUE=DATE:20201120
SUMMARY:JGSS 2021 Deadline
DESCRIPTION:Journal of Games\, Self\, and Society
URL:http://www.wikicfp.com/cfp/servlet/event.showcfp?eventid=115745&copyo
 wnerid=165827
UID:cfp858491-D@wikicfp.com
END:VEVENT
BEGIN:VEVENT
DTSTAMP:20260422T035710Z
DTSTART;VALUE=DATE:20210520
DTEND;VALUE=DATE:20210522
SUMMARY:QCW 2021
DESCRIPTION:Questioning the Crime of Witchcraft: Definitions\, Receptions
  and Realities (14th-16th Centuries)
URL:http://www.wikicfp.com/cfp/servlet/event.showcfp?eventid=114803&copyo
 wnerid=165827
UID:cfp858489-E@wikicfp.com
END:VEVENT
BEGIN:VEVENT
DTSTAMP:20260422T035710Z
DTSTART;VALUE=DATE:20201130
SUMMARY:QCW 2021 Deadline
DESCRIPTION:Questioning the Crime of Witchcraft: Definitions\, Receptions
  and Realities (14th-16th Centuries)
URL:http://www.wikicfp.com/cfp/servlet/event.showcfp?eventid=114803&copyo
 wnerid=165827
UID:cfp858489-D@wikicfp.com
END:VEVENT
BEGIN:VEVENT
DTSTAMP:20260422T035710Z
DTSTART;VALUE=DATE:20210725
DTEND;VALUE=DATE:20210728
SUMMARY:ICCH 2021
DESCRIPTION:2021 5th International Conference on Culture and History (ICC
 H 2021)
URL:http://www.wikicfp.com/cfp/servlet/event.showcfp?eventid=115388&copyo
 wnerid=165827
UID:cfp858490-E@wikicfp.com
END:VEVENT
BEGIN:VEVENT
DTSTAMP:20260422T035710Z
DTSTART;VALUE=DATE:20210605
SUMMARY:ICCH 2021 Deadline
DESCRIPTION:2021 5th International Conference on Culture and History (ICC
 H 2021)
URL:http://www.wikicfp.com/cfp/servlet/event.showcfp?eventid=115388&copyo
 wnerid=165827
UID:cfp858490-D@wikicfp.com
END:VEVENT
END:VCALENDAR
