BEGIN:VCALENDAR
PRODID:-//WikiCFP//liujc 1.0//EN
VERSION:2.0
CALSCALE:GREGORIAN
BEGIN:VEVENT
DTSTAMP:20260422T072404Z
DTSTART;VALUE=DATE:20210511
DTEND;VALUE=DATE:20210515
SUMMARY:PAKDD 2021
DESCRIPTION:Pacific-Asia Conference on Knowledge Discovery and Data Minin
 g
URL:http://www.wikicfp.com/cfp/servlet/event.showcfp?eventid=110479&copyo
 wnerid=165801
UID:cfp858397-E@wikicfp.com
END:VEVENT
BEGIN:VEVENT
DTSTAMP:20260422T072404Z
DTSTART;VALUE=DATE:20201123
SUMMARY:PAKDD 2021 Abstract Due
DESCRIPTION:Pacific-Asia Conference on Knowledge Discovery and Data Minin
 g
URL:http://www.wikicfp.com/cfp/servlet/event.showcfp?eventid=110479&copyo
 wnerid=165801
UID:cfp858397-A@wikicfp.com
END:VEVENT
BEGIN:VEVENT
DTSTAMP:20260422T072404Z
DTSTART;VALUE=DATE:20201130
SUMMARY:PAKDD 2021 Deadline
DESCRIPTION:Pacific-Asia Conference on Knowledge Discovery and Data Minin
 g
URL:http://www.wikicfp.com/cfp/servlet/event.showcfp?eventid=110479&copyo
 wnerid=165801
UID:cfp858397-D@wikicfp.com
END:VEVENT
BEGIN:VEVENT
DTSTAMP:20260422T072404Z
DTSTART;VALUE=DATE:20210201
SUMMARY:PAKDD 2021 Notification Due
DESCRIPTION:Pacific-Asia Conference on Knowledge Discovery and Data Minin
 g
URL:http://www.wikicfp.com/cfp/servlet/event.showcfp?eventid=110479&copyo
 wnerid=165801
UID:cfp858397-N@wikicfp.com
END:VEVENT
BEGIN:VEVENT
DTSTAMP:20260422T072404Z
DTSTART;VALUE=DATE:20210224
SUMMARY:PAKDD 2021 Final Version Due
DESCRIPTION:Pacific-Asia Conference on Knowledge Discovery and Data Minin
 g
URL:http://www.wikicfp.com/cfp/servlet/event.showcfp?eventid=110479&copyo
 wnerid=165801
UID:cfp858397-N@wikicfp.com
END:VEVENT
BEGIN:VEVENT
DTSTAMP:20260422T072404Z
DTSTART;VALUE=DATE:20210821
DTEND;VALUE=DATE:20210827
SUMMARY:IJCAI 2021
DESCRIPTION:30th International Joint Conference on Artificial Intelligenc
 e
URL:http://www.wikicfp.com/cfp/servlet/event.showcfp?eventid=112919&copyo
 wnerid=165801
UID:cfp858396-E@wikicfp.com
END:VEVENT
BEGIN:VEVENT
DTSTAMP:20260422T072404Z
DTSTART;VALUE=DATE:20210112
SUMMARY:IJCAI 2021 Abstract Due
DESCRIPTION:30th International Joint Conference on Artificial Intelligenc
 e
URL:http://www.wikicfp.com/cfp/servlet/event.showcfp?eventid=112919&copyo
 wnerid=165801
UID:cfp858396-A@wikicfp.com
END:VEVENT
BEGIN:VEVENT
DTSTAMP:20260422T072404Z
DTSTART;VALUE=DATE:20210118
SUMMARY:IJCAI 2021 Deadline
DESCRIPTION:30th International Joint Conference on Artificial Intelligenc
 e
URL:http://www.wikicfp.com/cfp/servlet/event.showcfp?eventid=112919&copyo
 wnerid=165801
UID:cfp858396-D@wikicfp.com
END:VEVENT
BEGIN:VEVENT
DTSTAMP:20260422T072404Z
DTSTART;VALUE=DATE:20210425
SUMMARY:IJCAI 2021 Notification Due
DESCRIPTION:30th International Joint Conference on Artificial Intelligenc
 e
URL:http://www.wikicfp.com/cfp/servlet/event.showcfp?eventid=112919&copyo
 wnerid=165801
UID:cfp858396-N@wikicfp.com
END:VEVENT
END:VCALENDAR
