BEGIN:VCALENDAR
PRODID:-//WikiCFP//hzx405416956 1.0//EN
VERSION:2.0
CALSCALE:GREGORIAN
BEGIN:VEVENT
DTSTAMP:20260421T141216Z
DTSTART;VALUE=DATE:20210621
DTEND;VALUE=DATE:20210626
SUMMARY:CSF 2021
DESCRIPTION:IEEE Computer Security Foundations Symposium
URL:http://www.wikicfp.com/cfp/servlet/event.showcfp?eventid=110617&copyo
 wnerid=165213
UID:cfp854497-E@wikicfp.com
END:VEVENT
BEGIN:VEVENT
DTSTAMP:20260421T141216Z
DTSTART;VALUE=DATE:20201002
SUMMARY:CSF 2021 Deadline
DESCRIPTION:IEEE Computer Security Foundations Symposium
URL:http://www.wikicfp.com/cfp/servlet/event.showcfp?eventid=110617&copyo
 wnerid=165213
UID:cfp854497-D@wikicfp.com
END:VEVENT
BEGIN:VEVENT
DTSTAMP:20260421T141216Z
DTSTART;VALUE=DATE:20201207
SUMMARY:CSF 2021 Notification Due
DESCRIPTION:IEEE Computer Security Foundations Symposium
URL:http://www.wikicfp.com/cfp/servlet/event.showcfp?eventid=110617&copyo
 wnerid=165213
UID:cfp854497-N@wikicfp.com
END:VEVENT
BEGIN:VEVENT
DTSTAMP:20260421T141216Z
DTSTART;VALUE=DATE:20210501
SUMMARY:CSF 2021 Final Version Due
DESCRIPTION:IEEE Computer Security Foundations Symposium
URL:http://www.wikicfp.com/cfp/servlet/event.showcfp?eventid=110617&copyo
 wnerid=165213
UID:cfp854497-N@wikicfp.com
END:VEVENT
BEGIN:VEVENT
DTSTAMP:20260421T141216Z
DTSTART;VALUE=DATE:20210426
DTEND;VALUE=DATE:20210430
SUMMARY:EuroSys 2021
DESCRIPTION:European Conference on Computer Systems
URL:http://www.wikicfp.com/cfp/servlet/event.showcfp?eventid=109757&copyo
 wnerid=165213
UID:cfp854495-E@wikicfp.com
END:VEVENT
BEGIN:VEVENT
DTSTAMP:20260421T141216Z
DTSTART;VALUE=DATE:20201001
SUMMARY:EuroSys 2021 Abstract Due
DESCRIPTION:European Conference on Computer Systems
URL:http://www.wikicfp.com/cfp/servlet/event.showcfp?eventid=109757&copyo
 wnerid=165213
UID:cfp854495-A@wikicfp.com
END:VEVENT
BEGIN:VEVENT
DTSTAMP:20260421T141216Z
DTSTART;VALUE=DATE:20201009
SUMMARY:EuroSys 2021 Deadline
DESCRIPTION:European Conference on Computer Systems
URL:http://www.wikicfp.com/cfp/servlet/event.showcfp?eventid=109757&copyo
 wnerid=165213
UID:cfp854495-D@wikicfp.com
END:VEVENT
BEGIN:VEVENT
DTSTAMP:20260421T141216Z
DTSTART;VALUE=DATE:20210120
SUMMARY:EuroSys 2021 Notification Due
DESCRIPTION:European Conference on Computer Systems
URL:http://www.wikicfp.com/cfp/servlet/event.showcfp?eventid=109757&copyo
 wnerid=165213
UID:cfp854495-N@wikicfp.com
END:VEVENT
BEGIN:VEVENT
DTSTAMP:20260421T141216Z
DTSTART;VALUE=DATE:20210326
SUMMARY:EuroSys 2021 Final Version Due
DESCRIPTION:European Conference on Computer Systems
URL:http://www.wikicfp.com/cfp/servlet/event.showcfp?eventid=109757&copyo
 wnerid=165213
UID:cfp854495-N@wikicfp.com
END:VEVENT
BEGIN:VEVENT
DTSTAMP:20260421T141216Z
DTSTART;VALUE=DATE:20210621
DTEND;VALUE=DATE:20210625
SUMMARY:DSN 2021
DESCRIPTION:51th IEEE/IFIP International Conference on Dependable Systems
  and Networks
URL:http://www.wikicfp.com/cfp/servlet/event.showcfp?eventid=111082&copyo
 wnerid=165213
UID:cfp863210-E@wikicfp.com
END:VEVENT
BEGIN:VEVENT
DTSTAMP:20260421T141216Z
DTSTART;VALUE=DATE:20201204
SUMMARY:DSN 2021 Abstract Due
DESCRIPTION:51th IEEE/IFIP International Conference on Dependable Systems
  and Networks
URL:http://www.wikicfp.com/cfp/servlet/event.showcfp?eventid=111082&copyo
 wnerid=165213
UID:cfp863210-A@wikicfp.com
END:VEVENT
BEGIN:VEVENT
DTSTAMP:20260421T141216Z
DTSTART;VALUE=DATE:20201211
SUMMARY:DSN 2021 Deadline
DESCRIPTION:51th IEEE/IFIP International Conference on Dependable Systems
  and Networks
URL:http://www.wikicfp.com/cfp/servlet/event.showcfp?eventid=111082&copyo
 wnerid=165213
UID:cfp863210-D@wikicfp.com
END:VEVENT
BEGIN:VEVENT
DTSTAMP:20260421T141216Z
DTSTART;VALUE=DATE:20210308
SUMMARY:DSN 2021 Notification Due
DESCRIPTION:51th IEEE/IFIP International Conference on Dependable Systems
  and Networks
URL:http://www.wikicfp.com/cfp/servlet/event.showcfp?eventid=111082&copyo
 wnerid=165213
UID:cfp863210-N@wikicfp.com
END:VEVENT
BEGIN:VEVENT
DTSTAMP:20260421T141216Z
DTSTART;VALUE=DATE:20210419
SUMMARY:DSN 2021 Final Version Due
DESCRIPTION:51th IEEE/IFIP International Conference on Dependable Systems
  and Networks
URL:http://www.wikicfp.com/cfp/servlet/event.showcfp?eventid=111082&copyo
 wnerid=165213
UID:cfp863210-N@wikicfp.com
END:VEVENT
BEGIN:VEVENT
DTSTAMP:20260421T141216Z
DTSTART;VALUE=DATE:20210707
DTEND;VALUE=DATE:20210711
SUMMARY:ICDCS 2021
DESCRIPTION:International Conference on Distributed Computing Systems
URL:http://www.wikicfp.com/cfp/servlet/event.showcfp?eventid=112572&copyo
 wnerid=165213
UID:cfp854494-E@wikicfp.com
END:VEVENT
BEGIN:VEVENT
DTSTAMP:20260421T141216Z
DTSTART;VALUE=DATE:20210106
SUMMARY:ICDCS 2021 Abstract Due
DESCRIPTION:International Conference on Distributed Computing Systems
URL:http://www.wikicfp.com/cfp/servlet/event.showcfp?eventid=112572&copyo
 wnerid=165213
UID:cfp854494-A@wikicfp.com
END:VEVENT
BEGIN:VEVENT
DTSTAMP:20260421T141216Z
DTSTART;VALUE=DATE:20210113
SUMMARY:ICDCS 2021 Deadline
DESCRIPTION:International Conference on Distributed Computing Systems
URL:http://www.wikicfp.com/cfp/servlet/event.showcfp?eventid=112572&copyo
 wnerid=165213
UID:cfp854494-D@wikicfp.com
END:VEVENT
BEGIN:VEVENT
DTSTAMP:20260421T141216Z
DTSTART;VALUE=DATE:20210317
SUMMARY:ICDCS 2021 Notification Due
DESCRIPTION:International Conference on Distributed Computing Systems
URL:http://www.wikicfp.com/cfp/servlet/event.showcfp?eventid=112572&copyo
 wnerid=165213
UID:cfp854494-N@wikicfp.com
END:VEVENT
BEGIN:VEVENT
DTSTAMP:20260421T141216Z
DTSTART;VALUE=DATE:20210420
SUMMARY:ICDCS 2021 Final Version Due
DESCRIPTION:International Conference on Distributed Computing Systems
URL:http://www.wikicfp.com/cfp/servlet/event.showcfp?eventid=112572&copyo
 wnerid=165213
UID:cfp854494-N@wikicfp.com
END:VEVENT
END:VCALENDAR
