BEGIN:VCALENDAR
PRODID:-//WikiCFP//Critic1 1.0//EN
VERSION:2.0
CALSCALE:GREGORIAN
BEGIN:VEVENT
DTSTAMP:20260424T210129Z
DTSTART;VALUE=DATE:20210408
DTEND;VALUE=DATE:20210411
SUMMARY:CEA 2021
DESCRIPTION:Call for Papers\, Teacher Education as Social Justice Educati
 on at CEA 2021
URL:http://www.wikicfp.com/cfp/servlet/event.showcfp?eventid=113175&copyo
 wnerid=165121
UID:cfp853685-E@wikicfp.com
END:VEVENT
BEGIN:VEVENT
DTSTAMP:20260424T210129Z
DTSTART;VALUE=DATE:20201001
SUMMARY:CEA 2021 Deadline
DESCRIPTION:Call for Papers\, Teacher Education as Social Justice Educati
 on at CEA 2021
URL:http://www.wikicfp.com/cfp/servlet/event.showcfp?eventid=113175&copyo
 wnerid=165121
UID:cfp853685-D@wikicfp.com
END:VEVENT
BEGIN:VEVENT
DTSTAMP:20260424T210129Z
DTSTART;VALUE=DATE:20210408
DTEND;VALUE=DATE:20210411
SUMMARY:CEA 2021
DESCRIPTION:Call for Papers Grammar and Linguistics at  CEA 2021
URL:http://www.wikicfp.com/cfp/servlet/event.showcfp?eventid=113176&copyo
 wnerid=165121
UID:cfp853686-E@wikicfp.com
END:VEVENT
BEGIN:VEVENT
DTSTAMP:20260424T210129Z
DTSTART;VALUE=DATE:20201001
SUMMARY:CEA 2021 Deadline
DESCRIPTION:Call for Papers Grammar and Linguistics at  CEA 2021
URL:http://www.wikicfp.com/cfp/servlet/event.showcfp?eventid=113176&copyo
 wnerid=165121
UID:cfp853686-D@wikicfp.com
END:VEVENT
END:VCALENDAR
