BEGIN:VCALENDAR
PRODID:-//WikiCFP//RedStar 1.0//EN
VERSION:2.0
CALSCALE:GREGORIAN
BEGIN:VEVENT
DTSTAMP:20260424T073115Z
DTSTART;VALUE=DATE:20210518
DTEND;VALUE=DATE:20210522
SUMMARY:IoTDI 2021
DESCRIPTION:International Conference on Internet of Things Design and Imp
 lementation (IoTDI)
URL:http://www.wikicfp.com/cfp/servlet/event.showcfp?eventid=112588&copyo
 wnerid=164955
UID:cfp851681-E@wikicfp.com
END:VEVENT
BEGIN:VEVENT
DTSTAMP:20260424T073115Z
DTSTART;VALUE=DATE:20201019
SUMMARY:IoTDI 2021 Abstract Due
DESCRIPTION:International Conference on Internet of Things Design and Imp
 lementation (IoTDI)
URL:http://www.wikicfp.com/cfp/servlet/event.showcfp?eventid=112588&copyo
 wnerid=164955
UID:cfp851681-A@wikicfp.com
END:VEVENT
BEGIN:VEVENT
DTSTAMP:20260424T073115Z
DTSTART;VALUE=DATE:20201026
SUMMARY:IoTDI 2021 Deadline
DESCRIPTION:International Conference on Internet of Things Design and Imp
 lementation (IoTDI)
URL:http://www.wikicfp.com/cfp/servlet/event.showcfp?eventid=112588&copyo
 wnerid=164955
UID:cfp851681-D@wikicfp.com
END:VEVENT
BEGIN:VEVENT
DTSTAMP:20260424T073115Z
DTSTART;VALUE=DATE:20210119
SUMMARY:IoTDI 2021 Notification Due
DESCRIPTION:International Conference on Internet of Things Design and Imp
 lementation (IoTDI)
URL:http://www.wikicfp.com/cfp/servlet/event.showcfp?eventid=112588&copyo
 wnerid=164955
UID:cfp851681-N@wikicfp.com
END:VEVENT
BEGIN:VEVENT
DTSTAMP:20260424T073115Z
DTSTART;VALUE=DATE:20210307
SUMMARY:IoTDI 2021 Final Version Due
DESCRIPTION:International Conference on Internet of Things Design and Imp
 lementation (IoTDI)
URL:http://www.wikicfp.com/cfp/servlet/event.showcfp?eventid=112588&copyo
 wnerid=164955
UID:cfp851681-N@wikicfp.com
END:VEVENT
BEGIN:VEVENT
DTSTAMP:20260424T073115Z
DTSTART;VALUE=DATE:20210518
DTEND;VALUE=DATE:20210522
SUMMARY:IoTDI 2021
DESCRIPTION:6th ACM/IEEE Conference on Internet of Things Design and Impl
 ementation
URL:http://www.wikicfp.com/cfp/servlet/event.showcfp?eventid=113001&copyo
 wnerid=164955
UID:cfp853383-E@wikicfp.com
END:VEVENT
BEGIN:VEVENT
DTSTAMP:20260424T073115Z
DTSTART;VALUE=DATE:20201019
SUMMARY:IoTDI 2021 Abstract Due
DESCRIPTION:6th ACM/IEEE Conference on Internet of Things Design and Impl
 ementation
URL:http://www.wikicfp.com/cfp/servlet/event.showcfp?eventid=113001&copyo
 wnerid=164955
UID:cfp853383-A@wikicfp.com
END:VEVENT
BEGIN:VEVENT
DTSTAMP:20260424T073115Z
DTSTART;VALUE=DATE:20201026
SUMMARY:IoTDI 2021 Deadline
DESCRIPTION:6th ACM/IEEE Conference on Internet of Things Design and Impl
 ementation
URL:http://www.wikicfp.com/cfp/servlet/event.showcfp?eventid=113001&copyo
 wnerid=164955
UID:cfp853383-D@wikicfp.com
END:VEVENT
BEGIN:VEVENT
DTSTAMP:20260424T073115Z
DTSTART;VALUE=DATE:20210119
SUMMARY:IoTDI 2021 Notification Due
DESCRIPTION:6th ACM/IEEE Conference on Internet of Things Design and Impl
 ementation
URL:http://www.wikicfp.com/cfp/servlet/event.showcfp?eventid=113001&copyo
 wnerid=164955
UID:cfp853383-N@wikicfp.com
END:VEVENT
BEGIN:VEVENT
DTSTAMP:20260424T073115Z
DTSTART;VALUE=DATE:20210307
SUMMARY:IoTDI 2021 Final Version Due
DESCRIPTION:6th ACM/IEEE Conference on Internet of Things Design and Impl
 ementation
URL:http://www.wikicfp.com/cfp/servlet/event.showcfp?eventid=113001&copyo
 wnerid=164955
UID:cfp853383-N@wikicfp.com
END:VEVENT
BEGIN:VEVENT
DTSTAMP:20260424T073115Z
DTSTART;VALUE=DATE:20210518
DTEND;VALUE=DATE:20210522
SUMMARY:IoTDI 2021
DESCRIPTION:6th ACM/IEEE Conference on Internet of Things Design and Impl
 ementation
URL:http://www.wikicfp.com/cfp/servlet/event.showcfp?eventid=113506&copyo
 wnerid=164955
UID:cfp854358-E@wikicfp.com
END:VEVENT
BEGIN:VEVENT
DTSTAMP:20260424T073115Z
DTSTART;VALUE=DATE:20201019
SUMMARY:IoTDI 2021 Abstract Due
DESCRIPTION:6th ACM/IEEE Conference on Internet of Things Design and Impl
 ementation
URL:http://www.wikicfp.com/cfp/servlet/event.showcfp?eventid=113506&copyo
 wnerid=164955
UID:cfp854358-A@wikicfp.com
END:VEVENT
BEGIN:VEVENT
DTSTAMP:20260424T073115Z
DTSTART;VALUE=DATE:20201026
SUMMARY:IoTDI 2021 Deadline
DESCRIPTION:6th ACM/IEEE Conference on Internet of Things Design and Impl
 ementation
URL:http://www.wikicfp.com/cfp/servlet/event.showcfp?eventid=113506&copyo
 wnerid=164955
UID:cfp854358-D@wikicfp.com
END:VEVENT
BEGIN:VEVENT
DTSTAMP:20260424T073115Z
DTSTART;VALUE=DATE:20210119
SUMMARY:IoTDI 2021 Notification Due
DESCRIPTION:6th ACM/IEEE Conference on Internet of Things Design and Impl
 ementation
URL:http://www.wikicfp.com/cfp/servlet/event.showcfp?eventid=113506&copyo
 wnerid=164955
UID:cfp854358-N@wikicfp.com
END:VEVENT
BEGIN:VEVENT
DTSTAMP:20260424T073115Z
DTSTART;VALUE=DATE:20210307
SUMMARY:IoTDI 2021 Final Version Due
DESCRIPTION:6th ACM/IEEE Conference on Internet of Things Design and Impl
 ementation
URL:http://www.wikicfp.com/cfp/servlet/event.showcfp?eventid=113506&copyo
 wnerid=164955
UID:cfp854358-N@wikicfp.com
END:VEVENT
BEGIN:VEVENT
DTSTAMP:20260424T073115Z
DTSTART;VALUE=DATE:20210518
DTEND;VALUE=DATE:20210522
SUMMARY:IoTDI 2021
DESCRIPTION:6th ACM/IEEE Conference on Internet of Things Design and Impl
 ementation
URL:http://www.wikicfp.com/cfp/servlet/event.showcfp?eventid=114736&copyo
 wnerid=164955
UID:cfp856735-E@wikicfp.com
END:VEVENT
BEGIN:VEVENT
DTSTAMP:20260424T073115Z
DTSTART;VALUE=DATE:20201019
SUMMARY:IoTDI 2021 Abstract Due
DESCRIPTION:6th ACM/IEEE Conference on Internet of Things Design and Impl
 ementation
URL:http://www.wikicfp.com/cfp/servlet/event.showcfp?eventid=114736&copyo
 wnerid=164955
UID:cfp856735-A@wikicfp.com
END:VEVENT
BEGIN:VEVENT
DTSTAMP:20260424T073115Z
DTSTART;VALUE=DATE:20201026
SUMMARY:IoTDI 2021 Deadline
DESCRIPTION:6th ACM/IEEE Conference on Internet of Things Design and Impl
 ementation
URL:http://www.wikicfp.com/cfp/servlet/event.showcfp?eventid=114736&copyo
 wnerid=164955
UID:cfp856735-D@wikicfp.com
END:VEVENT
BEGIN:VEVENT
DTSTAMP:20260424T073115Z
DTSTART;VALUE=DATE:20210119
SUMMARY:IoTDI 2021 Notification Due
DESCRIPTION:6th ACM/IEEE Conference on Internet of Things Design and Impl
 ementation
URL:http://www.wikicfp.com/cfp/servlet/event.showcfp?eventid=114736&copyo
 wnerid=164955
UID:cfp856735-N@wikicfp.com
END:VEVENT
BEGIN:VEVENT
DTSTAMP:20260424T073115Z
DTSTART;VALUE=DATE:20210307
SUMMARY:IoTDI 2021 Final Version Due
DESCRIPTION:6th ACM/IEEE Conference on Internet of Things Design and Impl
 ementation
URL:http://www.wikicfp.com/cfp/servlet/event.showcfp?eventid=114736&copyo
 wnerid=164955
UID:cfp856735-N@wikicfp.com
END:VEVENT
BEGIN:VEVENT
DTSTAMP:20260424T073115Z
DTSTART;VALUE=DATE:20210518
DTEND;VALUE=DATE:20210522
SUMMARY:IoTDI 2021
DESCRIPTION:6th ACM/IEEE Conference on Internet of Things Design and Impl
 ementation
URL:http://www.wikicfp.com/cfp/servlet/event.showcfp?eventid=115445&copyo
 wnerid=164955
UID:cfp857849-E@wikicfp.com
END:VEVENT
BEGIN:VEVENT
DTSTAMP:20260424T073115Z
DTSTART;VALUE=DATE:20201026
SUMMARY:IoTDI 2021 Deadline
DESCRIPTION:6th ACM/IEEE Conference on Internet of Things Design and Impl
 ementation
URL:http://www.wikicfp.com/cfp/servlet/event.showcfp?eventid=115445&copyo
 wnerid=164955
UID:cfp857849-D@wikicfp.com
END:VEVENT
BEGIN:VEVENT
DTSTAMP:20260424T073115Z
DTSTART;VALUE=DATE:20210119
SUMMARY:IoTDI 2021 Notification Due
DESCRIPTION:6th ACM/IEEE Conference on Internet of Things Design and Impl
 ementation
URL:http://www.wikicfp.com/cfp/servlet/event.showcfp?eventid=115445&copyo
 wnerid=164955
UID:cfp857849-N@wikicfp.com
END:VEVENT
BEGIN:VEVENT
DTSTAMP:20260424T073115Z
DTSTART;VALUE=DATE:20210307
SUMMARY:IoTDI 2021 Final Version Due
DESCRIPTION:6th ACM/IEEE Conference on Internet of Things Design and Impl
 ementation
URL:http://www.wikicfp.com/cfp/servlet/event.showcfp?eventid=115445&copyo
 wnerid=164955
UID:cfp857849-N@wikicfp.com
END:VEVENT
BEGIN:VEVENT
DTSTAMP:20260424T073115Z
DTSTART;VALUE=DATE:20210518
DTEND;VALUE=DATE:20210522
SUMMARY:IoTDI 2021
DESCRIPTION:ACM/IEEE IoTDI 2021: Call for Posters/Demos
URL:http://www.wikicfp.com/cfp/servlet/event.showcfp?eventid=114139&copyo
 wnerid=164955
UID:cfp855467-E@wikicfp.com
END:VEVENT
BEGIN:VEVENT
DTSTAMP:20260424T073115Z
DTSTART;VALUE=DATE:20210126
SUMMARY:IoTDI 2021 Deadline
DESCRIPTION:ACM/IEEE IoTDI 2021: Call for Posters/Demos
URL:http://www.wikicfp.com/cfp/servlet/event.showcfp?eventid=114139&copyo
 wnerid=164955
UID:cfp855467-D@wikicfp.com
END:VEVENT
BEGIN:VEVENT
DTSTAMP:20260424T073115Z
DTSTART;VALUE=DATE:20210207
SUMMARY:IoTDI 2021 Notification Due
DESCRIPTION:ACM/IEEE IoTDI 2021: Call for Posters/Demos
URL:http://www.wikicfp.com/cfp/servlet/event.showcfp?eventid=114139&copyo
 wnerid=164955
UID:cfp855467-N@wikicfp.com
END:VEVENT
BEGIN:VEVENT
DTSTAMP:20260424T073115Z
DTSTART;VALUE=DATE:20210221
SUMMARY:IoTDI 2021 Final Version Due
DESCRIPTION:ACM/IEEE IoTDI 2021: Call for Posters/Demos
URL:http://www.wikicfp.com/cfp/servlet/event.showcfp?eventid=114139&copyo
 wnerid=164955
UID:cfp855467-N@wikicfp.com
END:VEVENT
BEGIN:VEVENT
DTSTAMP:20260424T073115Z
DTSTART;VALUE=DATE:20210518
DTEND;VALUE=DATE:20210522
SUMMARY:IoTDI 2021
DESCRIPTION:ACM/IEEE IoTDI 2021: Call for Posters/Demos
URL:http://www.wikicfp.com/cfp/servlet/event.showcfp?eventid=118259&copyo
 wnerid=164955
UID:cfp862210-E@wikicfp.com
END:VEVENT
BEGIN:VEVENT
DTSTAMP:20260424T073115Z
DTSTART;VALUE=DATE:20210126
SUMMARY:IoTDI 2021 Deadline
DESCRIPTION:ACM/IEEE IoTDI 2021: Call for Posters/Demos
URL:http://www.wikicfp.com/cfp/servlet/event.showcfp?eventid=118259&copyo
 wnerid=164955
UID:cfp862210-D@wikicfp.com
END:VEVENT
BEGIN:VEVENT
DTSTAMP:20260424T073115Z
DTSTART;VALUE=DATE:20210207
SUMMARY:IoTDI 2021 Notification Due
DESCRIPTION:ACM/IEEE IoTDI 2021: Call for Posters/Demos
URL:http://www.wikicfp.com/cfp/servlet/event.showcfp?eventid=118259&copyo
 wnerid=164955
UID:cfp862210-N@wikicfp.com
END:VEVENT
BEGIN:VEVENT
DTSTAMP:20260424T073115Z
DTSTART;VALUE=DATE:20210221
SUMMARY:IoTDI 2021 Final Version Due
DESCRIPTION:ACM/IEEE IoTDI 2021: Call for Posters/Demos
URL:http://www.wikicfp.com/cfp/servlet/event.showcfp?eventid=118259&copyo
 wnerid=164955
UID:cfp862210-N@wikicfp.com
END:VEVENT
BEGIN:VEVENT
DTSTAMP:20260424T073115Z
DTSTART;VALUE=DATE:20210518
DTEND;VALUE=DATE:20210522
SUMMARY:IoTDI 2021
DESCRIPTION:ACM/IEEE IoTDI 2021: Call for Posters/Demos
URL:http://www.wikicfp.com/cfp/servlet/event.showcfp?eventid=121554&copyo
 wnerid=164955
UID:cfp867174-E@wikicfp.com
END:VEVENT
BEGIN:VEVENT
DTSTAMP:20260424T073115Z
DTSTART;VALUE=DATE:20210126
SUMMARY:IoTDI 2021 Deadline
DESCRIPTION:ACM/IEEE IoTDI 2021: Call for Posters/Demos
URL:http://www.wikicfp.com/cfp/servlet/event.showcfp?eventid=121554&copyo
 wnerid=164955
UID:cfp867174-D@wikicfp.com
END:VEVENT
BEGIN:VEVENT
DTSTAMP:20260424T073115Z
DTSTART;VALUE=DATE:20210207
SUMMARY:IoTDI 2021 Notification Due
DESCRIPTION:ACM/IEEE IoTDI 2021: Call for Posters/Demos
URL:http://www.wikicfp.com/cfp/servlet/event.showcfp?eventid=121554&copyo
 wnerid=164955
UID:cfp867174-N@wikicfp.com
END:VEVENT
BEGIN:VEVENT
DTSTAMP:20260424T073115Z
DTSTART;VALUE=DATE:20210221
SUMMARY:IoTDI 2021 Final Version Due
DESCRIPTION:ACM/IEEE IoTDI 2021: Call for Posters/Demos
URL:http://www.wikicfp.com/cfp/servlet/event.showcfp?eventid=121554&copyo
 wnerid=164955
UID:cfp867174-N@wikicfp.com
END:VEVENT
BEGIN:VEVENT
DTSTAMP:20260424T073115Z
DTSTART;VALUE=DATE:20240514
DTEND;VALUE=DATE:20240516
SUMMARY:WF-PST 2024
DESCRIPTION:Call for Posters: 2024 IEEE World Forum on Public Safety Tech
 nology (WF-PST)
URL:http://www.wikicfp.com/cfp/servlet/event.showcfp?eventid=177583&copyo
 wnerid=164955
UID:cfp980164-E@wikicfp.com
END:VEVENT
BEGIN:VEVENT
DTSTAMP:20260424T073115Z
DTSTART;VALUE=DATE:20231218
SUMMARY:WF-PST 2024 Deadline
DESCRIPTION:Call for Posters: 2024 IEEE World Forum on Public Safety Tech
 nology (WF-PST)
URL:http://www.wikicfp.com/cfp/servlet/event.showcfp?eventid=177583&copyo
 wnerid=164955
UID:cfp980164-D@wikicfp.com
END:VEVENT
BEGIN:VEVENT
DTSTAMP:20260424T073115Z
DTSTART;VALUE=DATE:20240129
SUMMARY:WF-PST 2024 Notification Due
DESCRIPTION:Call for Posters: 2024 IEEE World Forum on Public Safety Tech
 nology (WF-PST)
URL:http://www.wikicfp.com/cfp/servlet/event.showcfp?eventid=177583&copyo
 wnerid=164955
UID:cfp980164-N@wikicfp.com
END:VEVENT
BEGIN:VEVENT
DTSTAMP:20260424T073115Z
DTSTART;VALUE=DATE:20240325
SUMMARY:WF-PST 2024 Final Version Due
DESCRIPTION:Call for Posters: 2024 IEEE World Forum on Public Safety Tech
 nology (WF-PST)
URL:http://www.wikicfp.com/cfp/servlet/event.showcfp?eventid=177583&copyo
 wnerid=164955
UID:cfp980164-N@wikicfp.com
END:VEVENT
BEGIN:VEVENT
DTSTAMP:20260424T073115Z
DTSTART;VALUE=DATE:20240514
DTEND;VALUE=DATE:20240516
SUMMARY:WF-PST 2024
DESCRIPTION:[CFP] WF-PST 2024 - Public Safety in Transportation
URL:http://www.wikicfp.com/cfp/servlet/event.showcfp?eventid=177584&copyo
 wnerid=164955
UID:cfp980165-E@wikicfp.com
END:VEVENT
BEGIN:VEVENT
DTSTAMP:20260424T073115Z
DTSTART;VALUE=DATE:20231218
SUMMARY:WF-PST 2024 Deadline
DESCRIPTION:[CFP] WF-PST 2024 - Public Safety in Transportation
URL:http://www.wikicfp.com/cfp/servlet/event.showcfp?eventid=177584&copyo
 wnerid=164955
UID:cfp980165-D@wikicfp.com
END:VEVENT
BEGIN:VEVENT
DTSTAMP:20260424T073115Z
DTSTART;VALUE=DATE:20240129
SUMMARY:WF-PST 2024 Notification Due
DESCRIPTION:[CFP] WF-PST 2024 - Public Safety in Transportation
URL:http://www.wikicfp.com/cfp/servlet/event.showcfp?eventid=177584&copyo
 wnerid=164955
UID:cfp980165-N@wikicfp.com
END:VEVENT
BEGIN:VEVENT
DTSTAMP:20260424T073115Z
DTSTART;VALUE=DATE:20240325
SUMMARY:WF-PST 2024 Final Version Due
DESCRIPTION:[CFP] WF-PST 2024 - Public Safety in Transportation
URL:http://www.wikicfp.com/cfp/servlet/event.showcfp?eventid=177584&copyo
 wnerid=164955
UID:cfp980165-N@wikicfp.com
END:VEVENT
END:VCALENDAR
