BEGIN:VCALENDAR
PRODID:-//WikiCFP//souvik_basu 1.0//EN
VERSION:2.0
CALSCALE:GREGORIAN
BEGIN:VEVENT
DTSTAMP:20260421T175457Z
DTSTART;VALUE=DATE:20210105
DTEND;VALUE=DATE:20210106
SUMMARY:EmeRTeS 2021
DESCRIPTION:ACM International Workshop on Emergency Response Technologies
  and Services 
URL:http://www.wikicfp.com/cfp/servlet/event.showcfp?eventid=112443&copyo
 wnerid=164919
UID:cfp851467-E@wikicfp.com
END:VEVENT
BEGIN:VEVENT
DTSTAMP:20260421T175457Z
DTSTART;VALUE=DATE:20200920
SUMMARY:EmeRTeS 2021 Deadline
DESCRIPTION:ACM International Workshop on Emergency Response Technologies
  and Services 
URL:http://www.wikicfp.com/cfp/servlet/event.showcfp?eventid=112443&copyo
 wnerid=164919
UID:cfp851467-D@wikicfp.com
END:VEVENT
BEGIN:VEVENT
DTSTAMP:20260421T175457Z
DTSTART;VALUE=DATE:20201010
SUMMARY:EmeRTeS 2021 Notification Due
DESCRIPTION:ACM International Workshop on Emergency Response Technologies
  and Services 
URL:http://www.wikicfp.com/cfp/servlet/event.showcfp?eventid=112443&copyo
 wnerid=164919
UID:cfp851467-N@wikicfp.com
END:VEVENT
BEGIN:VEVENT
DTSTAMP:20260421T175457Z
DTSTART;VALUE=DATE:20201020
SUMMARY:EmeRTeS 2021 Final Version Due
DESCRIPTION:ACM International Workshop on Emergency Response Technologies
  and Services 
URL:http://www.wikicfp.com/cfp/servlet/event.showcfp?eventid=112443&copyo
 wnerid=164919
UID:cfp851467-N@wikicfp.com
END:VEVENT
END:VCALENDAR
