BEGIN:VCALENDAR
PRODID:-//WikiCFP//viniciuscezarml 1.0//EN
VERSION:2.0
CALSCALE:GREGORIAN
BEGIN:VEVENT
DTSTAMP:20260421T160049Z
DTSTART;VALUE=DATE:20200630
DTEND;VALUE=DATE:20200704
SUMMARY:MDM 2020
DESCRIPTION:Mobile Data Management
URL:http://www.wikicfp.com/cfp/servlet/event.showcfp?eventid=97879&copyow
 nerid=164744
UID:cfp849984-E@wikicfp.com
END:VEVENT
BEGIN:VEVENT
DTSTAMP:20260421T160049Z
DTSTART;VALUE=DATE:20200117
SUMMARY:MDM 2020 Abstract Due
DESCRIPTION:Mobile Data Management
URL:http://www.wikicfp.com/cfp/servlet/event.showcfp?eventid=97879&copyow
 nerid=164744
UID:cfp849984-A@wikicfp.com
END:VEVENT
BEGIN:VEVENT
DTSTAMP:20260421T160049Z
DTSTART;VALUE=DATE:20200124
SUMMARY:MDM 2020 Deadline
DESCRIPTION:Mobile Data Management
URL:http://www.wikicfp.com/cfp/servlet/event.showcfp?eventid=97879&copyow
 nerid=164744
UID:cfp849984-D@wikicfp.com
END:VEVENT
BEGIN:VEVENT
DTSTAMP:20260421T160049Z
DTSTART;VALUE=DATE:20200331
SUMMARY:MDM 2020 Notification Due
DESCRIPTION:Mobile Data Management
URL:http://www.wikicfp.com/cfp/servlet/event.showcfp?eventid=97879&copyow
 nerid=164744
UID:cfp849984-N@wikicfp.com
END:VEVENT
BEGIN:VEVENT
DTSTAMP:20260421T160049Z
DTSTART;VALUE=DATE:20200424
SUMMARY:MDM 2020 Final Version Due
DESCRIPTION:Mobile Data Management
URL:http://www.wikicfp.com/cfp/servlet/event.showcfp?eventid=97879&copyow
 nerid=164744
UID:cfp849984-N@wikicfp.com
END:VEVENT
BEGIN:VEVENT
DTSTAMP:20260421T160049Z
DTSTART;VALUE=DATE:20201019
DTEND;VALUE=DATE:20201024
SUMMARY:CIKM 2020
DESCRIPTION:29TH ACM INTERNATIONAL CONFERENCE ON INFORMATION AND KNOWLEDG
 E MANAGEMENT
URL:http://www.wikicfp.com/cfp/servlet/event.showcfp?eventid=96971&copyow
 nerid=164744
UID:cfp849985-E@wikicfp.com
END:VEVENT
BEGIN:VEVENT
DTSTAMP:20260421T160049Z
DTSTART;VALUE=DATE:20200508
SUMMARY:CIKM 2020 Abstract Due
DESCRIPTION:29TH ACM INTERNATIONAL CONFERENCE ON INFORMATION AND KNOWLEDG
 E MANAGEMENT
URL:http://www.wikicfp.com/cfp/servlet/event.showcfp?eventid=96971&copyow
 nerid=164744
UID:cfp849985-A@wikicfp.com
END:VEVENT
BEGIN:VEVENT
DTSTAMP:20260421T160049Z
DTSTART;VALUE=DATE:20200515
SUMMARY:CIKM 2020 Deadline
DESCRIPTION:29TH ACM INTERNATIONAL CONFERENCE ON INFORMATION AND KNOWLEDG
 E MANAGEMENT
URL:http://www.wikicfp.com/cfp/servlet/event.showcfp?eventid=96971&copyow
 nerid=164744
UID:cfp849985-D@wikicfp.com
END:VEVENT
BEGIN:VEVENT
DTSTAMP:20260421T160049Z
DTSTART;VALUE=DATE:20200717
SUMMARY:CIKM 2020 Notification Due
DESCRIPTION:29TH ACM INTERNATIONAL CONFERENCE ON INFORMATION AND KNOWLEDG
 E MANAGEMENT
URL:http://www.wikicfp.com/cfp/servlet/event.showcfp?eventid=96971&copyow
 nerid=164744
UID:cfp849985-N@wikicfp.com
END:VEVENT
BEGIN:VEVENT
DTSTAMP:20260421T160049Z
DTSTART;VALUE=DATE:20200817
SUMMARY:CIKM 2020 Final Version Due
DESCRIPTION:29TH ACM INTERNATIONAL CONFERENCE ON INFORMATION AND KNOWLEDG
 E MANAGEMENT
URL:http://www.wikicfp.com/cfp/servlet/event.showcfp?eventid=96971&copyow
 nerid=164744
UID:cfp849985-N@wikicfp.com
END:VEVENT
END:VCALENDAR
