BEGIN:VCALENDAR
PRODID:-//WikiCFP//TorbenPacholleck 1.0//EN
VERSION:2.0
CALSCALE:GREGORIAN
BEGIN:VEVENT
DTSTAMP:20260424T084712Z
DTSTART;VALUE=DATE:20201023
DTEND;VALUE=DATE:20201027
SUMMARY:ICETC--ACM\, Ei Compendex and Scopus 2020
DESCRIPTION:ACM--2020 The 12th International Conference on Education Tech
 nology and Computers (ICETC 2020)--EI Compendex\, Scopus
URL:http://www.wikicfp.com/cfp/servlet/event.showcfp?eventid=103838&copyo
 wnerid=164730
UID:cfp849818-E@wikicfp.com
END:VEVENT
BEGIN:VEVENT
DTSTAMP:20260424T084712Z
DTSTART;VALUE=DATE:20200915
SUMMARY:ICETC--ACM\, Ei Compendex and Scopus 2020 Deadline
DESCRIPTION:ACM--2020 The 12th International Conference on Education Tech
 nology and Computers (ICETC 2020)--EI Compendex\, Scopus
URL:http://www.wikicfp.com/cfp/servlet/event.showcfp?eventid=103838&copyo
 wnerid=164730
UID:cfp849818-D@wikicfp.com
END:VEVENT
BEGIN:VEVENT
DTSTAMP:20260424T084712Z
DTSTART;VALUE=DATE:20201111
DTEND;VALUE=DATE:20201116
SUMMARY:EAIT--ACM\, EI\, Scopus 2020
DESCRIPTION:ACM--2020 The International Conference on Education and Artif
 icial Intelligence Technologies (EAIT 2020)--EI Compendex\, Scopus
URL:http://www.wikicfp.com/cfp/servlet/event.showcfp?eventid=99428&copyow
 nerid=164730
UID:cfp849816-E@wikicfp.com
END:VEVENT
BEGIN:VEVENT
DTSTAMP:20260424T084712Z
DTSTART;VALUE=DATE:20201005
SUMMARY:EAIT--ACM\, EI\, Scopus 2020 Deadline
DESCRIPTION:ACM--2020 The International Conference on Education and Artif
 icial Intelligence Technologies (EAIT 2020)--EI Compendex\, Scopus
URL:http://www.wikicfp.com/cfp/servlet/event.showcfp?eventid=99428&copyow
 nerid=164730
UID:cfp849816-D@wikicfp.com
END:VEVENT
BEGIN:VEVENT
DTSTAMP:20260424T084712Z
DTSTART;VALUE=DATE:20201106
DTEND;VALUE=DATE:20201109
SUMMARY:ACM--WAIE--Ei Compendex\, Scopus 2020
DESCRIPTION:ACM--2020 2nd International Workshop on Artificial Intelligen
 ce and Education (WAIE 2020)--EI Compendex\, Scopus
URL:http://www.wikicfp.com/cfp/servlet/event.showcfp?eventid=103824&copyo
 wnerid=164730
UID:cfp849817-E@wikicfp.com
END:VEVENT
BEGIN:VEVENT
DTSTAMP:20260424T084712Z
DTSTART;VALUE=DATE:20201015
SUMMARY:ACM--WAIE--Ei Compendex\, Scopus 2020 Deadline
DESCRIPTION:ACM--2020 2nd International Workshop on Artificial Intelligen
 ce and Education (WAIE 2020)--EI Compendex\, Scopus
URL:http://www.wikicfp.com/cfp/servlet/event.showcfp?eventid=103824&copyo
 wnerid=164730
UID:cfp849817-D@wikicfp.com
END:VEVENT
BEGIN:VEVENT
DTSTAMP:20260424T084712Z
DTSTART;VALUE=DATE:20210318
DTEND;VALUE=DATE:20210320
SUMMARY:NPSE 2021
DESCRIPTION:New Perspectives in Science Education International Conferenc
 e â 10th Edition
URL:http://www.wikicfp.com/cfp/servlet/event.showcfp?eventid=109408&copyo
 wnerid=164730
UID:cfp849821-E@wikicfp.com
END:VEVENT
BEGIN:VEVENT
DTSTAMP:20260424T084712Z
DTSTART;VALUE=DATE:20201021
SUMMARY:NPSE 2021 Deadline
DESCRIPTION:New Perspectives in Science Education International Conferenc
 e â 10th Edition
URL:http://www.wikicfp.com/cfp/servlet/event.showcfp?eventid=109408&copyo
 wnerid=164730
UID:cfp849821-D@wikicfp.com
END:VEVENT
BEGIN:VEVENT
DTSTAMP:20260424T084712Z
DTSTART;VALUE=DATE:20201104
SUMMARY:NPSE 2021 Notification Due
DESCRIPTION:New Perspectives in Science Education International Conferenc
 e â 10th Edition
URL:http://www.wikicfp.com/cfp/servlet/event.showcfp?eventid=109408&copyo
 wnerid=164730
UID:cfp849821-N@wikicfp.com
END:VEVENT
BEGIN:VEVENT
DTSTAMP:20260424T084712Z
DTSTART;VALUE=DATE:20210122
SUMMARY:NPSE 2021 Final Version Due
DESCRIPTION:New Perspectives in Science Education International Conferenc
 e â 10th Edition
URL:http://www.wikicfp.com/cfp/servlet/event.showcfp?eventid=109408&copyo
 wnerid=164730
UID:cfp849821-N@wikicfp.com
END:VEVENT
BEGIN:VEVENT
DTSTAMP:20260424T084712Z
DTSTART;VALUE=DATE:20210106
DTEND;VALUE=DATE:20210109
SUMMARY:AEIT--JA\, Scopus 2021
DESCRIPTION:2021 2nd International Conference on Advances in Education an
 d Information Technology (AEIT 2021)--JA\, Scopus
URL:http://www.wikicfp.com/cfp/servlet/event.showcfp?eventid=108298&copyo
 wnerid=164730
UID:cfp849819-E@wikicfp.com
END:VEVENT
BEGIN:VEVENT
DTSTAMP:20260424T084712Z
DTSTART;VALUE=DATE:20201115
SUMMARY:AEIT--JA\, Scopus 2021 Deadline
DESCRIPTION:2021 2nd International Conference on Advances in Education an
 d Information Technology (AEIT 2021)--JA\, Scopus
URL:http://www.wikicfp.com/cfp/servlet/event.showcfp?eventid=108298&copyo
 wnerid=164730
UID:cfp849819-D@wikicfp.com
END:VEVENT
BEGIN:VEVENT
DTSTAMP:20260424T084712Z
DTSTART;VALUE=DATE:20210118
DTEND;VALUE=DATE:20210121
SUMMARY:ICAIE--Ei Compendex\, Scopus 2021
DESCRIPTION:2021 International Conference on Artificial Intelligence in E
 ducation (ICAIE 2021)--Ei Compendex\, Scopus
URL:http://www.wikicfp.com/cfp/servlet/event.showcfp?eventid=110783&copyo
 wnerid=164730
UID:cfp849820-E@wikicfp.com
END:VEVENT
BEGIN:VEVENT
DTSTAMP:20260424T084712Z
DTSTART;VALUE=DATE:20201205
SUMMARY:ICAIE--Ei Compendex\, Scopus 2021 Deadline
DESCRIPTION:2021 International Conference on Artificial Intelligence in E
 ducation (ICAIE 2021)--Ei Compendex\, Scopus
URL:http://www.wikicfp.com/cfp/servlet/event.showcfp?eventid=110783&copyo
 wnerid=164730
UID:cfp849820-D@wikicfp.com
END:VEVENT
BEGIN:VEVENT
DTSTAMP:20260424T084712Z
DTSTART;VALUE=DATE:20200902
SUMMARY:EdTech 2021 Abstract Due
DESCRIPTION:Cases on Technologies in Education From Classroom 2.0 to Soci
 ety 5.0
URL:http://www.wikicfp.com/cfp/servlet/event.showcfp?eventid=110615&copyo
 wnerid=164730
UID:cfp849824-A@wikicfp.com
END:VEVENT
BEGIN:VEVENT
DTSTAMP:20260424T084712Z
DTSTART;VALUE=DATE:20201231
SUMMARY:EdTech 2021 Deadline
DESCRIPTION:Cases on Technologies in Education From Classroom 2.0 to Soci
 ety 5.0
URL:http://www.wikicfp.com/cfp/servlet/event.showcfp?eventid=110615&copyo
 wnerid=164730
UID:cfp849824-D@wikicfp.com
END:VEVENT
BEGIN:VEVENT
DTSTAMP:20260424T084712Z
DTSTART;VALUE=DATE:20210228
SUMMARY:EdTech 2021 Notification Due
DESCRIPTION:Cases on Technologies in Education From Classroom 2.0 to Soci
 ety 5.0
URL:http://www.wikicfp.com/cfp/servlet/event.showcfp?eventid=110615&copyo
 wnerid=164730
UID:cfp849824-N@wikicfp.com
END:VEVENT
BEGIN:VEVENT
DTSTAMP:20260424T084712Z
DTSTART;VALUE=DATE:20210531
SUMMARY:EdTech 2021 Final Version Due
DESCRIPTION:Cases on Technologies in Education From Classroom 2.0 to Soci
 ety 5.0
URL:http://www.wikicfp.com/cfp/servlet/event.showcfp?eventid=110615&copyo
 wnerid=164730
UID:cfp849824-N@wikicfp.com
END:VEVENT
BEGIN:VEVENT
DTSTAMP:20260424T084712Z
DTSTART;VALUE=DATE:20210320
DTEND;VALUE=DATE:20210322
SUMMARY:WCIE 2021
DESCRIPTION:4th World Congress on Inspired Education
URL:http://www.wikicfp.com/cfp/servlet/event.showcfp?eventid=101575&copyo
 wnerid=164730
UID:cfp849826-E@wikicfp.com
END:VEVENT
BEGIN:VEVENT
DTSTAMP:20260424T084712Z
DTSTART;VALUE=DATE:20201231
SUMMARY:WCIE 2021 Abstract Due
DESCRIPTION:4th World Congress on Inspired Education
URL:http://www.wikicfp.com/cfp/servlet/event.showcfp?eventid=101575&copyo
 wnerid=164730
UID:cfp849826-A@wikicfp.com
END:VEVENT
BEGIN:VEVENT
DTSTAMP:20260424T084712Z
DTSTART;VALUE=DATE:20210117
SUMMARY:WCIE 2021 Deadline
DESCRIPTION:4th World Congress on Inspired Education
URL:http://www.wikicfp.com/cfp/servlet/event.showcfp?eventid=101575&copyo
 wnerid=164730
UID:cfp849826-D@wikicfp.com
END:VEVENT
BEGIN:VEVENT
DTSTAMP:20260424T084712Z
DTSTART;VALUE=DATE:20210207
SUMMARY:WCIE 2021 Notification Due
DESCRIPTION:4th World Congress on Inspired Education
URL:http://www.wikicfp.com/cfp/servlet/event.showcfp?eventid=101575&copyo
 wnerid=164730
UID:cfp849826-N@wikicfp.com
END:VEVENT
BEGIN:VEVENT
DTSTAMP:20260424T084712Z
DTSTART;VALUE=DATE:20210221
SUMMARY:WCIE 2021 Final Version Due
DESCRIPTION:4th World Congress on Inspired Education
URL:http://www.wikicfp.com/cfp/servlet/event.showcfp?eventid=101575&copyo
 wnerid=164730
UID:cfp849826-N@wikicfp.com
END:VEVENT
BEGIN:VEVENT
DTSTAMP:20260424T084712Z
DTSTART;VALUE=DATE:20210423
DTEND;VALUE=DATE:20210426
SUMMARY:CSEDU 2021
DESCRIPTION:13th International Conference on Computer Supported Education
 
URL:http://www.wikicfp.com/cfp/servlet/event.showcfp?eventid=110604&copyo
 wnerid=164730
UID:cfp849825-E@wikicfp.com
END:VEVENT
BEGIN:VEVENT
DTSTAMP:20260424T084712Z
DTSTART;VALUE=DATE:20210119
SUMMARY:CSEDU 2021 Deadline
DESCRIPTION:13th International Conference on Computer Supported Education
 
URL:http://www.wikicfp.com/cfp/servlet/event.showcfp?eventid=110604&copyo
 wnerid=164730
UID:cfp849825-D@wikicfp.com
END:VEVENT
BEGIN:VEVENT
DTSTAMP:20260424T084712Z
DTSTART;VALUE=DATE:20210205
SUMMARY:CSEDU 2021 Notification Due
DESCRIPTION:13th International Conference on Computer Supported Education
 
URL:http://www.wikicfp.com/cfp/servlet/event.showcfp?eventid=110604&copyo
 wnerid=164730
UID:cfp849825-N@wikicfp.com
END:VEVENT
BEGIN:VEVENT
DTSTAMP:20260424T084712Z
DTSTART;VALUE=DATE:20210222
SUMMARY:CSEDU 2021 Final Version Due
DESCRIPTION:13th International Conference on Computer Supported Education
 
URL:http://www.wikicfp.com/cfp/servlet/event.showcfp?eventid=110604&copyo
 wnerid=164730
UID:cfp849825-N@wikicfp.com
END:VEVENT
END:VCALENDAR
