BEGIN:VCALENDAR
PRODID:-//WikiCFP//CFP_Nene 1.0//EN
VERSION:2.0
CALSCALE:GREGORIAN
BEGIN:VEVENT
DTSTAMP:20260424T214418Z
DTSTART;VALUE=DATE:20150928
SUMMARY:Public Health Intelligence (Book) 2016 Abstract Due
DESCRIPTION:Call for Book Chapter: Public Health Intelligence (By Springe
 r)
URL:http://www.wikicfp.com/cfp/servlet/event.showcfp?eventid=48481&copyow
 nerid=164542
UID:cfp848375-A@wikicfp.com
END:VEVENT
BEGIN:VEVENT
DTSTAMP:20260424T214418Z
DTSTART;VALUE=DATE:20151211
SUMMARY:Public Health Intelligence (Book) 2016 Deadline
DESCRIPTION:Call for Book Chapter: Public Health Intelligence (By Springe
 r)
URL:http://www.wikicfp.com/cfp/servlet/event.showcfp?eventid=48481&copyow
 nerid=164542
UID:cfp848375-D@wikicfp.com
END:VEVENT
BEGIN:VEVENT
DTSTAMP:20260424T214418Z
DTSTART;VALUE=DATE:20151010
SUMMARY:Public Health Intelligence (Book) 2016 Notification Due
DESCRIPTION:Call for Book Chapter: Public Health Intelligence (By Springe
 r)
URL:http://www.wikicfp.com/cfp/servlet/event.showcfp?eventid=48481&copyow
 nerid=164542
UID:cfp848375-N@wikicfp.com
END:VEVENT
BEGIN:VEVENT
DTSTAMP:20260424T214418Z
DTSTART;VALUE=DATE:20160120
SUMMARY:Public Health Intelligence (Book) 2016 Final Version Due
DESCRIPTION:Call for Book Chapter: Public Health Intelligence (By Springe
 r)
URL:http://www.wikicfp.com/cfp/servlet/event.showcfp?eventid=48481&copyow
 nerid=164542
UID:cfp848375-N@wikicfp.com
END:VEVENT
BEGIN:VEVENT
DTSTAMP:20260424T214418Z
DTSTART;VALUE=DATE:20201203
DTEND;VALUE=DATE:20201206
SUMMARY:TAAI 2020
DESCRIPTION:The 25th Conference on Technologies and Applications of Artif
 icial Intelligence
URL:http://www.wikicfp.com/cfp/servlet/event.showcfp?eventid=108988&copyo
 wnerid=164542
UID:cfp848373-E@wikicfp.com
END:VEVENT
BEGIN:VEVENT
DTSTAMP:20260424T214418Z
DTSTART;VALUE=DATE:20200831
SUMMARY:TAAI 2020 Deadline
DESCRIPTION:The 25th Conference on Technologies and Applications of Artif
 icial Intelligence
URL:http://www.wikicfp.com/cfp/servlet/event.showcfp?eventid=108988&copyo
 wnerid=164542
UID:cfp848373-D@wikicfp.com
END:VEVENT
BEGIN:VEVENT
DTSTAMP:20260424T214418Z
DTSTART;VALUE=DATE:20201012
SUMMARY:TAAI 2020 Notification Due
DESCRIPTION:The 25th Conference on Technologies and Applications of Artif
 icial Intelligence
URL:http://www.wikicfp.com/cfp/servlet/event.showcfp?eventid=108988&copyo
 wnerid=164542
UID:cfp848373-N@wikicfp.com
END:VEVENT
BEGIN:VEVENT
DTSTAMP:20260424T214418Z
DTSTART;VALUE=DATE:20201019
SUMMARY:TAAI 2020 Final Version Due
DESCRIPTION:The 25th Conference on Technologies and Applications of Artif
 icial Intelligence
URL:http://www.wikicfp.com/cfp/servlet/event.showcfp?eventid=108988&copyo
 wnerid=164542
UID:cfp848373-N@wikicfp.com
END:VEVENT
BEGIN:VEVENT
DTSTAMP:20260424T214418Z
DTSTART;VALUE=DATE:20200930
SUMMARY:VSI: Expert DM 2020 Deadline
DESCRIPTION:Applied Soft Computing: Special Issue on Expert Decision Maki
 ng for Data Analytics with Applications
URL:http://www.wikicfp.com/cfp/servlet/event.showcfp?eventid=102648&copyo
 wnerid=164542
UID:cfp848369-D@wikicfp.com
END:VEVENT
BEGIN:VEVENT
DTSTAMP:20260424T214418Z
DTSTART;VALUE=DATE:20201207
DTEND;VALUE=DATE:20201209
SUMMARY:AICS 2020
DESCRIPTION:AICS 2020: 28th Irish Conference on Artificial Intelligence a
 nd Cognitive Science
URL:http://www.wikicfp.com/cfp/servlet/event.showcfp?eventid=108470&copyo
 wnerid=164542
UID:cfp848368-E@wikicfp.com
END:VEVENT
BEGIN:VEVENT
DTSTAMP:20260424T214418Z
DTSTART;VALUE=DATE:20200930
SUMMARY:AICS 2020 Deadline
DESCRIPTION:AICS 2020: 28th Irish Conference on Artificial Intelligence a
 nd Cognitive Science
URL:http://www.wikicfp.com/cfp/servlet/event.showcfp?eventid=108470&copyo
 wnerid=164542
UID:cfp848368-D@wikicfp.com
END:VEVENT
BEGIN:VEVENT
DTSTAMP:20260424T214418Z
DTSTART;VALUE=DATE:20201031
SUMMARY:AICS 2020 Notification Due
DESCRIPTION:AICS 2020: 28th Irish Conference on Artificial Intelligence a
 nd Cognitive Science
URL:http://www.wikicfp.com/cfp/servlet/event.showcfp?eventid=108470&copyo
 wnerid=164542
UID:cfp848368-N@wikicfp.com
END:VEVENT
BEGIN:VEVENT
DTSTAMP:20260424T214418Z
DTSTART;VALUE=DATE:20201107
SUMMARY:AICS 2020 Final Version Due
DESCRIPTION:AICS 2020: 28th Irish Conference on Artificial Intelligence a
 nd Cognitive Science
URL:http://www.wikicfp.com/cfp/servlet/event.showcfp?eventid=108470&copyo
 wnerid=164542
UID:cfp848368-N@wikicfp.com
END:VEVENT
BEGIN:VEVENT
DTSTAMP:20260424T214418Z
DTSTART;VALUE=DATE:20201210
DTEND;VALUE=DATE:20201214
SUMMARY:FinancialNews&Data-IEEE-BigData 2020
DESCRIPTION:The 4th IEEE International Workshop on Big Data for Financial
  News and Data
URL:http://www.wikicfp.com/cfp/servlet/event.showcfp?eventid=110205&copyo
 wnerid=164542
UID:cfp848370-E@wikicfp.com
END:VEVENT
BEGIN:VEVENT
DTSTAMP:20260424T214418Z
DTSTART;VALUE=DATE:20201011
SUMMARY:FinancialNews&Data-IEEE-BigData 2020 Deadline
DESCRIPTION:The 4th IEEE International Workshop on Big Data for Financial
  News and Data
URL:http://www.wikicfp.com/cfp/servlet/event.showcfp?eventid=110205&copyo
 wnerid=164542
UID:cfp848370-D@wikicfp.com
END:VEVENT
BEGIN:VEVENT
DTSTAMP:20260424T214418Z
DTSTART;VALUE=DATE:20201108
SUMMARY:FinancialNews&Data-IEEE-BigData 2020 Notification Due
DESCRIPTION:The 4th IEEE International Workshop on Big Data for Financial
  News and Data
URL:http://www.wikicfp.com/cfp/servlet/event.showcfp?eventid=110205&copyo
 wnerid=164542
UID:cfp848370-N@wikicfp.com
END:VEVENT
BEGIN:VEVENT
DTSTAMP:20260424T214418Z
DTSTART;VALUE=DATE:20201125
SUMMARY:FinancialNews&Data-IEEE-BigData 2020 Final Version Due
DESCRIPTION:The 4th IEEE International Workshop on Big Data for Financial
  News and Data
URL:http://www.wikicfp.com/cfp/servlet/event.showcfp?eventid=110205&copyo
 wnerid=164542
UID:cfp848370-N@wikicfp.com
END:VEVENT
BEGIN:VEVENT
DTSTAMP:20260424T214418Z
DTSTART;VALUE=DATE:20201210
DTEND;VALUE=DATE:20201214
SUMMARY:U2BigData 2020
DESCRIPTION:User Understanding from Big Data Workshop - in conjunction wi
 th IEEE Big Data 2020
URL:http://www.wikicfp.com/cfp/servlet/event.showcfp?eventid=104547&copyo
 wnerid=164542
UID:cfp848365-E@wikicfp.com
END:VEVENT
BEGIN:VEVENT
DTSTAMP:20260424T214418Z
DTSTART;VALUE=DATE:20201015
SUMMARY:U2BigData 2020 Deadline
DESCRIPTION:User Understanding from Big Data Workshop - in conjunction wi
 th IEEE Big Data 2020
URL:http://www.wikicfp.com/cfp/servlet/event.showcfp?eventid=104547&copyo
 wnerid=164542
UID:cfp848365-D@wikicfp.com
END:VEVENT
BEGIN:VEVENT
DTSTAMP:20260424T214418Z
DTSTART;VALUE=DATE:20201101
SUMMARY:U2BigData 2020 Notification Due
DESCRIPTION:User Understanding from Big Data Workshop - in conjunction wi
 th IEEE Big Data 2020
URL:http://www.wikicfp.com/cfp/servlet/event.showcfp?eventid=104547&copyo
 wnerid=164542
UID:cfp848365-N@wikicfp.com
END:VEVENT
BEGIN:VEVENT
DTSTAMP:20260424T214418Z
DTSTART;VALUE=DATE:20201115
SUMMARY:U2BigData 2020 Final Version Due
DESCRIPTION:User Understanding from Big Data Workshop - in conjunction wi
 th IEEE Big Data 2020
URL:http://www.wikicfp.com/cfp/servlet/event.showcfp?eventid=104547&copyo
 wnerid=164542
UID:cfp848365-N@wikicfp.com
END:VEVENT
BEGIN:VEVENT
DTSTAMP:20260424T214418Z
DTSTART;VALUE=DATE:20201126
DTEND;VALUE=DATE:20201130
SUMMARY:Scopus-BDAI 2020
DESCRIPTION:2020 International Conference on Industrial Applications of B
 ig Data and Artificial Intelligence (BDAI 2020)
URL:http://www.wikicfp.com/cfp/servlet/event.showcfp?eventid=96797&copyow
 nerid=164542
UID:cfp848367-E@wikicfp.com
END:VEVENT
BEGIN:VEVENT
DTSTAMP:20260424T214418Z
DTSTART;VALUE=DATE:20201025
SUMMARY:Scopus-BDAI 2020 Deadline
DESCRIPTION:2020 International Conference on Industrial Applications of B
 ig Data and Artificial Intelligence (BDAI 2020)
URL:http://www.wikicfp.com/cfp/servlet/event.showcfp?eventid=96797&copyow
 nerid=164542
UID:cfp848367-D@wikicfp.com
END:VEVENT
BEGIN:VEVENT
DTSTAMP:20260424T214418Z
DTSTART;VALUE=DATE:20200925
SUMMARY:Frontiers in Big Data 2020 Abstract Due
DESCRIPTION:Novel Big Data Technologies in Public Health
URL:http://www.wikicfp.com/cfp/servlet/event.showcfp?eventid=108892&copyo
 wnerid=164542
UID:cfp848374-A@wikicfp.com
END:VEVENT
BEGIN:VEVENT
DTSTAMP:20260424T214418Z
DTSTART;VALUE=DATE:20201030
SUMMARY:Frontiers in Big Data 2020 Deadline
DESCRIPTION:Novel Big Data Technologies in Public Health
URL:http://www.wikicfp.com/cfp/servlet/event.showcfp?eventid=108892&copyo
 wnerid=164542
UID:cfp848374-D@wikicfp.com
END:VEVENT
BEGIN:VEVENT
DTSTAMP:20260424T214418Z
DTSTART;VALUE=DATE:20201214
SUMMARY:Frontiers in Big Data 2020 Notification Due
DESCRIPTION:Novel Big Data Technologies in Public Health
URL:http://www.wikicfp.com/cfp/servlet/event.showcfp?eventid=108892&copyo
 wnerid=164542
UID:cfp848374-N@wikicfp.com
END:VEVENT
BEGIN:VEVENT
DTSTAMP:20260424T214418Z
DTSTART;VALUE=DATE:20210131
SUMMARY:Frontiers in Big Data 2020 Final Version Due
DESCRIPTION:Novel Big Data Technologies in Public Health
URL:http://www.wikicfp.com/cfp/servlet/event.showcfp?eventid=108892&copyo
 wnerid=164542
UID:cfp848374-N@wikicfp.com
END:VEVENT
BEGIN:VEVENT
DTSTAMP:20260424T214418Z
DTSTART;VALUE=DATE:20201030
SUMMARY:IEEE CS: Special Issue on Explainable AI 2020 Deadline
DESCRIPTION:IEEE CS Computer: Special Issue on Explainable AI and Machine
  Learning
URL:http://www.wikicfp.com/cfp/servlet/event.showcfp?eventid=109001&copyo
 wnerid=164542
UID:cfp848372-D@wikicfp.com
END:VEVENT
BEGIN:VEVENT
DTSTAMP:20260424T214418Z
DTSTART;VALUE=DATE:20200417
SUMMARY:IEEE CS: Special Issue on Explainable AI 2020 Notification Due
DESCRIPTION:IEEE CS Computer: Special Issue on Explainable AI and Machine
  Learning
URL:http://www.wikicfp.com/cfp/servlet/event.showcfp?eventid=109001&copyo
 wnerid=164542
UID:cfp848372-N@wikicfp.com
END:VEVENT
BEGIN:VEVENT
DTSTAMP:20260424T214418Z
DTSTART;VALUE=DATE:20200701
SUMMARY:IEEE CS: Special Issue on Explainable AI 2020 Final Version Due
DESCRIPTION:IEEE CS Computer: Special Issue on Explainable AI and Machine
  Learning
URL:http://www.wikicfp.com/cfp/servlet/event.showcfp?eventid=109001&copyo
 wnerid=164542
UID:cfp848372-N@wikicfp.com
END:VEVENT
BEGIN:VEVENT
DTSTAMP:20260424T214418Z
DTSTART;VALUE=DATE:20210319
DTEND;VALUE=DATE:20210322
SUMMARY:MLHMI--Ei and Scopus 2021
DESCRIPTION:2021 2nd International Conference on Machine Learning and Hum
 an-Computer Interaction (MLHMI 2021)--Ei Compendex\, Scopus
URL:http://www.wikicfp.com/cfp/servlet/event.showcfp?eventid=104308&copyo
 wnerid=164542
UID:cfp848371-E@wikicfp.com
END:VEVENT
BEGIN:VEVENT
DTSTAMP:20260424T214418Z
DTSTART;VALUE=DATE:20210205
SUMMARY:MLHMI--Ei and Scopus 2021 Deadline
DESCRIPTION:2021 2nd International Conference on Machine Learning and Hum
 an-Computer Interaction (MLHMI 2021)--Ei Compendex\, Scopus
URL:http://www.wikicfp.com/cfp/servlet/event.showcfp?eventid=104308&copyo
 wnerid=164542
UID:cfp848371-D@wikicfp.com
END:VEVENT
END:VCALENDAR
