BEGIN:VCALENDAR
PRODID:-//WikiCFP//afala2021 1.0//EN
VERSION:2.0
CALSCALE:GREGORIAN
BEGIN:VEVENT
DTSTAMP:20260423T135132Z
DTSTART;VALUE=DATE:20211013
DTEND;VALUE=DATE:20211017
SUMMARY:AFALA 2021
DESCRIPTION:The GLOCAL African Assembly on Linguistic Anthropology (AFALA
 ) 2021
URL:http://www.wikicfp.com/cfp/servlet/event.showcfp?eventid=108425&copyo
 wnerid=163986
UID:cfp844476-E@wikicfp.com
END:VEVENT
BEGIN:VEVENT
DTSTAMP:20260423T135132Z
DTSTART;VALUE=DATE:20210219
SUMMARY:AFALA 2021 Deadline
DESCRIPTION:The GLOCAL African Assembly on Linguistic Anthropology (AFALA
 ) 2021
URL:http://www.wikicfp.com/cfp/servlet/event.showcfp?eventid=108425&copyo
 wnerid=163986
UID:cfp844476-D@wikicfp.com
END:VEVENT
END:VCALENDAR
