BEGIN:VCALENDAR
PRODID:-//WikiCFP//hirschch 1.0//EN
VERSION:2.0
CALSCALE:GREGORIAN
BEGIN:VEVENT
DTSTAMP:20260421T032940Z
DTSTART;VALUE=DATE:20110727
DTEND;VALUE=DATE:20110730
SUMMARY:ICCIS  2011
DESCRIPTION:International Conference on Computer and Information Science
URL:http://www.wikicfp.com/cfp/servlet/event.showcfp?eventid=13007&copyow
 nerid=16332
UID:cfp140275-E@wikicfp.com
END:VEVENT
BEGIN:VEVENT
DTSTAMP:20260421T032940Z
DTSTART;VALUE=DATE:20111221
DTEND;VALUE=DATE:20111224
SUMMARY:ICIS  2011
DESCRIPTION:International Conference on Information Systems
URL:http://www.wikicfp.com/cfp/servlet/event.showcfp?eventid=13162&copyow
 nerid=16332
UID:cfp134095-E@wikicfp.com
END:VEVENT
BEGIN:VEVENT
DTSTAMP:20260421T032940Z
DTSTART;VALUE=DATE:20110319
DTEND;VALUE=DATE:20110324
SUMMARY:CSCW 2011
DESCRIPTION:Computer Supported Cooperative Work
URL:http://www.wikicfp.com/cfp/servlet/event.showcfp?eventid=8532&copyown
 erid=16332
UID:cfp134096-E@wikicfp.com
END:VEVENT
BEGIN:VEVENT
DTSTAMP:20260421T032940Z
DTSTART;VALUE=DATE:20100806
SUMMARY:CSCW 2011 Deadline
DESCRIPTION:Computer Supported Cooperative Work
URL:http://www.wikicfp.com/cfp/servlet/event.showcfp?eventid=8532&copyown
 erid=16332
UID:cfp134096-D@wikicfp.com
END:VEVENT
BEGIN:VEVENT
DTSTAMP:20260421T032940Z
DTSTART;VALUE=DATE:20110213
DTEND;VALUE=DATE:20110214
SUMMARY:VISSW 2011
DESCRIPTION:3rd International Workshop on Visual Interfaces to the Social
  and Semantic Web
URL:http://www.wikicfp.com/cfp/servlet/event.showcfp?eventid=11634&copyow
 nerid=16332
UID:cfp111986-E@wikicfp.com
END:VEVENT
BEGIN:VEVENT
DTSTAMP:20260421T032940Z
DTSTART;VALUE=DATE:20101108
SUMMARY:VISSW 2011 Deadline
DESCRIPTION:3rd International Workshop on Visual Interfaces to the Social
  and Semantic Web
URL:http://www.wikicfp.com/cfp/servlet/event.showcfp?eventid=11634&copyow
 nerid=16332
UID:cfp111986-D@wikicfp.com
END:VEVENT
BEGIN:VEVENT
DTSTAMP:20260421T032940Z
DTSTART;VALUE=DATE:20110531
DTEND;VALUE=DATE:20110604
SUMMARY:EuroVis 2011
DESCRIPTION:Eurographics/IEEE Symposium on Visualization
URL:http://www.wikicfp.com/cfp/servlet/event.showcfp?eventid=10608&copyow
 nerid=16332
UID:cfp111368-E@wikicfp.com
END:VEVENT
BEGIN:VEVENT
DTSTAMP:20260421T032940Z
DTSTART;VALUE=DATE:20101126
SUMMARY:EuroVis 2011 Abstract Due
DESCRIPTION:Eurographics/IEEE Symposium on Visualization
URL:http://www.wikicfp.com/cfp/servlet/event.showcfp?eventid=10608&copyow
 nerid=16332
UID:cfp111368-A@wikicfp.com
END:VEVENT
BEGIN:VEVENT
DTSTAMP:20260421T032940Z
DTSTART;VALUE=DATE:20101203
SUMMARY:EuroVis 2011 Deadline
DESCRIPTION:Eurographics/IEEE Symposium on Visualization
URL:http://www.wikicfp.com/cfp/servlet/event.showcfp?eventid=10608&copyow
 nerid=16332
UID:cfp111368-D@wikicfp.com
END:VEVENT
BEGIN:VEVENT
DTSTAMP:20260421T032940Z
DTSTART;VALUE=DATE:20110529
DTEND;VALUE=DATE:20110605
SUMMARY:ESWC 2011
DESCRIPTION:The 8th Extended Semantic Web Conference
URL:http://www.wikicfp.com/cfp/servlet/event.showcfp?eventid=11425&copyow
 nerid=16332
UID:cfp134097-E@wikicfp.com
END:VEVENT
BEGIN:VEVENT
DTSTAMP:20260421T032940Z
DTSTART;VALUE=DATE:20101206
SUMMARY:ESWC 2011 Deadline
DESCRIPTION:The 8th Extended Semantic Web Conference
URL:http://www.wikicfp.com/cfp/servlet/event.showcfp?eventid=11425&copyow
 nerid=16332
UID:cfp134097-D@wikicfp.com
END:VEVENT
BEGIN:VEVENT
DTSTAMP:20260421T032940Z
DTSTART;VALUE=DATE:20110221
SUMMARY:ESWC 2011 Notification Due
DESCRIPTION:The 8th Extended Semantic Web Conference
URL:http://www.wikicfp.com/cfp/servlet/event.showcfp?eventid=11425&copyow
 nerid=16332
UID:cfp134097-N@wikicfp.com
END:VEVENT
BEGIN:VEVENT
DTSTAMP:20260421T032940Z
DTSTART;VALUE=DATE:20110526
DTEND;VALUE=DATE:20110529
SUMMARY:SAMSE  2011
DESCRIPTION:International Workshop on Semantic Analysis Methods in Softwa
 re Engineering 
URL:http://www.wikicfp.com/cfp/servlet/event.showcfp?eventid=13743&copyow
 nerid=16332
UID:cfp135968-E@wikicfp.com
END:VEVENT
BEGIN:VEVENT
DTSTAMP:20260421T032940Z
DTSTART;VALUE=DATE:20110104
SUMMARY:SAMSE  2011 Deadline
DESCRIPTION:International Workshop on Semantic Analysis Methods in Softwa
 re Engineering 
URL:http://www.wikicfp.com/cfp/servlet/event.showcfp?eventid=13743&copyow
 nerid=16332
UID:cfp135968-D@wikicfp.com
END:VEVENT
BEGIN:VEVENT
DTSTAMP:20260421T032940Z
DTSTART;VALUE=DATE:20110204
SUMMARY:SAMSE  2011 Notification Due
DESCRIPTION:International Workshop on Semantic Analysis Methods in Softwa
 re Engineering 
URL:http://www.wikicfp.com/cfp/servlet/event.showcfp?eventid=13743&copyow
 nerid=16332
UID:cfp135968-N@wikicfp.com
END:VEVENT
BEGIN:VEVENT
DTSTAMP:20260421T032940Z
DTSTART;VALUE=DATE:20110615
DTEND;VALUE=DATE:20110618
SUMMARY:WebSci 2011
DESCRIPTION:Web Science 2011
URL:http://www.wikicfp.com/cfp/servlet/event.showcfp?eventid=11507&copyow
 nerid=16332
UID:cfp127682-E@wikicfp.com
END:VEVENT
BEGIN:VEVENT
DTSTAMP:20260421T032940Z
DTSTART;VALUE=DATE:20110228
SUMMARY:WebSci 2011 Deadline
DESCRIPTION:Web Science 2011
URL:http://www.wikicfp.com/cfp/servlet/event.showcfp?eventid=11507&copyow
 nerid=16332
UID:cfp127682-D@wikicfp.com
END:VEVENT
BEGIN:VEVENT
DTSTAMP:20260421T032940Z
DTSTART;VALUE=DATE:20110321
SUMMARY:WebSci 2011 Notification Due
DESCRIPTION:Web Science 2011
URL:http://www.wikicfp.com/cfp/servlet/event.showcfp?eventid=11507&copyow
 nerid=16332
UID:cfp127682-N@wikicfp.com
END:VEVENT
BEGIN:VEVENT
DTSTAMP:20260421T032940Z
DTSTART;VALUE=DATE:20111024
DTEND;VALUE=DATE:20111029
SUMMARY:CIKM 2011
DESCRIPTION:20th ACM Conference on Information and Knowledge Management 
URL:http://www.wikicfp.com/cfp/servlet/event.showcfp?eventid=10309&copyow
 nerid=16332
UID:cfp111367-E@wikicfp.com
END:VEVENT
BEGIN:VEVENT
DTSTAMP:20260421T032940Z
DTSTART;VALUE=DATE:20110517
SUMMARY:CIKM 2011 Abstract Due
DESCRIPTION:20th ACM Conference on Information and Knowledge Management 
URL:http://www.wikicfp.com/cfp/servlet/event.showcfp?eventid=10309&copyow
 nerid=16332
UID:cfp111367-A@wikicfp.com
END:VEVENT
BEGIN:VEVENT
DTSTAMP:20260421T032940Z
DTSTART;VALUE=DATE:20110524
SUMMARY:CIKM 2011 Deadline
DESCRIPTION:20th ACM Conference on Information and Knowledge Management 
URL:http://www.wikicfp.com/cfp/servlet/event.showcfp?eventid=10309&copyow
 nerid=16332
UID:cfp111367-D@wikicfp.com
END:VEVENT
BEGIN:VEVENT
DTSTAMP:20260421T032940Z
DTSTART;VALUE=DATE:20110719
SUMMARY:CIKM 2011 Notification Due
DESCRIPTION:20th ACM Conference on Information and Knowledge Management 
URL:http://www.wikicfp.com/cfp/servlet/event.showcfp?eventid=10309&copyow
 nerid=16332
UID:cfp111367-N@wikicfp.com
END:VEVENT
BEGIN:VEVENT
DTSTAMP:20260421T032940Z
DTSTART;VALUE=DATE:20110816
SUMMARY:CIKM 2011 Final Version Due
DESCRIPTION:20th ACM Conference on Information and Knowledge Management 
URL:http://www.wikicfp.com/cfp/servlet/event.showcfp?eventid=10309&copyow
 nerid=16332
UID:cfp111367-N@wikicfp.com
END:VEVENT
END:VCALENDAR
