BEGIN:VCALENDAR
PRODID:-//WikiCFP//GLCommit 1.0//EN
VERSION:2.0
CALSCALE:GREGORIAN
BEGIN:VEVENT
DTSTAMP:20260420T120326Z
DTSTART;VALUE=DATE:20200826
DTEND;VALUE=DATE:20200827
SUMMARY:GLCommit 2020
DESCRIPTION:GitLab Commit 2020
URL:http://www.wikicfp.com/cfp/servlet/event.showcfp?eventid=104620&copyo
 wnerid=163131
UID:cfp836598-E@wikicfp.com
END:VEVENT
BEGIN:VEVENT
DTSTAMP:20260420T120326Z
DTSTART;VALUE=DATE:20200601
SUMMARY:GLCommit 2020 Deadline
DESCRIPTION:GitLab Commit 2020
URL:http://www.wikicfp.com/cfp/servlet/event.showcfp?eventid=104620&copyo
 wnerid=163131
UID:cfp836598-D@wikicfp.com
END:VEVENT
END:VCALENDAR
