BEGIN:VCALENDAR
PRODID:-//WikiCFP//data2 1.0//EN
VERSION:2.0
CALSCALE:GREGORIAN
BEGIN:VEVENT
DTSTAMP:20260423T150558Z
DTSTART;VALUE=DATE:20200619
DTEND;VALUE=DATE:20200622
SUMMARY:IEEE--ICCIA--Ei Compendex\, Scopus 2020
DESCRIPTION:IEEE--2020 5th International Conference on Computational Inte
 lligence and Applications (ICCIA 2020)--Ei Compendex\, Scopus
URL:http://www.wikicfp.com/cfp/servlet/event.showcfp?eventid=93923&copyow
 nerid=163036
UID:cfp835865-E@wikicfp.com
END:VEVENT
BEGIN:VEVENT
DTSTAMP:20260423T150558Z
DTSTART;VALUE=DATE:20200520
SUMMARY:IEEE--ICCIA--Ei Compendex\, Scopus 2020 Deadline
DESCRIPTION:IEEE--2020 5th International Conference on Computational Inte
 lligence and Applications (ICCIA 2020)--Ei Compendex\, Scopus
URL:http://www.wikicfp.com/cfp/servlet/event.showcfp?eventid=93923&copyow
 nerid=163036
UID:cfp835865-D@wikicfp.com
END:VEVENT
BEGIN:VEVENT
DTSTAMP:20260423T150558Z
DTSTART;VALUE=DATE:20200619
DTEND;VALUE=DATE:20200622
SUMMARY:ACM--ICMLT--Ei and Scopus 2020
DESCRIPTION:ACM--2020 5th International Conference on Machine Learning Te
 chnologies (ICMLT 2020)--Ei Compendex\, Scopus
URL:http://www.wikicfp.com/cfp/servlet/event.showcfp?eventid=93925&copyow
 nerid=163036
UID:cfp835864-E@wikicfp.com
END:VEVENT
BEGIN:VEVENT
DTSTAMP:20260423T150558Z
DTSTART;VALUE=DATE:20200520
SUMMARY:ACM--ICMLT--Ei and Scopus 2020 Deadline
DESCRIPTION:ACM--2020 5th International Conference on Machine Learning Te
 chnologies (ICMLT 2020)--Ei Compendex\, Scopus
URL:http://www.wikicfp.com/cfp/servlet/event.showcfp?eventid=93925&copyow
 nerid=163036
UID:cfp835864-D@wikicfp.com
END:VEVENT
BEGIN:VEVENT
DTSTAMP:20260423T150558Z
DTSTART;VALUE=DATE:20200919
DTEND;VALUE=DATE:20200921
SUMMARY:CBD 2020
DESCRIPTION:The Eighth International Conference on Advanced Cloud and Big
  Data
URL:http://www.wikicfp.com/cfp/servlet/event.showcfp?eventid=101423&copyo
 wnerid=163036
UID:cfp835869-E@wikicfp.com
END:VEVENT
BEGIN:VEVENT
DTSTAMP:20260423T150558Z
DTSTART;VALUE=DATE:20200520
SUMMARY:CBD 2020 Deadline
DESCRIPTION:The Eighth International Conference on Advanced Cloud and Big
  Data
URL:http://www.wikicfp.com/cfp/servlet/event.showcfp?eventid=101423&copyo
 wnerid=163036
UID:cfp835869-D@wikicfp.com
END:VEVENT
BEGIN:VEVENT
DTSTAMP:20260423T150558Z
DTSTART;VALUE=DATE:20200710
SUMMARY:CBD 2020 Notification Due
DESCRIPTION:The Eighth International Conference on Advanced Cloud and Big
  Data
URL:http://www.wikicfp.com/cfp/servlet/event.showcfp?eventid=101423&copyo
 wnerid=163036
UID:cfp835869-N@wikicfp.com
END:VEVENT
BEGIN:VEVENT
DTSTAMP:20260423T150558Z
DTSTART;VALUE=DATE:20200805
SUMMARY:CBD 2020 Final Version Due
DESCRIPTION:The Eighth International Conference on Advanced Cloud and Big
  Data
URL:http://www.wikicfp.com/cfp/servlet/event.showcfp?eventid=101423&copyo
 wnerid=163036
UID:cfp835869-N@wikicfp.com
END:VEVENT
BEGIN:VEVENT
DTSTAMP:20260423T150558Z
DTSTART;VALUE=DATE:20200703
DTEND;VALUE=DATE:20200707
SUMMARY:BDAI--Ei and Scopus 2020
DESCRIPTION:2020 3rd International Conference on Big Data and Artificial 
 Intelligence (BDAI 2020)--EI Compendex\, Scopus
URL:http://www.wikicfp.com/cfp/servlet/event.showcfp?eventid=95336&copyow
 nerid=163036
UID:cfp835866-E@wikicfp.com
END:VEVENT
BEGIN:VEVENT
DTSTAMP:20260423T150558Z
DTSTART;VALUE=DATE:20200525
SUMMARY:BDAI--Ei and Scopus 2020 Deadline
DESCRIPTION:2020 3rd International Conference on Big Data and Artificial 
 Intelligence (BDAI 2020)--EI Compendex\, Scopus
URL:http://www.wikicfp.com/cfp/servlet/event.showcfp?eventid=95336&copyow
 nerid=163036
UID:cfp835866-D@wikicfp.com
END:VEVENT
BEGIN:VEVENT
DTSTAMP:20260423T150558Z
DTSTART;VALUE=DATE:20200731
DTEND;VALUE=DATE:20200803
SUMMARY:ICCEE--Ei Compendex\, Scopus 2020
DESCRIPTION:2020 13th International Conference on Computer and Electrical
  Engineering (ICCEE 2020)--Scopus\, Ei Compendex
URL:http://www.wikicfp.com/cfp/servlet/event.showcfp?eventid=99645&copyow
 nerid=163036
UID:cfp835880-E@wikicfp.com
END:VEVENT
BEGIN:VEVENT
DTSTAMP:20260423T150558Z
DTSTART;VALUE=DATE:20200525
SUMMARY:ICCEE--Ei Compendex\, Scopus 2020 Deadline
DESCRIPTION:2020 13th International Conference on Computer and Electrical
  Engineering (ICCEE 2020)--Scopus\, Ei Compendex
URL:http://www.wikicfp.com/cfp/servlet/event.showcfp?eventid=99645&copyow
 nerid=163036
UID:cfp835880-D@wikicfp.com
END:VEVENT
BEGIN:VEVENT
DTSTAMP:20260423T150558Z
DTSTART;VALUE=DATE:20200710
DTEND;VALUE=DATE:20200713
SUMMARY:ACM--ICDLT--Ei and Scopus 2020
DESCRIPTION:ACM--2020 4th International Conference on Deep Learning Techn
 ologies (ICDLT 2020)--Ei Compendex\, Scopus
URL:http://www.wikicfp.com/cfp/servlet/event.showcfp?eventid=95325&copyow
 nerid=163036
UID:cfp835876-E@wikicfp.com
END:VEVENT
BEGIN:VEVENT
DTSTAMP:20260423T150558Z
DTSTART;VALUE=DATE:20200601
SUMMARY:ACM--ICDLT--Ei and Scopus 2020 Deadline
DESCRIPTION:ACM--2020 4th International Conference on Deep Learning Techn
 ologies (ICDLT 2020)--Ei Compendex\, Scopus
URL:http://www.wikicfp.com/cfp/servlet/event.showcfp?eventid=95325&copyow
 nerid=163036
UID:cfp835876-D@wikicfp.com
END:VEVENT
BEGIN:VEVENT
DTSTAMP:20260423T150558Z
DTSTART;VALUE=DATE:20191017
DTEND;VALUE=DATE:20200920
SUMMARY:Big Data & AI 2020
DESCRIPTION:The 8th International Workshop on Big Data and Artificial Int
 elligence\, 2020
URL:http://www.wikicfp.com/cfp/servlet/event.showcfp?eventid=100299&copyo
 wnerid=163036
UID:cfp835878-E@wikicfp.com
END:VEVENT
BEGIN:VEVENT
DTSTAMP:20260423T150558Z
DTSTART;VALUE=DATE:20200621
SUMMARY:Big Data & AI 2020 Deadline
DESCRIPTION:The 8th International Workshop on Big Data and Artificial Int
 elligence\, 2020
URL:http://www.wikicfp.com/cfp/servlet/event.showcfp?eventid=100299&copyo
 wnerid=163036
UID:cfp835878-D@wikicfp.com
END:VEVENT
BEGIN:VEVENT
DTSTAMP:20260423T150558Z
DTSTART;VALUE=DATE:20200712
SUMMARY:Big Data & AI 2020 Notification Due
DESCRIPTION:The 8th International Workshop on Big Data and Artificial Int
 elligence\, 2020
URL:http://www.wikicfp.com/cfp/servlet/event.showcfp?eventid=100299&copyo
 wnerid=163036
UID:cfp835878-N@wikicfp.com
END:VEVENT
BEGIN:VEVENT
DTSTAMP:20260423T150558Z
DTSTART;VALUE=DATE:20201205
DTEND;VALUE=DATE:20201207
SUMMARY:BDTA 2020
DESCRIPTION:10th EAI International Conference on Big Data Technologies an
 d Applications
URL:http://www.wikicfp.com/cfp/servlet/event.showcfp?eventid=96570&copyow
 nerid=163036
UID:cfp835887-E@wikicfp.com
END:VEVENT
BEGIN:VEVENT
DTSTAMP:20260423T150558Z
DTSTART;VALUE=DATE:20200701
SUMMARY:BDTA 2020 Deadline
DESCRIPTION:10th EAI International Conference on Big Data Technologies an
 d Applications
URL:http://www.wikicfp.com/cfp/servlet/event.showcfp?eventid=96570&copyow
 nerid=163036
UID:cfp835887-D@wikicfp.com
END:VEVENT
BEGIN:VEVENT
DTSTAMP:20260423T150558Z
DTSTART;VALUE=DATE:20200806
SUMMARY:BDTA 2020 Notification Due
DESCRIPTION:10th EAI International Conference on Big Data Technologies an
 d Applications
URL:http://www.wikicfp.com/cfp/servlet/event.showcfp?eventid=96570&copyow
 nerid=163036
UID:cfp835887-N@wikicfp.com
END:VEVENT
BEGIN:VEVENT
DTSTAMP:20260423T150558Z
DTSTART;VALUE=DATE:20200906
SUMMARY:BDTA 2020 Final Version Due
DESCRIPTION:10th EAI International Conference on Big Data Technologies an
 d Applications
URL:http://www.wikicfp.com/cfp/servlet/event.showcfp?eventid=96570&copyow
 nerid=163036
UID:cfp835887-N@wikicfp.com
END:VEVENT
BEGIN:VEVENT
DTSTAMP:20260423T150558Z
DTSTART;VALUE=DATE:20201016
DTEND;VALUE=DATE:20201020
SUMMARY:SCML 2020
DESCRIPTION:2020 International Conference on Soft Computing and Machine L
 earning
URL:http://www.wikicfp.com/cfp/servlet/event.showcfp?eventid=100286&copyo
 wnerid=163036
UID:cfp835877-E@wikicfp.com
END:VEVENT
BEGIN:VEVENT
DTSTAMP:20260423T150558Z
DTSTART;VALUE=DATE:20200701
SUMMARY:SCML 2020 Deadline
DESCRIPTION:2020 International Conference on Soft Computing and Machine L
 earning
URL:http://www.wikicfp.com/cfp/servlet/event.showcfp?eventid=100286&copyo
 wnerid=163036
UID:cfp835877-D@wikicfp.com
END:VEVENT
BEGIN:VEVENT
DTSTAMP:20260423T150558Z
DTSTART;VALUE=DATE:20200810
SUMMARY:SCML 2020 Notification Due
DESCRIPTION:2020 International Conference on Soft Computing and Machine L
 earning
URL:http://www.wikicfp.com/cfp/servlet/event.showcfp?eventid=100286&copyo
 wnerid=163036
UID:cfp835877-N@wikicfp.com
END:VEVENT
BEGIN:VEVENT
DTSTAMP:20260423T150558Z
DTSTART;VALUE=DATE:20200906
SUMMARY:SCML 2020 Final Version Due
DESCRIPTION:2020 International Conference on Soft Computing and Machine L
 earning
URL:http://www.wikicfp.com/cfp/servlet/event.showcfp?eventid=100286&copyo
 wnerid=163036
UID:cfp835877-N@wikicfp.com
END:VEVENT
BEGIN:VEVENT
DTSTAMP:20260423T150558Z
DTSTART;VALUE=DATE:20200807
DTEND;VALUE=DATE:20200810
SUMMARY:SCOPUS-AIAAT 2020
DESCRIPTION:4th International Conference on Artificial Intelligence Appli
 cations and Technologies (AIAAT 2020)
URL:http://www.wikicfp.com/cfp/servlet/event.showcfp?eventid=95255&copyow
 nerid=163036
UID:cfp835872-E@wikicfp.com
END:VEVENT
BEGIN:VEVENT
DTSTAMP:20260423T150558Z
DTSTART;VALUE=DATE:20200705
SUMMARY:SCOPUS-AIAAT 2020 Deadline
DESCRIPTION:4th International Conference on Artificial Intelligence Appli
 cations and Technologies (AIAAT 2020)
URL:http://www.wikicfp.com/cfp/servlet/event.showcfp?eventid=95255&copyow
 nerid=163036
UID:cfp835872-D@wikicfp.com
END:VEVENT
BEGIN:VEVENT
DTSTAMP:20260423T150558Z
DTSTART;VALUE=DATE:20200724
DTEND;VALUE=DATE:20200727
SUMMARY:ACM-DMBD 2020-Ei/Scopus 2020
DESCRIPTION:2020 3rd International Conference on Data Mining and Big Data
  (DMBD 2020)
URL:http://www.wikicfp.com/cfp/servlet/event.showcfp?eventid=75287&copyow
 nerid=163036
UID:cfp835885-E@wikicfp.com
END:VEVENT
BEGIN:VEVENT
DTSTAMP:20260423T150558Z
DTSTART;VALUE=DATE:20200724
SUMMARY:ACM-DMBD 2020-Ei/Scopus 2020 Deadline
DESCRIPTION:2020 3rd International Conference on Data Mining and Big Data
  (DMBD 2020)
URL:http://www.wikicfp.com/cfp/servlet/event.showcfp?eventid=75287&copyow
 nerid=163036
UID:cfp835885-D@wikicfp.com
END:VEVENT
BEGIN:VEVENT
DTSTAMP:20260423T150558Z
DTSTART;VALUE=DATE:20200918
DTEND;VALUE=DATE:20200921
SUMMARY:ACM--ICBDT--EI\, Scopus 2020
DESCRIPTION:ACM--2020 3rd International Conference on Big Data Technologi
 es (ICBDT 2020)--Scopus\, EI Compendex
URL:http://www.wikicfp.com/cfp/servlet/event.showcfp?eventid=97674&copyow
 nerid=163036
UID:cfp835886-E@wikicfp.com
END:VEVENT
BEGIN:VEVENT
DTSTAMP:20260423T150558Z
DTSTART;VALUE=DATE:20200805
SUMMARY:ACM--ICBDT--EI\, Scopus 2020 Deadline
DESCRIPTION:ACM--2020 3rd International Conference on Big Data Technologi
 es (ICBDT 2020)--Scopus\, EI Compendex
URL:http://www.wikicfp.com/cfp/servlet/event.showcfp?eventid=97674&copyow
 nerid=163036
UID:cfp835886-D@wikicfp.com
END:VEVENT
BEGIN:VEVENT
DTSTAMP:20260423T150558Z
DTSTART;VALUE=DATE:20200918
DTEND;VALUE=DATE:20200921
SUMMARY:MLMI--ACM\, Ei\, Scopus 2020
DESCRIPTION:ACM--2020 The 3rd International Conference on Machine Learnin
 g and Machine Intelligence (MLMI 2020)--Ei Compendex\, Scopus
URL:http://www.wikicfp.com/cfp/servlet/event.showcfp?eventid=100467&copyo
 wnerid=163036
UID:cfp835868-E@wikicfp.com
END:VEVENT
BEGIN:VEVENT
DTSTAMP:20260423T150558Z
DTSTART;VALUE=DATE:20200820
SUMMARY:MLMI--ACM\, Ei\, Scopus 2020 Deadline
DESCRIPTION:ACM--2020 The 3rd International Conference on Machine Learnin
 g and Machine Intelligence (MLMI 2020)--Ei Compendex\, Scopus
URL:http://www.wikicfp.com/cfp/servlet/event.showcfp?eventid=100467&copyo
 wnerid=163036
UID:cfp835868-D@wikicfp.com
END:VEVENT
BEGIN:VEVENT
DTSTAMP:20260423T150558Z
DTSTART;VALUE=DATE:20201022
DTEND;VALUE=DATE:20201025
SUMMARY:AITC--ACM\, Ei and Scopus 2020
DESCRIPTION:ACM--2020 2nd International Artificial Intelligence Technolog
 y Conference (AITC 2020)--EI Compendex\, Scopus
URL:http://www.wikicfp.com/cfp/servlet/event.showcfp?eventid=99334&copyow
 nerid=163036
UID:cfp835879-E@wikicfp.com
END:VEVENT
BEGIN:VEVENT
DTSTAMP:20260423T150558Z
DTSTART;VALUE=DATE:20200920
SUMMARY:AITC--ACM\, Ei and Scopus 2020 Deadline
DESCRIPTION:ACM--2020 2nd International Artificial Intelligence Technolog
 y Conference (AITC 2020)--EI Compendex\, Scopus
URL:http://www.wikicfp.com/cfp/servlet/event.showcfp?eventid=99334&copyow
 nerid=163036
UID:cfp835879-D@wikicfp.com
END:VEVENT
BEGIN:VEVENT
DTSTAMP:20260423T150558Z
DTSTART;VALUE=DATE:20201113
DTEND;VALUE=DATE:20201116
SUMMARY:BDML--Ei and Scopus 2020
DESCRIPTION:2020 3rd International Conference on Big Data and Machine Lea
 rning (BDML 2020)--Ei Compendex\, Scopus
URL:http://www.wikicfp.com/cfp/servlet/event.showcfp?eventid=101755&copyo
 wnerid=163036
UID:cfp835874-E@wikicfp.com
END:VEVENT
BEGIN:VEVENT
DTSTAMP:20260423T150558Z
DTSTART;VALUE=DATE:20201009
SUMMARY:BDML--Ei and Scopus 2020 Deadline
DESCRIPTION:2020 3rd International Conference on Big Data and Machine Lea
 rning (BDML 2020)--Ei Compendex\, Scopus
URL:http://www.wikicfp.com/cfp/servlet/event.showcfp?eventid=101755&copyo
 wnerid=163036
UID:cfp835874-D@wikicfp.com
END:VEVENT
BEGIN:VEVENT
DTSTAMP:20260423T150558Z
DTSTART;VALUE=DATE:20201113
DTEND;VALUE=DATE:20201116
SUMMARY:IEEE CAIT--Ei Compendex\, Scopus 2020
DESCRIPTION:2020 IEEE International Conference on Artificial Intelligence
  Technology (CAIT 2020)--Ei Compendex\, Scopus
URL:http://www.wikicfp.com/cfp/servlet/event.showcfp?eventid=92995&copyow
 nerid=163036
UID:cfp835881-E@wikicfp.com
END:VEVENT
BEGIN:VEVENT
DTSTAMP:20260423T150558Z
DTSTART;VALUE=DATE:20201012
SUMMARY:IEEE CAIT--Ei Compendex\, Scopus 2020 Deadline
DESCRIPTION:2020 IEEE International Conference on Artificial Intelligence
  Technology (CAIT 2020)--Ei Compendex\, Scopus
URL:http://www.wikicfp.com/cfp/servlet/event.showcfp?eventid=92995&copyow
 nerid=163036
UID:cfp835881-D@wikicfp.com
END:VEVENT
BEGIN:VEVENT
DTSTAMP:20260423T150558Z
DTSTART;VALUE=DATE:20201126
DTEND;VALUE=DATE:20201130
SUMMARY:BDAI 2020
DESCRIPTION:2020 International Conference on Industrial Applications of B
 ig Data and Artificial Intelligence (BDAI 2020)
URL:http://www.wikicfp.com/cfp/servlet/event.showcfp?eventid=96796&copyow
 nerid=163036
UID:cfp835870-E@wikicfp.com
END:VEVENT
BEGIN:VEVENT
DTSTAMP:20260423T150558Z
DTSTART;VALUE=DATE:20201025
SUMMARY:BDAI 2020 Deadline
DESCRIPTION:2020 International Conference on Industrial Applications of B
 ig Data and Artificial Intelligence (BDAI 2020)
URL:http://www.wikicfp.com/cfp/servlet/event.showcfp?eventid=96796&copyow
 nerid=163036
UID:cfp835870-D@wikicfp.com
END:VEVENT
END:VCALENDAR
