BEGIN:VCALENDAR
PRODID:-//WikiCFP//xiajingjing 1.0//EN
VERSION:2.0
CALSCALE:GREGORIAN
BEGIN:VEVENT
DTSTAMP:20260422T185641Z
DTSTART;VALUE=DATE:20200614
DTEND;VALUE=DATE:20200617
SUMMARY:ACM--ICAII--Ei Compendex\, Scopus 2020
DESCRIPTION:ACM--2020 International Conference on Artificial Intelligence
  Innovation (ICAII 2020)--Ei Compendex\, Scopus
URL:http://www.wikicfp.com/cfp/servlet/event.showcfp?eventid=96105&copyow
 nerid=162557
UID:cfp832670-E@wikicfp.com
END:VEVENT
BEGIN:VEVENT
DTSTAMP:20260422T185641Z
DTSTART;VALUE=DATE:20200420
SUMMARY:ACM--ICAII--Ei Compendex\, Scopus 2020 Deadline
DESCRIPTION:ACM--2020 International Conference on Artificial Intelligence
  Innovation (ICAII 2020)--Ei Compendex\, Scopus
URL:http://www.wikicfp.com/cfp/servlet/event.showcfp?eventid=96105&copyow
 nerid=162557
UID:cfp832670-D@wikicfp.com
END:VEVENT
BEGIN:VEVENT
DTSTAMP:20260422T185641Z
DTSTART;VALUE=DATE:20200424
DTEND;VALUE=DATE:20200427
SUMMARY:ACM-CNIOT 2020-Ei/Scopus 2020 2020
DESCRIPTION:2020 International Conference on Computing\, Networks and Int
 ernet of Things (CNIOT 2020) 
URL:http://www.wikicfp.com/cfp/servlet/event.showcfp?eventid=88299&copyow
 nerid=162557
UID:cfp832672-E@wikicfp.com
END:VEVENT
BEGIN:VEVENT
DTSTAMP:20260422T185641Z
DTSTART;VALUE=DATE:20200430
SUMMARY:ACM-CNIOT 2020-Ei/Scopus 2020 2020 Deadline
DESCRIPTION:2020 International Conference on Computing\, Networks and Int
 ernet of Things (CNIOT 2020) 
URL:http://www.wikicfp.com/cfp/servlet/event.showcfp?eventid=88299&copyow
 nerid=162557
UID:cfp832672-D@wikicfp.com
END:VEVENT
BEGIN:VEVENT
DTSTAMP:20260422T185641Z
DTSTART;VALUE=DATE:20200627
DTEND;VALUE=DATE:20200630
SUMMARY:HP3C--ACM\, Ei and Scopus 2020
DESCRIPTION:ACM--2020 4th International Conference on High Performance Co
 mpilation\, Computing and Communications (HP3C 2020)--Scopus and Ei Comp
 endex
URL:http://www.wikicfp.com/cfp/servlet/event.showcfp?eventid=90435&copyow
 nerid=162557
UID:cfp832152-E@wikicfp.com
END:VEVENT
BEGIN:VEVENT
DTSTAMP:20260422T185641Z
DTSTART;VALUE=DATE:20200515
SUMMARY:HP3C--ACM\, Ei and Scopus 2020 Deadline
DESCRIPTION:ACM--2020 4th International Conference on High Performance Co
 mpilation\, Computing and Communications (HP3C 2020)--Scopus and Ei Comp
 endex
URL:http://www.wikicfp.com/cfp/servlet/event.showcfp?eventid=90435&copyow
 nerid=162557
UID:cfp832152-D@wikicfp.com
END:VEVENT
BEGIN:VEVENT
DTSTAMP:20260422T185641Z
DTSTART;VALUE=DATE:20200627
DTEND;VALUE=DATE:20200630
SUMMARY:WSAI--IEEE\, Ei and Scopus 2020
DESCRIPTION:IEEE--2020 the 2nd World Symposium on Artificial Intelligence
  (WSAI 2020)--Scopus & Ei Compendex
URL:http://www.wikicfp.com/cfp/servlet/event.showcfp?eventid=90437&copyow
 nerid=162557
UID:cfp832673-E@wikicfp.com
END:VEVENT
BEGIN:VEVENT
DTSTAMP:20260422T185641Z
DTSTART;VALUE=DATE:20200515
SUMMARY:WSAI--IEEE\, Ei and Scopus 2020 Deadline
DESCRIPTION:IEEE--2020 the 2nd World Symposium on Artificial Intelligence
  (WSAI 2020)--Scopus & Ei Compendex
URL:http://www.wikicfp.com/cfp/servlet/event.showcfp?eventid=90437&copyow
 nerid=162557
UID:cfp832673-D@wikicfp.com
END:VEVENT
BEGIN:VEVENT
DTSTAMP:20260422T185641Z
DTSTART;VALUE=DATE:20200814
DTEND;VALUE=DATE:20200817
SUMMARY:CVIT--EI\, Scopus 2020
DESCRIPTION:2020 International Conference on Computer Vision and Informat
 ion Technology (CVIT 2020)--EI Compendex\, Scopus
URL:http://www.wikicfp.com/cfp/servlet/event.showcfp?eventid=98114&copyow
 nerid=162557
UID:cfp832671-E@wikicfp.com
END:VEVENT
BEGIN:VEVENT
DTSTAMP:20260422T185641Z
DTSTART;VALUE=DATE:20200714
SUMMARY:CVIT--EI\, Scopus 2020 Deadline
DESCRIPTION:2020 International Conference on Computer Vision and Informat
 ion Technology (CVIT 2020)--EI Compendex\, Scopus
URL:http://www.wikicfp.com/cfp/servlet/event.showcfp?eventid=98114&copyow
 nerid=162557
UID:cfp832671-D@wikicfp.com
END:VEVENT
BEGIN:VEVENT
DTSTAMP:20260422T185641Z
DTSTART;VALUE=DATE:20200918
DTEND;VALUE=DATE:20200921
SUMMARY:ICACTE--Ei\, Scopus 2020
DESCRIPTION:2020 The 13th International Conference on Advanced Computer T
 heory and Engineering (ICACTE 2020)--Ei Compendex\, Scopus
URL:http://www.wikicfp.com/cfp/servlet/event.showcfp?eventid=101061&copyo
 wnerid=162557
UID:cfp832674-E@wikicfp.com
END:VEVENT
BEGIN:VEVENT
DTSTAMP:20260422T185641Z
DTSTART;VALUE=DATE:20200820
SUMMARY:ICACTE--Ei\, Scopus 2020 Deadline
DESCRIPTION:2020 The 13th International Conference on Advanced Computer T
 heory and Engineering (ICACTE 2020)--Ei Compendex\, Scopus
URL:http://www.wikicfp.com/cfp/servlet/event.showcfp?eventid=101061&copyo
 wnerid=162557
UID:cfp832674-D@wikicfp.com
END:VEVENT
END:VCALENDAR
