BEGIN:VCALENDAR
PRODID:-//WikiCFP//bdavis 1.0//EN
VERSION:2.0
CALSCALE:GREGORIAN
BEGIN:VEVENT
DTSTAMP:20260424T124445Z
DTSTART;VALUE=DATE:20201215
DTEND;VALUE=DATE:20201219
SUMMARY:INLG 2020
DESCRIPTION:13th International Conference on Natural Language Generation
URL:http://www.wikicfp.com/cfp/servlet/event.showcfp?eventid=101361&copyo
 wnerid=162429
UID:cfp831269-E@wikicfp.com
END:VEVENT
BEGIN:VEVENT
DTSTAMP:20260424T124445Z
DTSTART;VALUE=DATE:20200830
SUMMARY:INLG 2020 Deadline
DESCRIPTION:13th International Conference on Natural Language Generation
URL:http://www.wikicfp.com/cfp/servlet/event.showcfp?eventid=101361&copyo
 wnerid=162429
UID:cfp831269-D@wikicfp.com
END:VEVENT
BEGIN:VEVENT
DTSTAMP:20260424T124445Z
DTSTART;VALUE=DATE:20200930
SUMMARY:INLG 2020 Notification Due
DESCRIPTION:13th International Conference on Natural Language Generation
URL:http://www.wikicfp.com/cfp/servlet/event.showcfp?eventid=101361&copyo
 wnerid=162429
UID:cfp831269-N@wikicfp.com
END:VEVENT
BEGIN:VEVENT
DTSTAMP:20260424T124445Z
DTSTART;VALUE=DATE:20201030
SUMMARY:INLG 2020 Final Version Due
DESCRIPTION:13th International Conference on Natural Language Generation
URL:http://www.wikicfp.com/cfp/servlet/event.showcfp?eventid=101361&copyo
 wnerid=162429
UID:cfp831269-N@wikicfp.com
END:VEVENT
END:VCALENDAR
