BEGIN:VCALENDAR
PRODID:-//WikiCFP//yuanbox 1.0//EN
VERSION:2.0
CALSCALE:GREGORIAN
BEGIN:VEVENT
DTSTAMP:20260422T035622Z
DTSTART;VALUE=DATE:20200831
DTEND;VALUE=DATE:20200905
SUMMARY:VLDB 2020
DESCRIPTION:Very Large Data Bases
URL:http://www.wikicfp.com/cfp/servlet/event.showcfp?eventid=96347&copyow
 nerid=162402
UID:cfp831176-E@wikicfp.com
END:VEVENT
BEGIN:VEVENT
DTSTAMP:20260422T035622Z
DTSTART;VALUE=DATE:20200912
DTEND;VALUE=DATE:20200919
SUMMARY:KR 2020
DESCRIPTION:International Conference on the Principles of Knowledge Repre
 sentation and Reasoning
URL:http://www.wikicfp.com/cfp/servlet/event.showcfp?eventid=95846&copyow
 nerid=162402
UID:cfp831181-E@wikicfp.com
END:VEVENT
BEGIN:VEVENT
DTSTAMP:20260422T035622Z
DTSTART;VALUE=DATE:20190304
SUMMARY:KR 2020 Abstract Due
DESCRIPTION:International Conference on the Principles of Knowledge Repre
 sentation and Reasoning
URL:http://www.wikicfp.com/cfp/servlet/event.showcfp?eventid=95846&copyow
 nerid=162402
UID:cfp831181-A@wikicfp.com
END:VEVENT
BEGIN:VEVENT
DTSTAMP:20260422T035622Z
DTSTART;VALUE=DATE:20190311
SUMMARY:KR 2020 Deadline
DESCRIPTION:International Conference on the Principles of Knowledge Repre
 sentation and Reasoning
URL:http://www.wikicfp.com/cfp/servlet/event.showcfp?eventid=95846&copyow
 nerid=162402
UID:cfp831181-D@wikicfp.com
END:VEVENT
BEGIN:VEVENT
DTSTAMP:20260422T035622Z
DTSTART;VALUE=DATE:20200504
SUMMARY:KR 2020 Notification Due
DESCRIPTION:International Conference on the Principles of Knowledge Repre
 sentation and Reasoning
URL:http://www.wikicfp.com/cfp/servlet/event.showcfp?eventid=95846&copyow
 nerid=162402
UID:cfp831181-N@wikicfp.com
END:VEVENT
BEGIN:VEVENT
DTSTAMP:20260422T035622Z
DTSTART;VALUE=DATE:20200624
SUMMARY:KR 2020 Final Version Due
DESCRIPTION:International Conference on the Principles of Knowledge Repre
 sentation and Reasoning
URL:http://www.wikicfp.com/cfp/servlet/event.showcfp?eventid=95846&copyow
 nerid=162402
UID:cfp831181-N@wikicfp.com
END:VEVENT
BEGIN:VEVENT
DTSTAMP:20260422T035622Z
DTSTART;VALUE=DATE:20200420
DTEND;VALUE=DATE:20200425
SUMMARY:ICDE 2020
DESCRIPTION:International Conference on Data Engineering
URL:http://www.wikicfp.com/cfp/servlet/event.showcfp?eventid=91361&copyow
 nerid=162402
UID:cfp831174-E@wikicfp.com
END:VEVENT
BEGIN:VEVENT
DTSTAMP:20260422T035622Z
DTSTART;VALUE=DATE:20190608
SUMMARY:ICDE 2020 Abstract Due
DESCRIPTION:International Conference on Data Engineering
URL:http://www.wikicfp.com/cfp/servlet/event.showcfp?eventid=91361&copyow
 nerid=162402
UID:cfp831174-A@wikicfp.com
END:VEVENT
BEGIN:VEVENT
DTSTAMP:20260422T035622Z
DTSTART;VALUE=DATE:20190615
SUMMARY:ICDE 2020 Deadline
DESCRIPTION:International Conference on Data Engineering
URL:http://www.wikicfp.com/cfp/servlet/event.showcfp?eventid=91361&copyow
 nerid=162402
UID:cfp831174-D@wikicfp.com
END:VEVENT
BEGIN:VEVENT
DTSTAMP:20260422T035622Z
DTSTART;VALUE=DATE:20200614
DTEND;VALUE=DATE:20200620
SUMMARY:SIGMOD 2020
DESCRIPTION:International Conference on Management of Data
URL:http://www.wikicfp.com/cfp/servlet/event.showcfp?eventid=90510&copyow
 nerid=162402
UID:cfp831172-E@wikicfp.com
END:VEVENT
BEGIN:VEVENT
DTSTAMP:20260422T035622Z
DTSTART;VALUE=DATE:20190709
SUMMARY:SIGMOD 2020 Abstract Due
DESCRIPTION:International Conference on Management of Data
URL:http://www.wikicfp.com/cfp/servlet/event.showcfp?eventid=90510&copyow
 nerid=162402
UID:cfp831172-A@wikicfp.com
END:VEVENT
BEGIN:VEVENT
DTSTAMP:20260422T035622Z
DTSTART;VALUE=DATE:20190716
SUMMARY:SIGMOD 2020 Deadline
DESCRIPTION:International Conference on Management of Data
URL:http://www.wikicfp.com/cfp/servlet/event.showcfp?eventid=90510&copyow
 nerid=162402
UID:cfp831172-D@wikicfp.com
END:VEVENT
BEGIN:VEVENT
DTSTAMP:20260422T035622Z
DTSTART;VALUE=DATE:20191003
SUMMARY:SIGMOD 2020 Notification Due
DESCRIPTION:International Conference on Management of Data
URL:http://www.wikicfp.com/cfp/servlet/event.showcfp?eventid=90510&copyow
 nerid=162402
UID:cfp831172-N@wikicfp.com
END:VEVENT
BEGIN:VEVENT
DTSTAMP:20260422T035622Z
DTSTART;VALUE=DATE:20191104
SUMMARY:SIGMOD 2020 Final Version Due
DESCRIPTION:International Conference on Management of Data
URL:http://www.wikicfp.com/cfp/servlet/event.showcfp?eventid=90510&copyow
 nerid=162402
UID:cfp831172-N@wikicfp.com
END:VEVENT
BEGIN:VEVENT
DTSTAMP:20260422T035622Z
DTSTART;VALUE=DATE:20200427
DTEND;VALUE=DATE:20200501
SUMMARY:INFOCOM 2020
DESCRIPTION:International Conference on Computer Communications
URL:http://www.wikicfp.com/cfp/servlet/event.showcfp?eventid=85935&copyow
 nerid=162402
UID:cfp831183-E@wikicfp.com
END:VEVENT
BEGIN:VEVENT
DTSTAMP:20260422T035622Z
DTSTART;VALUE=DATE:20190724
SUMMARY:INFOCOM 2020 Abstract Due
DESCRIPTION:International Conference on Computer Communications
URL:http://www.wikicfp.com/cfp/servlet/event.showcfp?eventid=85935&copyow
 nerid=162402
UID:cfp831183-A@wikicfp.com
END:VEVENT
BEGIN:VEVENT
DTSTAMP:20260422T035622Z
DTSTART;VALUE=DATE:20190731
SUMMARY:INFOCOM 2020 Deadline
DESCRIPTION:International Conference on Computer Communications
URL:http://www.wikicfp.com/cfp/servlet/event.showcfp?eventid=85935&copyow
 nerid=162402
UID:cfp831183-D@wikicfp.com
END:VEVENT
BEGIN:VEVENT
DTSTAMP:20260422T035622Z
DTSTART;VALUE=DATE:20191128
SUMMARY:INFOCOM 2020 Notification Due
DESCRIPTION:International Conference on Computer Communications
URL:http://www.wikicfp.com/cfp/servlet/event.showcfp?eventid=85935&copyow
 nerid=162402
UID:cfp831183-N@wikicfp.com
END:VEVENT
BEGIN:VEVENT
DTSTAMP:20260422T035622Z
DTSTART;VALUE=DATE:20200110
SUMMARY:INFOCOM 2020 Final Version Due
DESCRIPTION:International Conference on Computer Communications
URL:http://www.wikicfp.com/cfp/servlet/event.showcfp?eventid=85935&copyow
 nerid=162402
UID:cfp831183-N@wikicfp.com
END:VEVENT
BEGIN:VEVENT
DTSTAMP:20260422T035622Z
DTSTART;VALUE=DATE:20200205
DTEND;VALUE=DATE:20200210
SUMMARY:WSDM 2020
DESCRIPTION:ACM International Conference on Web Search and Data Mining
URL:http://www.wikicfp.com/cfp/servlet/event.showcfp?eventid=89207&copyow
 nerid=162402
UID:cfp831164-E@wikicfp.com
END:VEVENT
BEGIN:VEVENT
DTSTAMP:20260422T035622Z
DTSTART;VALUE=DATE:20190812
SUMMARY:WSDM 2020 Abstract Due
DESCRIPTION:ACM International Conference on Web Search and Data Mining
URL:http://www.wikicfp.com/cfp/servlet/event.showcfp?eventid=89207&copyow
 nerid=162402
UID:cfp831164-A@wikicfp.com
END:VEVENT
BEGIN:VEVENT
DTSTAMP:20260422T035622Z
DTSTART;VALUE=DATE:20190816
SUMMARY:WSDM 2020 Deadline
DESCRIPTION:ACM International Conference on Web Search and Data Mining
URL:http://www.wikicfp.com/cfp/servlet/event.showcfp?eventid=89207&copyow
 nerid=162402
UID:cfp831164-D@wikicfp.com
END:VEVENT
BEGIN:VEVENT
DTSTAMP:20260422T035622Z
DTSTART;VALUE=DATE:20191024
SUMMARY:WSDM 2020 Notification Due
DESCRIPTION:ACM International Conference on Web Search and Data Mining
URL:http://www.wikicfp.com/cfp/servlet/event.showcfp?eventid=89207&copyow
 nerid=162402
UID:cfp831164-N@wikicfp.com
END:VEVENT
BEGIN:VEVENT
DTSTAMP:20260422T035622Z
DTSTART;VALUE=DATE:20200207
DTEND;VALUE=DATE:20200213
SUMMARY:AAAI 2020
DESCRIPTION:The Thirty-Fourth AAAI Conference on Artificial Intelligence
URL:http://www.wikicfp.com/cfp/servlet/event.showcfp?eventid=90881&copyow
 nerid=162402
UID:cfp831177-E@wikicfp.com
END:VEVENT
BEGIN:VEVENT
DTSTAMP:20260422T035622Z
DTSTART;VALUE=DATE:20190830
SUMMARY:AAAI 2020 Abstract Due
DESCRIPTION:The Thirty-Fourth AAAI Conference on Artificial Intelligence
URL:http://www.wikicfp.com/cfp/servlet/event.showcfp?eventid=90881&copyow
 nerid=162402
UID:cfp831177-A@wikicfp.com
END:VEVENT
BEGIN:VEVENT
DTSTAMP:20260422T035622Z
DTSTART;VALUE=DATE:20190905
SUMMARY:AAAI 2020 Deadline
DESCRIPTION:The Thirty-Fourth AAAI Conference on Artificial Intelligence
URL:http://www.wikicfp.com/cfp/servlet/event.showcfp?eventid=90881&copyow
 nerid=162402
UID:cfp831177-D@wikicfp.com
END:VEVENT
BEGIN:VEVENT
DTSTAMP:20260422T035622Z
DTSTART;VALUE=DATE:20191110
SUMMARY:AAAI 2020 Notification Due
DESCRIPTION:The Thirty-Fourth AAAI Conference on Artificial Intelligence
URL:http://www.wikicfp.com/cfp/servlet/event.showcfp?eventid=90881&copyow
 nerid=162402
UID:cfp831177-N@wikicfp.com
END:VEVENT
BEGIN:VEVENT
DTSTAMP:20260422T035622Z
DTSTART;VALUE=DATE:20191121
SUMMARY:AAAI 2020 Final Version Due
DESCRIPTION:The Thirty-Fourth AAAI Conference on Artificial Intelligence
URL:http://www.wikicfp.com/cfp/servlet/event.showcfp?eventid=90881&copyow
 nerid=162402
UID:cfp831177-N@wikicfp.com
END:VEVENT
BEGIN:VEVENT
DTSTAMP:20260422T035622Z
DTSTART;VALUE=DATE:20200330
DTEND;VALUE=DATE:20200403
SUMMARY:EDBT 2020
DESCRIPTION:23rd International Conference on Extending Database Technolog
 y
URL:http://www.wikicfp.com/cfp/servlet/event.showcfp?eventid=91546&copyow
 nerid=162402
UID:cfp831170-E@wikicfp.com
END:VEVENT
BEGIN:VEVENT
DTSTAMP:20260422T035622Z
DTSTART;VALUE=DATE:20191007
SUMMARY:EDBT 2020 Abstract Due
DESCRIPTION:23rd International Conference on Extending Database Technolog
 y
URL:http://www.wikicfp.com/cfp/servlet/event.showcfp?eventid=91546&copyow
 nerid=162402
UID:cfp831170-A@wikicfp.com
END:VEVENT
BEGIN:VEVENT
DTSTAMP:20260422T035622Z
DTSTART;VALUE=DATE:20191011
SUMMARY:EDBT 2020 Deadline
DESCRIPTION:23rd International Conference on Extending Database Technolog
 y
URL:http://www.wikicfp.com/cfp/servlet/event.showcfp?eventid=91546&copyow
 nerid=162402
UID:cfp831170-D@wikicfp.com
END:VEVENT
BEGIN:VEVENT
DTSTAMP:20260422T035622Z
DTSTART;VALUE=DATE:20191122
SUMMARY:EDBT 2020 Notification Due
DESCRIPTION:23rd International Conference on Extending Database Technolog
 y
URL:http://www.wikicfp.com/cfp/servlet/event.showcfp?eventid=91546&copyow
 nerid=162402
UID:cfp831170-N@wikicfp.com
END:VEVENT
BEGIN:VEVENT
DTSTAMP:20260422T035622Z
DTSTART;VALUE=DATE:20200124
SUMMARY:EDBT 2020 Final Version Due
DESCRIPTION:23rd International Conference on Extending Database Technolog
 y
URL:http://www.wikicfp.com/cfp/servlet/event.showcfp?eventid=91546&copyow
 nerid=162402
UID:cfp831170-N@wikicfp.com
END:VEVENT
BEGIN:VEVENT
DTSTAMP:20260422T035622Z
DTSTART;VALUE=DATE:20200507
DTEND;VALUE=DATE:20200510
SUMMARY:SDM 2020
DESCRIPTION:SIAM International Conference on Data Mining
URL:http://www.wikicfp.com/cfp/servlet/event.showcfp?eventid=93183&copyow
 nerid=162402
UID:cfp831171-E@wikicfp.com
END:VEVENT
BEGIN:VEVENT
DTSTAMP:20260422T035622Z
DTSTART;VALUE=DATE:20191004
SUMMARY:SDM 2020 Abstract Due
DESCRIPTION:SIAM International Conference on Data Mining
URL:http://www.wikicfp.com/cfp/servlet/event.showcfp?eventid=93183&copyow
 nerid=162402
UID:cfp831171-A@wikicfp.com
END:VEVENT
BEGIN:VEVENT
DTSTAMP:20260422T035622Z
DTSTART;VALUE=DATE:20191011
SUMMARY:SDM 2020 Deadline
DESCRIPTION:SIAM International Conference on Data Mining
URL:http://www.wikicfp.com/cfp/servlet/event.showcfp?eventid=93183&copyow
 nerid=162402
UID:cfp831171-D@wikicfp.com
END:VEVENT
BEGIN:VEVENT
DTSTAMP:20260422T035622Z
DTSTART;VALUE=DATE:20200223
DTEND;VALUE=DATE:20200228
SUMMARY:ICDT 2020
DESCRIPTION:The Fifteenth International Conference on Digital Telecommuni
 cations
URL:http://www.wikicfp.com/cfp/servlet/event.showcfp?eventid=91620&copyow
 nerid=162402
UID:cfp831169-E@wikicfp.com
END:VEVENT
BEGIN:VEVENT
DTSTAMP:20260422T035622Z
DTSTART;VALUE=DATE:20191102
SUMMARY:ICDT 2020 Deadline
DESCRIPTION:The Fifteenth International Conference on Digital Telecommuni
 cations
URL:http://www.wikicfp.com/cfp/servlet/event.showcfp?eventid=91620&copyow
 nerid=162402
UID:cfp831169-D@wikicfp.com
END:VEVENT
BEGIN:VEVENT
DTSTAMP:20260422T035622Z
DTSTART;VALUE=DATE:20191212
SUMMARY:ICDT 2020 Notification Due
DESCRIPTION:The Fifteenth International Conference on Digital Telecommuni
 cations
URL:http://www.wikicfp.com/cfp/servlet/event.showcfp?eventid=91620&copyow
 nerid=162402
UID:cfp831169-N@wikicfp.com
END:VEVENT
BEGIN:VEVENT
DTSTAMP:20260422T035622Z
DTSTART;VALUE=DATE:20200109
SUMMARY:ICDT 2020 Final Version Due
DESCRIPTION:The Fifteenth International Conference on Digital Telecommuni
 cations
URL:http://www.wikicfp.com/cfp/servlet/event.showcfp?eventid=91620&copyow
 nerid=162402
UID:cfp831169-N@wikicfp.com
END:VEVENT
BEGIN:VEVENT
DTSTAMP:20260422T035622Z
DTSTART;VALUE=DATE:20200608
DTEND;VALUE=DATE:20200613
SUMMARY:ECAI 2020
DESCRIPTION:24th European Conference on Artificial Intelligence
URL:http://www.wikicfp.com/cfp/servlet/event.showcfp?eventid=87927&copyow
 nerid=162402
UID:cfp831180-E@wikicfp.com
END:VEVENT
BEGIN:VEVENT
DTSTAMP:20260422T035622Z
DTSTART;VALUE=DATE:20201115
SUMMARY:ECAI 2020 Abstract Due
DESCRIPTION:24th European Conference on Artificial Intelligence
URL:http://www.wikicfp.com/cfp/servlet/event.showcfp?eventid=87927&copyow
 nerid=162402
UID:cfp831180-A@wikicfp.com
END:VEVENT
BEGIN:VEVENT
DTSTAMP:20260422T035622Z
DTSTART;VALUE=DATE:20191119
SUMMARY:ECAI 2020 Deadline
DESCRIPTION:24th European Conference on Artificial Intelligence
URL:http://www.wikicfp.com/cfp/servlet/event.showcfp?eventid=87927&copyow
 nerid=162402
UID:cfp831180-D@wikicfp.com
END:VEVENT
BEGIN:VEVENT
DTSTAMP:20260422T035622Z
DTSTART;VALUE=DATE:20200115
SUMMARY:ECAI 2020 Notification Due
DESCRIPTION:24th European Conference on Artificial Intelligence
URL:http://www.wikicfp.com/cfp/servlet/event.showcfp?eventid=87927&copyow
 nerid=162402
UID:cfp831180-N@wikicfp.com
END:VEVENT
BEGIN:VEVENT
DTSTAMP:20260422T035622Z
DTSTART;VALUE=DATE:20200227
SUMMARY:ECAI 2020 Final Version Due
DESCRIPTION:24th European Conference on Artificial Intelligence
URL:http://www.wikicfp.com/cfp/servlet/event.showcfp?eventid=87927&copyow
 nerid=162402
UID:cfp831180-N@wikicfp.com
END:VEVENT
BEGIN:VEVENT
DTSTAMP:20260422T035622Z
DTSTART;VALUE=DATE:20200521
DTEND;VALUE=DATE:20200525
SUMMARY:DASFAA 2020
DESCRIPTION:Database Systems for Advanced Applications
URL:http://www.wikicfp.com/cfp/servlet/event.showcfp?eventid=92388&copyow
 nerid=162402
UID:cfp831167-E@wikicfp.com
END:VEVENT
BEGIN:VEVENT
DTSTAMP:20260422T035622Z
DTSTART;VALUE=DATE:20191213
SUMMARY:DASFAA 2020 Abstract Due
DESCRIPTION:Database Systems for Advanced Applications
URL:http://www.wikicfp.com/cfp/servlet/event.showcfp?eventid=92388&copyow
 nerid=162402
UID:cfp831167-A@wikicfp.com
END:VEVENT
BEGIN:VEVENT
DTSTAMP:20260422T035622Z
DTSTART;VALUE=DATE:20191220
SUMMARY:DASFAA 2020 Deadline
DESCRIPTION:Database Systems for Advanced Applications
URL:http://www.wikicfp.com/cfp/servlet/event.showcfp?eventid=92388&copyow
 nerid=162402
UID:cfp831167-D@wikicfp.com
END:VEVENT
BEGIN:VEVENT
DTSTAMP:20260422T035622Z
DTSTART;VALUE=DATE:20200214
SUMMARY:DASFAA 2020 Notification Due
DESCRIPTION:Database Systems for Advanced Applications
URL:http://www.wikicfp.com/cfp/servlet/event.showcfp?eventid=92388&copyow
 nerid=162402
UID:cfp831167-N@wikicfp.com
END:VEVENT
BEGIN:VEVENT
DTSTAMP:20260422T035622Z
DTSTART;VALUE=DATE:20200228
SUMMARY:DASFAA 2020 Final Version Due
DESCRIPTION:Database Systems for Advanced Applications
URL:http://www.wikicfp.com/cfp/servlet/event.showcfp?eventid=92388&copyow
 nerid=162402
UID:cfp831167-N@wikicfp.com
END:VEVENT
BEGIN:VEVENT
DTSTAMP:20260422T035622Z
DTSTART;VALUE=DATE:20200614
DTEND;VALUE=DATE:20200620
SUMMARY:PODS 2020
DESCRIPTION:The Symposium on Principles of Database Systems (PODS): Abstr
 act Deadline in 1 Week
URL:http://www.wikicfp.com/cfp/servlet/event.showcfp?eventid=88863&copyow
 nerid=162402
UID:cfp831165-E@wikicfp.com
END:VEVENT
BEGIN:VEVENT
DTSTAMP:20260422T035622Z
DTSTART;VALUE=DATE:20191215
SUMMARY:PODS 2020 Abstract Due
DESCRIPTION:The Symposium on Principles of Database Systems (PODS): Abstr
 act Deadline in 1 Week
URL:http://www.wikicfp.com/cfp/servlet/event.showcfp?eventid=88863&copyow
 nerid=162402
UID:cfp831165-A@wikicfp.com
END:VEVENT
BEGIN:VEVENT
DTSTAMP:20260422T035622Z
DTSTART;VALUE=DATE:20191222
SUMMARY:PODS 2020 Deadline
DESCRIPTION:The Symposium on Principles of Database Systems (PODS): Abstr
 act Deadline in 1 Week
URL:http://www.wikicfp.com/cfp/servlet/event.showcfp?eventid=88863&copyow
 nerid=162402
UID:cfp831165-D@wikicfp.com
END:VEVENT
BEGIN:VEVENT
DTSTAMP:20260422T035622Z
DTSTART;VALUE=DATE:20200309
SUMMARY:PODS 2020 Notification Due
DESCRIPTION:The Symposium on Principles of Database Systems (PODS): Abstr
 act Deadline in 1 Week
URL:http://www.wikicfp.com/cfp/servlet/event.showcfp?eventid=88863&copyow
 nerid=162402
UID:cfp831165-N@wikicfp.com
END:VEVENT
BEGIN:VEVENT
DTSTAMP:20260422T035622Z
DTSTART;VALUE=DATE:20200309
SUMMARY:PODS 2020 Final Version Due
DESCRIPTION:The Symposium on Principles of Database Systems (PODS): Abstr
 act Deadline in 1 Week
URL:http://www.wikicfp.com/cfp/servlet/event.showcfp?eventid=88863&copyow
 nerid=162402
UID:cfp831165-N@wikicfp.com
END:VEVENT
BEGIN:VEVENT
DTSTAMP:20260422T035622Z
DTSTART;VALUE=DATE:20200711
DTEND;VALUE=DATE:20200718
SUMMARY:IJCAI 2020
DESCRIPTION:International Joint Conference on Artificial Intelligence
URL:http://www.wikicfp.com/cfp/servlet/event.showcfp?eventid=94392&copyow
 nerid=162402
UID:cfp831178-E@wikicfp.com
END:VEVENT
BEGIN:VEVENT
DTSTAMP:20260422T035622Z
DTSTART;VALUE=DATE:20200115
SUMMARY:IJCAI 2020 Abstract Due
DESCRIPTION:International Joint Conference on Artificial Intelligence
URL:http://www.wikicfp.com/cfp/servlet/event.showcfp?eventid=94392&copyow
 nerid=162402
UID:cfp831178-A@wikicfp.com
END:VEVENT
BEGIN:VEVENT
DTSTAMP:20260422T035622Z
DTSTART;VALUE=DATE:20200121
SUMMARY:IJCAI 2020 Deadline
DESCRIPTION:International Joint Conference on Artificial Intelligence
URL:http://www.wikicfp.com/cfp/servlet/event.showcfp?eventid=94392&copyow
 nerid=162402
UID:cfp831178-D@wikicfp.com
END:VEVENT
BEGIN:VEVENT
DTSTAMP:20260422T035622Z
DTSTART;VALUE=DATE:20200419
SUMMARY:IJCAI 2020 Notification Due
DESCRIPTION:International Joint Conference on Artificial Intelligence
URL:http://www.wikicfp.com/cfp/servlet/event.showcfp?eventid=94392&copyow
 nerid=162402
UID:cfp831178-N@wikicfp.com
END:VEVENT
BEGIN:VEVENT
DTSTAMP:20260422T035622Z
DTSTART;VALUE=DATE:20200725
DTEND;VALUE=DATE:20200731
SUMMARY:SIGIR 2020
DESCRIPTION:International ACM SIGIR Conference on Research and Developmen
 t in Information Retrieval
URL:http://www.wikicfp.com/cfp/servlet/event.showcfp?eventid=95767&copyow
 nerid=162402
UID:cfp831175-E@wikicfp.com
END:VEVENT
BEGIN:VEVENT
DTSTAMP:20260422T035622Z
DTSTART;VALUE=DATE:20200115
SUMMARY:SIGIR 2020 Abstract Due
DESCRIPTION:International ACM SIGIR Conference on Research and Developmen
 t in Information Retrieval
URL:http://www.wikicfp.com/cfp/servlet/event.showcfp?eventid=95767&copyow
 nerid=162402
UID:cfp831175-A@wikicfp.com
END:VEVENT
BEGIN:VEVENT
DTSTAMP:20260422T035622Z
DTSTART;VALUE=DATE:20200122
SUMMARY:SIGIR 2020 Deadline
DESCRIPTION:International ACM SIGIR Conference on Research and Developmen
 t in Information Retrieval
URL:http://www.wikicfp.com/cfp/servlet/event.showcfp?eventid=95767&copyow
 nerid=162402
UID:cfp831175-D@wikicfp.com
END:VEVENT
BEGIN:VEVENT
DTSTAMP:20260422T035622Z
DTSTART;VALUE=DATE:20200422
SUMMARY:SIGIR 2020 Notification Due
DESCRIPTION:International ACM SIGIR Conference on Research and Developmen
 t in Information Retrieval
URL:http://www.wikicfp.com/cfp/servlet/event.showcfp?eventid=95767&copyow
 nerid=162402
UID:cfp831175-N@wikicfp.com
END:VEVENT
BEGIN:VEVENT
DTSTAMP:20260422T035622Z
DTSTART;VALUE=DATE:20200712
DTEND;VALUE=DATE:20200719
SUMMARY:ICML 2020
DESCRIPTION:37th International Conference on Machine Learning
URL:http://www.wikicfp.com/cfp/servlet/event.showcfp?eventid=94187&copyow
 nerid=162402
UID:cfp831179-E@wikicfp.com
END:VEVENT
BEGIN:VEVENT
DTSTAMP:20260422T035622Z
DTSTART;VALUE=DATE:20200130
SUMMARY:ICML 2020 Abstract Due
DESCRIPTION:37th International Conference on Machine Learning
URL:http://www.wikicfp.com/cfp/servlet/event.showcfp?eventid=94187&copyow
 nerid=162402
UID:cfp831179-A@wikicfp.com
END:VEVENT
BEGIN:VEVENT
DTSTAMP:20260422T035622Z
DTSTART;VALUE=DATE:20200206
SUMMARY:ICML 2020 Deadline
DESCRIPTION:37th International Conference on Machine Learning
URL:http://www.wikicfp.com/cfp/servlet/event.showcfp?eventid=94187&copyow
 nerid=162402
UID:cfp831179-D@wikicfp.com
END:VEVENT
BEGIN:VEVENT
DTSTAMP:20260422T035622Z
DTSTART;VALUE=DATE:20200509
SUMMARY:ICML 2020 Notification Due
DESCRIPTION:37th International Conference on Machine Learning
URL:http://www.wikicfp.com/cfp/servlet/event.showcfp?eventid=94187&copyow
 nerid=162402
UID:cfp831179-N@wikicfp.com
END:VEVENT
BEGIN:VEVENT
DTSTAMP:20260422T035622Z
DTSTART;VALUE=DATE:20200822
DTEND;VALUE=DATE:20200828
SUMMARY:KDD 2020
DESCRIPTION:KDD 2020
URL:http://www.wikicfp.com/cfp/servlet/event.showcfp?eventid=95965&copyow
 nerid=162402
UID:cfp831173-E@wikicfp.com
END:VEVENT
BEGIN:VEVENT
DTSTAMP:20260422T035622Z
DTSTART;VALUE=DATE:20200213
SUMMARY:KDD 2020 Deadline
DESCRIPTION:KDD 2020
URL:http://www.wikicfp.com/cfp/servlet/event.showcfp?eventid=95965&copyow
 nerid=162402
UID:cfp831173-D@wikicfp.com
END:VEVENT
BEGIN:VEVENT
DTSTAMP:20260422T035622Z
DTSTART;VALUE=DATE:20200515
SUMMARY:KDD 2020 Notification Due
DESCRIPTION:KDD 2020
URL:http://www.wikicfp.com/cfp/servlet/event.showcfp?eventid=95965&copyow
 nerid=162402
UID:cfp831173-N@wikicfp.com
END:VEVENT
BEGIN:VEVENT
DTSTAMP:20260422T035622Z
DTSTART;VALUE=DATE:20200601
SUMMARY:KDD 2020 Final Version Due
DESCRIPTION:KDD 2020
URL:http://www.wikicfp.com/cfp/servlet/event.showcfp?eventid=95965&copyow
 nerid=162402
UID:cfp831173-N@wikicfp.com
END:VEVENT
BEGIN:VEVENT
DTSTAMP:20260422T035622Z
DTSTART;VALUE=DATE:20200803
DTEND;VALUE=DATE:20200807
SUMMARY:UAI 2020
DESCRIPTION:Conference on Uncertainty in Artificial Intelligence
URL:http://www.wikicfp.com/cfp/servlet/event.showcfp?eventid=96735&copyow
 nerid=162402
UID:cfp831182-E@wikicfp.com
END:VEVENT
BEGIN:VEVENT
DTSTAMP:20260422T035622Z
DTSTART;VALUE=DATE:20200220
SUMMARY:UAI 2020 Deadline
DESCRIPTION:Conference on Uncertainty in Artificial Intelligence
URL:http://www.wikicfp.com/cfp/servlet/event.showcfp?eventid=96735&copyow
 nerid=162402
UID:cfp831182-D@wikicfp.com
END:VEVENT
BEGIN:VEVENT
DTSTAMP:20260422T035622Z
DTSTART;VALUE=DATE:20200514
SUMMARY:UAI 2020 Notification Due
DESCRIPTION:Conference on Uncertainty in Artificial Intelligence
URL:http://www.wikicfp.com/cfp/servlet/event.showcfp?eventid=96735&copyow
 nerid=162402
UID:cfp831182-N@wikicfp.com
END:VEVENT
BEGIN:VEVENT
DTSTAMP:20260422T035622Z
DTSTART;VALUE=DATE:20200914
DTEND;VALUE=DATE:20200919
SUMMARY:ECML PKDD 2020
DESCRIPTION:European Conference on Machine Learning and Principles and Pr
 actice of Knowledge Discovery in Databases
URL:http://www.wikicfp.com/cfp/servlet/event.showcfp?eventid=95847&copyow
 nerid=162402
UID:cfp831166-E@wikicfp.com
END:VEVENT
BEGIN:VEVENT
DTSTAMP:20260422T035622Z
DTSTART;VALUE=DATE:20200319
SUMMARY:ECML PKDD 2020 Abstract Due
DESCRIPTION:European Conference on Machine Learning and Principles and Pr
 actice of Knowledge Discovery in Databases
URL:http://www.wikicfp.com/cfp/servlet/event.showcfp?eventid=95847&copyow
 nerid=162402
UID:cfp831166-A@wikicfp.com
END:VEVENT
BEGIN:VEVENT
DTSTAMP:20260422T035622Z
DTSTART;VALUE=DATE:20200326
SUMMARY:ECML PKDD 2020 Deadline
DESCRIPTION:European Conference on Machine Learning and Principles and Pr
 actice of Knowledge Discovery in Databases
URL:http://www.wikicfp.com/cfp/servlet/event.showcfp?eventid=95847&copyow
 nerid=162402
UID:cfp831166-D@wikicfp.com
END:VEVENT
BEGIN:VEVENT
DTSTAMP:20260422T035622Z
DTSTART;VALUE=DATE:20200604
SUMMARY:ECML PKDD 2020 Notification Due
DESCRIPTION:European Conference on Machine Learning and Principles and Pr
 actice of Knowledge Discovery in Databases
URL:http://www.wikicfp.com/cfp/servlet/event.showcfp?eventid=95847&copyow
 nerid=162402
UID:cfp831166-N@wikicfp.com
END:VEVENT
BEGIN:VEVENT
DTSTAMP:20260422T035622Z
DTSTART;VALUE=DATE:20200721
SUMMARY:ECML PKDD 2020 Final Version Due
DESCRIPTION:European Conference on Machine Learning and Principles and Pr
 actice of Knowledge Discovery in Databases
URL:http://www.wikicfp.com/cfp/servlet/event.showcfp?eventid=95847&copyow
 nerid=162402
UID:cfp831166-N@wikicfp.com
END:VEVENT
BEGIN:VEVENT
DTSTAMP:20260422T035622Z
DTSTART;VALUE=DATE:20201102
DTEND;VALUE=DATE:20201107
SUMMARY:ISWC 2020
DESCRIPTION: International Semantic Web Conference
URL:http://www.wikicfp.com/cfp/servlet/event.showcfp?eventid=98188&copyow
 nerid=162402
UID:cfp831168-E@wikicfp.com
END:VEVENT
BEGIN:VEVENT
DTSTAMP:20260422T035622Z
DTSTART;VALUE=DATE:20200327
SUMMARY:ISWC 2020 Abstract Due
DESCRIPTION: International Semantic Web Conference
URL:http://www.wikicfp.com/cfp/servlet/event.showcfp?eventid=98188&copyow
 nerid=162402
UID:cfp831168-A@wikicfp.com
END:VEVENT
BEGIN:VEVENT
DTSTAMP:20260422T035622Z
DTSTART;VALUE=DATE:20200403
SUMMARY:ISWC 2020 Deadline
DESCRIPTION: International Semantic Web Conference
URL:http://www.wikicfp.com/cfp/servlet/event.showcfp?eventid=98188&copyow
 nerid=162402
UID:cfp831168-D@wikicfp.com
END:VEVENT
BEGIN:VEVENT
DTSTAMP:20260422T035622Z
DTSTART;VALUE=DATE:20200619
SUMMARY:ISWC 2020 Notification Due
DESCRIPTION: International Semantic Web Conference
URL:http://www.wikicfp.com/cfp/servlet/event.showcfp?eventid=98188&copyow
 nerid=162402
UID:cfp831168-N@wikicfp.com
END:VEVENT
BEGIN:VEVENT
DTSTAMP:20260422T035622Z
DTSTART;VALUE=DATE:20201019
DTEND;VALUE=DATE:20201024
SUMMARY:CIKM 2020
DESCRIPTION:29TH ACM INTERNATIONAL CONFERENCE ON INFORMATION AND KNOWLEDG
 E MANAGEMENT
URL:http://www.wikicfp.com/cfp/servlet/event.showcfp?eventid=96971&copyow
 nerid=162402
UID:cfp831163-E@wikicfp.com
END:VEVENT
BEGIN:VEVENT
DTSTAMP:20260422T035622Z
DTSTART;VALUE=DATE:20200424
SUMMARY:CIKM 2020 Abstract Due
DESCRIPTION:29TH ACM INTERNATIONAL CONFERENCE ON INFORMATION AND KNOWLEDG
 E MANAGEMENT
URL:http://www.wikicfp.com/cfp/servlet/event.showcfp?eventid=96971&copyow
 nerid=162402
UID:cfp831163-A@wikicfp.com
END:VEVENT
BEGIN:VEVENT
DTSTAMP:20260422T035622Z
DTSTART;VALUE=DATE:20200501
SUMMARY:CIKM 2020 Deadline
DESCRIPTION:29TH ACM INTERNATIONAL CONFERENCE ON INFORMATION AND KNOWLEDG
 E MANAGEMENT
URL:http://www.wikicfp.com/cfp/servlet/event.showcfp?eventid=96971&copyow
 nerid=162402
UID:cfp831163-D@wikicfp.com
END:VEVENT
BEGIN:VEVENT
DTSTAMP:20260422T035622Z
DTSTART;VALUE=DATE:20200703
SUMMARY:CIKM 2020 Notification Due
DESCRIPTION:29TH ACM INTERNATIONAL CONFERENCE ON INFORMATION AND KNOWLEDG
 E MANAGEMENT
URL:http://www.wikicfp.com/cfp/servlet/event.showcfp?eventid=96971&copyow
 nerid=162402
UID:cfp831163-N@wikicfp.com
END:VEVENT
BEGIN:VEVENT
DTSTAMP:20260422T035622Z
DTSTART;VALUE=DATE:20200814
SUMMARY:CIKM 2020 Final Version Due
DESCRIPTION:29TH ACM INTERNATIONAL CONFERENCE ON INFORMATION AND KNOWLEDG
 E MANAGEMENT
URL:http://www.wikicfp.com/cfp/servlet/event.showcfp?eventid=96971&copyow
 nerid=162402
UID:cfp831163-N@wikicfp.com
END:VEVENT
BEGIN:VEVENT
DTSTAMP:20260422T035622Z
DTSTART;VALUE=DATE:20201117
DTEND;VALUE=DATE:20201121
SUMMARY:ICDM 2020
DESCRIPTION:20th IEEE International Conference on Data Mining
URL:http://www.wikicfp.com/cfp/servlet/event.showcfp?eventid=98130&copyow
 nerid=162402
UID:cfp831162-E@wikicfp.com
END:VEVENT
BEGIN:VEVENT
DTSTAMP:20260422T035622Z
DTSTART;VALUE=DATE:20200602
SUMMARY:ICDM 2020 Deadline
DESCRIPTION:20th IEEE International Conference on Data Mining
URL:http://www.wikicfp.com/cfp/servlet/event.showcfp?eventid=98130&copyow
 nerid=162402
UID:cfp831162-D@wikicfp.com
END:VEVENT
BEGIN:VEVENT
DTSTAMP:20260422T035622Z
DTSTART;VALUE=DATE:20200820
SUMMARY:ICDM 2020 Notification Due
DESCRIPTION:20th IEEE International Conference on Data Mining
URL:http://www.wikicfp.com/cfp/servlet/event.showcfp?eventid=98130&copyow
 nerid=162402
UID:cfp831162-N@wikicfp.com
END:VEVENT
BEGIN:VEVENT
DTSTAMP:20260422T035622Z
DTSTART;VALUE=DATE:20200924
SUMMARY:ICDM 2020 Final Version Due
DESCRIPTION:20th IEEE International Conference on Data Mining
URL:http://www.wikicfp.com/cfp/servlet/event.showcfp?eventid=98130&copyow
 nerid=162402
UID:cfp831162-N@wikicfp.com
END:VEVENT
END:VCALENDAR
