BEGIN:VCALENDAR
PRODID:-//WikiCFP//bmaciash 1.0//EN
VERSION:2.0
CALSCALE:GREGORIAN
BEGIN:VEVENT
DTSTAMP:20260422T134517Z
DTSTART;VALUE=DATE:20201201
DTEND;VALUE=DATE:20201204
SUMMARY:A&WMA Measurements 2020
DESCRIPTION:Air Quality Measurement Methods and Technology
URL:http://www.wikicfp.com/cfp/servlet/event.showcfp?eventid=99444&copyow
 nerid=162224
UID:cfp829975-E@wikicfp.com
END:VEVENT
BEGIN:VEVENT
DTSTAMP:20260422T134517Z
DTSTART;VALUE=DATE:20200504
SUMMARY:A&WMA Measurements 2020 Deadline
DESCRIPTION:Air Quality Measurement Methods and Technology
URL:http://www.wikicfp.com/cfp/servlet/event.showcfp?eventid=99444&copyow
 nerid=162224
UID:cfp829975-D@wikicfp.com
END:VEVENT
BEGIN:VEVENT
DTSTAMP:20260422T134517Z
DTSTART;VALUE=DATE:20200608
SUMMARY:A&WMA Measurements 2020 Notification Due
DESCRIPTION:Air Quality Measurement Methods and Technology
URL:http://www.wikicfp.com/cfp/servlet/event.showcfp?eventid=99444&copyow
 nerid=162224
UID:cfp829975-N@wikicfp.com
END:VEVENT
BEGIN:VEVENT
DTSTAMP:20260422T134517Z
DTSTART;VALUE=DATE:20201001
SUMMARY:A&WMA Measurements 2020 Final Version Due
DESCRIPTION:Air Quality Measurement Methods and Technology
URL:http://www.wikicfp.com/cfp/servlet/event.showcfp?eventid=99444&copyow
 nerid=162224
UID:cfp829975-N@wikicfp.com
END:VEVENT
BEGIN:VEVENT
DTSTAMP:20260422T134517Z
DTSTART;VALUE=DATE:20201104
DTEND;VALUE=DATE:20201107
SUMMARY:CONISOFT 2020
DESCRIPTION:8th International Conference on Software Engineering Research
  and Innovation
URL:http://www.wikicfp.com/cfp/servlet/event.showcfp?eventid=100682&copyo
 wnerid=162224
UID:cfp829982-E@wikicfp.com
END:VEVENT
BEGIN:VEVENT
DTSTAMP:20260422T134517Z
DTSTART;VALUE=DATE:20200522
SUMMARY:CONISOFT 2020 Deadline
DESCRIPTION:8th International Conference on Software Engineering Research
  and Innovation
URL:http://www.wikicfp.com/cfp/servlet/event.showcfp?eventid=100682&copyo
 wnerid=162224
UID:cfp829982-D@wikicfp.com
END:VEVENT
BEGIN:VEVENT
DTSTAMP:20260422T134517Z
DTSTART;VALUE=DATE:20200710
SUMMARY:CONISOFT 2020 Notification Due
DESCRIPTION:8th International Conference on Software Engineering Research
  and Innovation
URL:http://www.wikicfp.com/cfp/servlet/event.showcfp?eventid=100682&copyo
 wnerid=162224
UID:cfp829982-N@wikicfp.com
END:VEVENT
BEGIN:VEVENT
DTSTAMP:20260422T134517Z
DTSTART;VALUE=DATE:20200814
SUMMARY:CONISOFT 2020 Final Version Due
DESCRIPTION:8th International Conference on Software Engineering Research
  and Innovation
URL:http://www.wikicfp.com/cfp/servlet/event.showcfp?eventid=100682&copyo
 wnerid=162224
UID:cfp829982-N@wikicfp.com
END:VEVENT
BEGIN:VEVENT
DTSTAMP:20260422T134517Z
DTSTART;VALUE=DATE:20200710
DTEND;VALUE=DATE:20200713
SUMMARY:IEEE-CTISC  2020
DESCRIPTION:2020 2nd International Conference on Advances in Computer Tec
 hnology\, Information Science and Communications (CTISC 2020)
URL:http://www.wikicfp.com/cfp/servlet/event.showcfp?eventid=77746&copyow
 nerid=162224
UID:cfp829976-E@wikicfp.com
END:VEVENT
BEGIN:VEVENT
DTSTAMP:20260422T134517Z
DTSTART;VALUE=DATE:20200630
SUMMARY:IEEE-CTISC  2020 Deadline
DESCRIPTION:2020 2nd International Conference on Advances in Computer Tec
 hnology\, Information Science and Communications (CTISC 2020)
URL:http://www.wikicfp.com/cfp/servlet/event.showcfp?eventid=77746&copyow
 nerid=162224
UID:cfp829976-D@wikicfp.com
END:VEVENT
BEGIN:VEVENT
DTSTAMP:20260422T134517Z
DTSTART;VALUE=DATE:20200914
DTEND;VALUE=DATE:20200919
SUMMARY:ICEER--Ei & Scopus 2020
DESCRIPTION:2020 The 7th International Conference on Energy and Environme
 nt Research (ICEER 2020)--Ei Compendex\, Scopus
URL:http://www.wikicfp.com/cfp/servlet/event.showcfp?eventid=100534&copyo
 wnerid=162224
UID:cfp829977-E@wikicfp.com
END:VEVENT
BEGIN:VEVENT
DTSTAMP:20260422T134517Z
DTSTART;VALUE=DATE:20200630
SUMMARY:ICEER--Ei & Scopus 2020 Deadline
DESCRIPTION:2020 The 7th International Conference on Energy and Environme
 nt Research (ICEER 2020)--Ei Compendex\, Scopus
URL:http://www.wikicfp.com/cfp/servlet/event.showcfp?eventid=100534&copyo
 wnerid=162224
UID:cfp829977-D@wikicfp.com
END:VEVENT
END:VCALENDAR
