BEGIN:VCALENDAR
PRODID:-//WikiCFP//zhoupeng_cfp 1.0//EN
VERSION:2.0
CALSCALE:GREGORIAN
BEGIN:VEVENT
DTSTAMP:20260420T150328Z
DTSTART;VALUE=DATE:20191119
DTEND;VALUE=DATE:20191123
SUMMARY:MLIS 2019
DESCRIPTION:2019 International Conference on Machine Learning and Intelli
 gent Systems
URL:http://www.wikicfp.com/cfp/servlet/event.showcfp?eventid=88880&copyow
 nerid=162212
UID:cfp829931-E@wikicfp.com
END:VEVENT
BEGIN:VEVENT
DTSTAMP:20260420T150328Z
DTSTART;VALUE=DATE:20190530
SUMMARY:MLIS 2019 Deadline
DESCRIPTION:2019 International Conference on Machine Learning and Intelli
 gent Systems
URL:http://www.wikicfp.com/cfp/servlet/event.showcfp?eventid=88880&copyow
 nerid=162212
UID:cfp829931-D@wikicfp.com
END:VEVENT
BEGIN:VEVENT
DTSTAMP:20260420T150328Z
DTSTART;VALUE=DATE:20200812
DTEND;VALUE=DATE:20200815
SUMMARY:APWeb-WAIM 2020
DESCRIPTION:The 4th APWeb-WAIM International Joint Conference on Web and 
 Big Data
URL:http://www.wikicfp.com/cfp/servlet/event.showcfp?eventid=97026&copyow
 nerid=162212
UID:cfp829930-E@wikicfp.com
END:VEVENT
BEGIN:VEVENT
DTSTAMP:20260420T150328Z
DTSTART;VALUE=DATE:20200209
SUMMARY:APWeb-WAIM 2020 Deadline
DESCRIPTION:The 4th APWeb-WAIM International Joint Conference on Web and 
 Big Data
URL:http://www.wikicfp.com/cfp/servlet/event.showcfp?eventid=97026&copyow
 nerid=162212
UID:cfp829930-D@wikicfp.com
END:VEVENT
BEGIN:VEVENT
DTSTAMP:20260420T150328Z
DTSTART;VALUE=DATE:20200423
SUMMARY:APWeb-WAIM 2020 Notification Due
DESCRIPTION:The 4th APWeb-WAIM International Joint Conference on Web and 
 Big Data
URL:http://www.wikicfp.com/cfp/servlet/event.showcfp?eventid=97026&copyow
 nerid=162212
UID:cfp829930-N@wikicfp.com
END:VEVENT
BEGIN:VEVENT
DTSTAMP:20260420T150328Z
DTSTART;VALUE=DATE:20200508
SUMMARY:APWeb-WAIM 2020 Final Version Due
DESCRIPTION:The 4th APWeb-WAIM International Joint Conference on Web and 
 Big Data
URL:http://www.wikicfp.com/cfp/servlet/event.showcfp?eventid=97026&copyow
 nerid=162212
UID:cfp829930-N@wikicfp.com
END:VEVENT
BEGIN:VEVENT
DTSTAMP:20260420T150328Z
DTSTART;VALUE=DATE:20200513
DTEND;VALUE=DATE:20200516
SUMMARY:ACM--ASSE--EI Compendex\, Scopus 2020
DESCRIPTION:ACM--2020 Asia Service Sciences and Software Engineering Conf
 erence (ASSE 2020)--EI Compendex\, Scopus
URL:http://www.wikicfp.com/cfp/servlet/event.showcfp?eventid=91078&copyow
 nerid=162212
UID:cfp829953-E@wikicfp.com
END:VEVENT
BEGIN:VEVENT
DTSTAMP:20260420T150328Z
DTSTART;VALUE=DATE:20200405
SUMMARY:ACM--ASSE--EI Compendex\, Scopus 2020 Deadline
DESCRIPTION:ACM--2020 Asia Service Sciences and Software Engineering Conf
 erence (ASSE 2020)--EI Compendex\, Scopus
URL:http://www.wikicfp.com/cfp/servlet/event.showcfp?eventid=91078&copyow
 nerid=162212
UID:cfp829953-D@wikicfp.com
END:VEVENT
BEGIN:VEVENT
DTSTAMP:20260420T150328Z
DTSTART;VALUE=DATE:20201012
DTEND;VALUE=DATE:20201016
SUMMARY:ISSRE 2020
DESCRIPTION:The 31st International Symposium on Software Reliability Engi
 neering
URL:http://www.wikicfp.com/cfp/servlet/event.showcfp?eventid=99700&copyow
 nerid=162212
UID:cfp830574-E@wikicfp.com
END:VEVENT
BEGIN:VEVENT
DTSTAMP:20260420T150328Z
DTSTART;VALUE=DATE:20200518
SUMMARY:ISSRE 2020 Abstract Due
DESCRIPTION:The 31st International Symposium on Software Reliability Engi
 neering
URL:http://www.wikicfp.com/cfp/servlet/event.showcfp?eventid=99700&copyow
 nerid=162212
UID:cfp830574-A@wikicfp.com
END:VEVENT
BEGIN:VEVENT
DTSTAMP:20260420T150328Z
DTSTART;VALUE=DATE:20200525
SUMMARY:ISSRE 2020 Deadline
DESCRIPTION:The 31st International Symposium on Software Reliability Engi
 neering
URL:http://www.wikicfp.com/cfp/servlet/event.showcfp?eventid=99700&copyow
 nerid=162212
UID:cfp830574-D@wikicfp.com
END:VEVENT
BEGIN:VEVENT
DTSTAMP:20260420T150328Z
DTSTART;VALUE=DATE:20200730
SUMMARY:ISSRE 2020 Notification Due
DESCRIPTION:The 31st International Symposium on Software Reliability Engi
 neering
URL:http://www.wikicfp.com/cfp/servlet/event.showcfp?eventid=99700&copyow
 nerid=162212
UID:cfp830574-N@wikicfp.com
END:VEVENT
BEGIN:VEVENT
DTSTAMP:20260420T150328Z
DTSTART;VALUE=DATE:20200820
SUMMARY:ISSRE 2020 Final Version Due
DESCRIPTION:The 31st International Symposium on Software Reliability Engi
 neering
URL:http://www.wikicfp.com/cfp/servlet/event.showcfp?eventid=99700&copyow
 nerid=162212
UID:cfp830574-N@wikicfp.com
END:VEVENT
END:VCALENDAR
