BEGIN:VCALENDAR
PRODID:-//WikiCFP//reza_mlkn1 1.0//EN
VERSION:2.0
CALSCALE:GREGORIAN
BEGIN:VEVENT
DTSTAMP:20260420T082415Z
DTSTART;VALUE=DATE:20201119
DTEND;VALUE=DATE:20201121
SUMMARY:IEEE Wireless Africa  2020
DESCRIPTION:IEEE Wireless Africa 2020
URL:http://www.wikicfp.com/cfp/servlet/event.showcfp?eventid=99494&copyow
 nerid=161585
UID:cfp826314-E@wikicfp.com
END:VEVENT
BEGIN:VEVENT
DTSTAMP:20260420T082415Z
DTSTART;VALUE=DATE:20200630
SUMMARY:IEEE Wireless Africa  2020 Deadline
DESCRIPTION:IEEE Wireless Africa 2020
URL:http://www.wikicfp.com/cfp/servlet/event.showcfp?eventid=99494&copyow
 nerid=161585
UID:cfp826314-D@wikicfp.com
END:VEVENT
BEGIN:VEVENT
DTSTAMP:20260420T082415Z
DTSTART;VALUE=DATE:20200920
SUMMARY:IEEE Wireless Africa  2020 Notification Due
DESCRIPTION:IEEE Wireless Africa 2020
URL:http://www.wikicfp.com/cfp/servlet/event.showcfp?eventid=99494&copyow
 nerid=161585
UID:cfp826314-N@wikicfp.com
END:VEVENT
END:VCALENDAR
