BEGIN:VCALENDAR
PRODID:-//WikiCFP//taojia420 1.0//EN
VERSION:2.0
CALSCALE:GREGORIAN
BEGIN:VEVENT
DTSTAMP:20260421T011553Z
DTSTART;VALUE=DATE:20240513
DTEND;VALUE=DATE:20240518
SUMMARY:WWW 2024
DESCRIPTION:International World Wide Web Conferences
URL:http://www.wikicfp.com/cfp/servlet/event.showcfp?eventid=173994&copyo
 wnerid=161563
UID:cfp978677-E@wikicfp.com
END:VEVENT
BEGIN:VEVENT
DTSTAMP:20260421T011553Z
DTSTART;VALUE=DATE:20241021
DTEND;VALUE=DATE:20241026
SUMMARY:CIKM 2024
DESCRIPTION:Conference on Information and Knowledge Management
URL:http://www.wikicfp.com/cfp/servlet/event.showcfp?eventid=176626&copyo
 wnerid=161563
UID:cfp978674-E@wikicfp.com
END:VEVENT
BEGIN:VEVENT
DTSTAMP:20260421T011553Z
DTSTART;VALUE=DATE:20240416
DTEND;VALUE=DATE:20240420
SUMMARY:ICDE 2024
DESCRIPTION:40th IEEE International Conference on Data Engineering
URL:http://www.wikicfp.com/cfp/servlet/event.showcfp?eventid=174157&copyo
 wnerid=161563
UID:cfp978676-E@wikicfp.com
END:VEVENT
BEGIN:VEVENT
DTSTAMP:20260421T011553Z
DTSTART;VALUE=DATE:20231124
SUMMARY:ICDE 2024 Deadline
DESCRIPTION:40th IEEE International Conference on Data Engineering
URL:http://www.wikicfp.com/cfp/servlet/event.showcfp?eventid=174157&copyo
 wnerid=161563
UID:cfp978676-D@wikicfp.com
END:VEVENT
BEGIN:VEVENT
DTSTAMP:20260421T011553Z
DTSTART;VALUE=DATE:20231222
SUMMARY:ICDE 2024 Notification Due
DESCRIPTION:40th IEEE International Conference on Data Engineering
URL:http://www.wikicfp.com/cfp/servlet/event.showcfp?eventid=174157&copyo
 wnerid=161563
UID:cfp978676-N@wikicfp.com
END:VEVENT
BEGIN:VEVENT
DTSTAMP:20260421T011553Z
DTSTART;VALUE=DATE:20240119
SUMMARY:ICDE 2024 Final Version Due
DESCRIPTION:40th IEEE International Conference on Data Engineering
URL:http://www.wikicfp.com/cfp/servlet/event.showcfp?eventid=174157&copyo
 wnerid=161563
UID:cfp978676-N@wikicfp.com
END:VEVENT
BEGIN:VEVENT
DTSTAMP:20260421T011553Z
DTSTART;VALUE=DATE:20240710
DTEND;VALUE=DATE:20240715
SUMMARY:ICDM 2024
DESCRIPTION:24th Industrial Conference on Data Mining
URL:http://www.wikicfp.com/cfp/servlet/event.showcfp?eventid=173743&copyo
 wnerid=161563
UID:cfp978675-E@wikicfp.com
END:VEVENT
BEGIN:VEVENT
DTSTAMP:20260421T011553Z
DTSTART;VALUE=DATE:20240115
SUMMARY:ICDM 2024 Deadline
DESCRIPTION:24th Industrial Conference on Data Mining
URL:http://www.wikicfp.com/cfp/servlet/event.showcfp?eventid=173743&copyo
 wnerid=161563
UID:cfp978675-D@wikicfp.com
END:VEVENT
BEGIN:VEVENT
DTSTAMP:20260421T011553Z
DTSTART;VALUE=DATE:20240320
SUMMARY:ICDM 2024 Notification Due
DESCRIPTION:24th Industrial Conference on Data Mining
URL:http://www.wikicfp.com/cfp/servlet/event.showcfp?eventid=173743&copyo
 wnerid=161563
UID:cfp978675-N@wikicfp.com
END:VEVENT
BEGIN:VEVENT
DTSTAMP:20260421T011553Z
DTSTART;VALUE=DATE:20240420
SUMMARY:ICDM 2024 Final Version Due
DESCRIPTION:24th Industrial Conference on Data Mining
URL:http://www.wikicfp.com/cfp/servlet/event.showcfp?eventid=173743&copyo
 wnerid=161563
UID:cfp978675-N@wikicfp.com
END:VEVENT
END:VCALENDAR
