BEGIN:VCALENDAR
PRODID:-//WikiCFP//marissa4887 1.0//EN
VERSION:2.0
CALSCALE:GREGORIAN
BEGIN:VEVENT
DTSTAMP:20260423T183715Z
DTSTART;VALUE=DATE:20210420
DTEND;VALUE=DATE:20210422
SUMMARY:SSHRA - Eurasia Research 2021
DESCRIPTION:Paris â International Conference on Social Science & Humani
 ties (ICSSH)\, 20-21 April 2021
URL:http://www.wikicfp.com/cfp/servlet/event.showcfp?eventid=91087&copyow
 nerid=161193
UID:cfp824310-E@wikicfp.com
END:VEVENT
BEGIN:VEVENT
DTSTAMP:20260423T183715Z
DTSTART;VALUE=DATE:20200618
DTEND;VALUE=DATE:20200619
SUMMARY:Impact of Impact Conference  2020
DESCRIPTION:The Impact of Impact: Partnership Working and the Humanities.
  
URL:http://www.wikicfp.com/cfp/servlet/event.showcfp?eventid=98129&copyow
 nerid=161193
UID:cfp824314-E@wikicfp.com
END:VEVENT
BEGIN:VEVENT
DTSTAMP:20260423T183715Z
DTSTART;VALUE=DATE:20200217
SUMMARY:Impact of Impact Conference  2020 Deadline
DESCRIPTION:The Impact of Impact: Partnership Working and the Humanities.
  
URL:http://www.wikicfp.com/cfp/servlet/event.showcfp?eventid=98129&copyow
 nerid=161193
UID:cfp824314-D@wikicfp.com
END:VEVENT
BEGIN:VEVENT
DTSTAMP:20260423T183715Z
DTSTART;VALUE=DATE:20200403
DTEND;VALUE=DATE:20200405
SUMMARY: ICSS XXI 2020
DESCRIPTION: 21st INTERNATIONAL CONFERENCE ON SOCIAL SCIENCES
URL:http://www.wikicfp.com/cfp/servlet/event.showcfp?eventid=97698&copyow
 nerid=161193
UID:cfp824312-E@wikicfp.com
END:VEVENT
BEGIN:VEVENT
DTSTAMP:20260423T183715Z
DTSTART;VALUE=DATE:20200222
SUMMARY: ICSS XXI 2020 Deadline
DESCRIPTION: 21st INTERNATIONAL CONFERENCE ON SOCIAL SCIENCES
URL:http://www.wikicfp.com/cfp/servlet/event.showcfp?eventid=97698&copyow
 nerid=161193
UID:cfp824312-D@wikicfp.com
END:VEVENT
BEGIN:VEVENT
DTSTAMP:20260423T183715Z
DTSTART;VALUE=DATE:20200322
SUMMARY: ICSS XXI 2020 Final Version Due
DESCRIPTION: 21st INTERNATIONAL CONFERENCE ON SOCIAL SCIENCES
URL:http://www.wikicfp.com/cfp/servlet/event.showcfp?eventid=97698&copyow
 nerid=161193
UID:cfp824312-N@wikicfp.com
END:VEVENT
BEGIN:VEVENT
DTSTAMP:20260423T183715Z
DTSTART;VALUE=DATE:20200724
DTEND;VALUE=DATE:20200727
SUMMARY:ECAH 2020
DESCRIPTION:The 8th European Conference on Arts & Humanities (ECAH2020)
URL:http://www.wikicfp.com/cfp/servlet/event.showcfp?eventid=95756&copyow
 nerid=161193
UID:cfp824311-E@wikicfp.com
END:VEVENT
BEGIN:VEVENT
DTSTAMP:20260423T183715Z
DTSTART;VALUE=DATE:20200612
SUMMARY:ECAH 2020 Abstract Due
DESCRIPTION:The 8th European Conference on Arts & Humanities (ECAH2020)
URL:http://www.wikicfp.com/cfp/servlet/event.showcfp?eventid=95756&copyow
 nerid=161193
UID:cfp824311-A@wikicfp.com
END:VEVENT
BEGIN:VEVENT
DTSTAMP:20260423T183715Z
DTSTART;VALUE=DATE:20200307
SUMMARY:ECAH 2020 Deadline
DESCRIPTION:The 8th European Conference on Arts & Humanities (ECAH2020)
URL:http://www.wikicfp.com/cfp/servlet/event.showcfp?eventid=95756&copyow
 nerid=161193
UID:cfp824311-D@wikicfp.com
END:VEVENT
BEGIN:VEVENT
DTSTAMP:20260423T183715Z
DTSTART;VALUE=DATE:20200225
SUMMARY:ECAH 2020 Notification Due
DESCRIPTION:The 8th European Conference on Arts & Humanities (ECAH2020)
URL:http://www.wikicfp.com/cfp/servlet/event.showcfp?eventid=95756&copyow
 nerid=161193
UID:cfp824311-N@wikicfp.com
END:VEVENT
BEGIN:VEVENT
DTSTAMP:20260423T183715Z
DTSTART;VALUE=DATE:20200507
SUMMARY:ECAH 2020 Final Version Due
DESCRIPTION:The 8th European Conference on Arts & Humanities (ECAH2020)
URL:http://www.wikicfp.com/cfp/servlet/event.showcfp?eventid=95756&copyow
 nerid=161193
UID:cfp824311-N@wikicfp.com
END:VEVENT
BEGIN:VEVENT
DTSTAMP:20260423T183715Z
DTSTART;VALUE=DATE:20201128
DTEND;VALUE=DATE:20201130
SUMMARY:IoTE 2020
DESCRIPTION:International Conference on Internet of Things & Embedded Sys
 tems 
URL:http://www.wikicfp.com/cfp/servlet/event.showcfp?eventid=94956&copyow
 nerid=161193
UID:cfp824315-E@wikicfp.com
END:VEVENT
BEGIN:VEVENT
DTSTAMP:20260423T183715Z
DTSTART;VALUE=DATE:20201114
SUMMARY:IoTE 2020 Deadline
DESCRIPTION:International Conference on Internet of Things & Embedded Sys
 tems 
URL:http://www.wikicfp.com/cfp/servlet/event.showcfp?eventid=94956&copyow
 nerid=161193
UID:cfp824315-D@wikicfp.com
END:VEVENT
BEGIN:VEVENT
DTSTAMP:20260423T183715Z
DTSTART;VALUE=DATE:20201124
SUMMARY:IoTE 2020 Notification Due
DESCRIPTION:International Conference on Internet of Things & Embedded Sys
 tems 
URL:http://www.wikicfp.com/cfp/servlet/event.showcfp?eventid=94956&copyow
 nerid=161193
UID:cfp824315-N@wikicfp.com
END:VEVENT
BEGIN:VEVENT
DTSTAMP:20260423T183715Z
DTSTART;VALUE=DATE:20201126
SUMMARY:IoTE 2020 Final Version Due
DESCRIPTION:International Conference on Internet of Things & Embedded Sys
 tems 
URL:http://www.wikicfp.com/cfp/servlet/event.showcfp?eventid=94956&copyow
 nerid=161193
UID:cfp824315-N@wikicfp.com
END:VEVENT
BEGIN:VEVENT
DTSTAMP:20260423T183715Z
DTSTART;VALUE=DATE:20210907
DTEND;VALUE=DATE:20210909
SUMMARY:4th Rome ICSSH 2021
DESCRIPTION:4th Rome â International Conference on Social Science & Hum
 anities (ICSSH)\, 07-08 September 2021
URL:http://www.wikicfp.com/cfp/servlet/event.showcfp?eventid=98340&copyow
 nerid=161193
UID:cfp824313-E@wikicfp.com
END:VEVENT
BEGIN:VEVENT
DTSTAMP:20260423T183715Z
DTSTART;VALUE=DATE:20210905
SUMMARY:4th Rome ICSSH 2021 Deadline
DESCRIPTION:4th Rome â International Conference on Social Science & Hum
 anities (ICSSH)\, 07-08 September 2021
URL:http://www.wikicfp.com/cfp/servlet/event.showcfp?eventid=98340&copyow
 nerid=161193
UID:cfp824313-D@wikicfp.com
END:VEVENT
BEGIN:VEVENT
DTSTAMP:20260423T183715Z
DTSTART;VALUE=DATE:20210905
SUMMARY:4th Rome ICSSH 2021 Final Version Due
DESCRIPTION:4th Rome â International Conference on Social Science & Hum
 anities (ICSSH)\, 07-08 September 2021
URL:http://www.wikicfp.com/cfp/servlet/event.showcfp?eventid=98340&copyow
 nerid=161193
UID:cfp824313-N@wikicfp.com
END:VEVENT
END:VCALENDAR
