BEGIN:VCALENDAR
PRODID:-//WikiCFP//shruthi 1.0//EN
VERSION:2.0
CALSCALE:GREGORIAN
BEGIN:VEVENT
DTSTAMP:20260419T132745Z
DTSTART;VALUE=DATE:20100614
DTEND;VALUE=DATE:20100617
SUMMARY:Ubooth DAC 2010
DESCRIPTION:23rd SIGDA University Booth at DAC 2010
URL:http://www.wikicfp.com/cfp/servlet/event.showcfp?eventid=9470&copyown
 erid=16116
UID:cfp110284-E@wikicfp.com
END:VEVENT
BEGIN:VEVENT
DTSTAMP:20260419T132745Z
DTSTART;VALUE=DATE:20100430
SUMMARY:Ubooth DAC 2010 Deadline
DESCRIPTION:23rd SIGDA University Booth at DAC 2010
URL:http://www.wikicfp.com/cfp/servlet/event.showcfp?eventid=9470&copyown
 erid=16116
UID:cfp110284-D@wikicfp.com
END:VEVENT
BEGIN:VEVENT
DTSTAMP:20260419T132745Z
DTSTART;VALUE=DATE:20100501
SUMMARY:Ubooth DAC 2010 Notification Due
DESCRIPTION:23rd SIGDA University Booth at DAC 2010
URL:http://www.wikicfp.com/cfp/servlet/event.showcfp?eventid=9470&copyown
 erid=16116
UID:cfp110284-N@wikicfp.com
END:VEVENT
BEGIN:VEVENT
DTSTAMP:20260419T132745Z
DTSTART;VALUE=DATE:20100614
SUMMARY:Ubooth DAC 2010 Final Version Due
DESCRIPTION:23rd SIGDA University Booth at DAC 2010
URL:http://www.wikicfp.com/cfp/servlet/event.showcfp?eventid=9470&copyown
 erid=16116
UID:cfp110284-N@wikicfp.com
END:VEVENT
END:VCALENDAR
