BEGIN:VCALENDAR
PRODID:-//WikiCFP//orankitty 1.0//EN
VERSION:2.0
CALSCALE:GREGORIAN
BEGIN:VEVENT
DTSTAMP:20260422T122750Z
DTSTART;VALUE=DATE:20200407
DTEND;VALUE=DATE:20200410
SUMMARY:ACM--IEAI--EI Compendex\, Scopus 2020
DESCRIPTION:ACM--2020 International conference on Industrial Engineering 
 and Artificial Intelligence (IEAI 2020)--EI Compendex\, Scopus
URL:http://www.wikicfp.com/cfp/servlet/event.showcfp?eventid=95807&copyow
 nerid=160229
UID:cfp819804-E@wikicfp.com
END:VEVENT
BEGIN:VEVENT
DTSTAMP:20260422T122750Z
DTSTART;VALUE=DATE:20200131
SUMMARY:ACM--IEAI--EI Compendex\, Scopus 2020 Deadline
DESCRIPTION:ACM--2020 International conference on Industrial Engineering 
 and Artificial Intelligence (IEAI 2020)--EI Compendex\, Scopus
URL:http://www.wikicfp.com/cfp/servlet/event.showcfp?eventid=95807&copyow
 nerid=160229
UID:cfp819804-D@wikicfp.com
END:VEVENT
BEGIN:VEVENT
DTSTAMP:20260422T122750Z
DTSTART;VALUE=DATE:20200828
DTEND;VALUE=DATE:20200831
SUMMARY:ICTLE--Matec\, EI Compendex 2020
DESCRIPTION:2020 8th International Conference on Traffic and Logistic Eng
 ineering (ICTLE 2020)--Ei Compendex
URL:http://www.wikicfp.com/cfp/servlet/event.showcfp?eventid=95213&copyow
 nerid=160229
UID:cfp819802-E@wikicfp.com
END:VEVENT
BEGIN:VEVENT
DTSTAMP:20260422T122750Z
DTSTART;VALUE=DATE:20200730
SUMMARY:ICTLE--Matec\, EI Compendex 2020 Deadline
DESCRIPTION:2020 8th International Conference on Traffic and Logistic Eng
 ineering (ICTLE 2020)--Ei Compendex
URL:http://www.wikicfp.com/cfp/servlet/event.showcfp?eventid=95213&copyow
 nerid=160229
UID:cfp819802-D@wikicfp.com
END:VEVENT
BEGIN:VEVENT
DTSTAMP:20260422T122750Z
DTSTART;VALUE=DATE:20200828
DTEND;VALUE=DATE:20200831
SUMMARY:ICTLE--Ei Compendex 2020
DESCRIPTION:2020 8th International Conference on Traffic and Logistic Eng
 ineering (ICTLE 2020)--Ei Compendex
URL:http://www.wikicfp.com/cfp/servlet/event.showcfp?eventid=95214&copyow
 nerid=160229
UID:cfp819803-E@wikicfp.com
END:VEVENT
BEGIN:VEVENT
DTSTAMP:20260422T122750Z
DTSTART;VALUE=DATE:20200730
SUMMARY:ICTLE--Ei Compendex 2020 Deadline
DESCRIPTION:2020 8th International Conference on Traffic and Logistic Eng
 ineering (ICTLE 2020)--Ei Compendex
URL:http://www.wikicfp.com/cfp/servlet/event.showcfp?eventid=95214&copyow
 nerid=160229
UID:cfp819803-D@wikicfp.com
END:VEVENT
END:VCALENDAR
