BEGIN:VCALENDAR
PRODID:-//WikiCFP//badrelkhalyly92 1.0//EN
VERSION:2.0
CALSCALE:GREGORIAN
BEGIN:VEVENT
DTSTAMP:20260426T010536Z
DTSTART;VALUE=DATE:20200528
DTEND;VALUE=DATE:20200531
SUMMARY:CloudTech 2020
DESCRIPTION:The 5th International Conference on Cloud Computing  and Arti
 ficial Intelligence: Technologies and Applications
URL:http://www.wikicfp.com/cfp/servlet/event.showcfp?eventid=93652&copyow
 nerid=159767
UID:cfp817721-E@wikicfp.com
END:VEVENT
BEGIN:VEVENT
DTSTAMP:20260426T010536Z
DTSTART;VALUE=DATE:20191220
SUMMARY:CloudTech 2020 Deadline
DESCRIPTION:The 5th International Conference on Cloud Computing  and Arti
 ficial Intelligence: Technologies and Applications
URL:http://www.wikicfp.com/cfp/servlet/event.showcfp?eventid=93652&copyow
 nerid=159767
UID:cfp817721-D@wikicfp.com
END:VEVENT
BEGIN:VEVENT
DTSTAMP:20260426T010536Z
DTSTART;VALUE=DATE:20200228
SUMMARY:CloudTech 2020 Notification Due
DESCRIPTION:The 5th International Conference on Cloud Computing  and Arti
 ficial Intelligence: Technologies and Applications
URL:http://www.wikicfp.com/cfp/servlet/event.showcfp?eventid=93652&copyow
 nerid=159767
UID:cfp817721-N@wikicfp.com
END:VEVENT
BEGIN:VEVENT
DTSTAMP:20260426T010536Z
DTSTART;VALUE=DATE:20200410
SUMMARY:CloudTech 2020 Final Version Due
DESCRIPTION:The 5th International Conference on Cloud Computing  and Arti
 ficial Intelligence: Technologies and Applications
URL:http://www.wikicfp.com/cfp/servlet/event.showcfp?eventid=93652&copyow
 nerid=159767
UID:cfp817721-N@wikicfp.com
END:VEVENT
END:VCALENDAR
