BEGIN:VCALENDAR
PRODID:-//WikiCFP//gilpinheiro 1.0//EN
VERSION:2.0
CALSCALE:GREGORIAN
BEGIN:VEVENT
DTSTAMP:20260422T164935Z
DTSTART;VALUE=DATE:20100110
DTEND;VALUE=DATE:20100113
SUMMARY:EI-CMSME 2020
DESCRIPTION:2020 3rd International Joint Conference on Materials Science 
 and Mechanical Engineering (CMSME 2020)
URL:http://www.wikicfp.com/cfp/servlet/event.showcfp?eventid=58534&copyow
 nerid=158284
UID:cfp809655-E@wikicfp.com
END:VEVENT
BEGIN:VEVENT
DTSTAMP:20260422T164935Z
DTSTART;VALUE=DATE:20191220
SUMMARY:EI-CMSME 2020 Deadline
DESCRIPTION:2020 3rd International Joint Conference on Materials Science 
 and Mechanical Engineering (CMSME 2020)
URL:http://www.wikicfp.com/cfp/servlet/event.showcfp?eventid=58534&copyow
 nerid=158284
UID:cfp809655-D@wikicfp.com
END:VEVENT
BEGIN:VEVENT
DTSTAMP:20260422T164935Z
DTSTART;VALUE=DATE:20191231
SUMMARY:EI-CMSME 2020 Notification Due
DESCRIPTION:2020 3rd International Joint Conference on Materials Science 
 and Mechanical Engineering (CMSME 2020)
URL:http://www.wikicfp.com/cfp/servlet/event.showcfp?eventid=58534&copyow
 nerid=158284
UID:cfp809655-N@wikicfp.com
END:VEVENT
BEGIN:VEVENT
DTSTAMP:20260422T164935Z
DTSTART;VALUE=DATE:20191231
SUMMARY:EI-CMSME 2020 Final Version Due
DESCRIPTION:2020 3rd International Joint Conference on Materials Science 
 and Mechanical Engineering (CMSME 2020)
URL:http://www.wikicfp.com/cfp/servlet/event.showcfp?eventid=58534&copyow
 nerid=158284
UID:cfp809655-N@wikicfp.com
END:VEVENT
END:VCALENDAR
