BEGIN:VCALENDAR
PRODID:-//WikiCFP//ptr 1.0//EN
VERSION:2.0
CALSCALE:GREGORIAN
BEGIN:VEVENT
DTSTAMP:20260421T110144Z
DTSTART;VALUE=DATE:20191213
DTEND;VALUE=DATE:20191215
SUMMARY:ICTS-TM 2019
DESCRIPTION:Document and Performance - International Conference of Theatr
 e Studies
URL:http://www.wikicfp.com/cfp/servlet/event.showcfp?eventid=94617&copyow
 nerid=157530
UID:cfp806801-E@wikicfp.com
END:VEVENT
BEGIN:VEVENT
DTSTAMP:20260421T110144Z
DTSTART;VALUE=DATE:20191115
SUMMARY:ICTS-TM 2019 Deadline
DESCRIPTION:Document and Performance - International Conference of Theatr
 e Studies
URL:http://www.wikicfp.com/cfp/servlet/event.showcfp?eventid=94617&copyow
 nerid=157530
UID:cfp806801-D@wikicfp.com
END:VEVENT
BEGIN:VEVENT
DTSTAMP:20260421T110144Z
DTSTART;VALUE=DATE:20191125
SUMMARY:ICTS-TM 2019 Notification Due
DESCRIPTION:Document and Performance - International Conference of Theatr
 e Studies
URL:http://www.wikicfp.com/cfp/servlet/event.showcfp?eventid=94617&copyow
 nerid=157530
UID:cfp806801-N@wikicfp.com
END:VEVENT
BEGIN:VEVENT
DTSTAMP:20260421T110144Z
DTSTART;VALUE=DATE:20210318
DTEND;VALUE=DATE:20210320
SUMMARY:MAP 2021
DESCRIPTION:Music and Art in Pandemic
URL:http://www.wikicfp.com/cfp/servlet/event.showcfp?eventid=123490&copyo
 wnerid=157530
UID:cfp870021-E@wikicfp.com
END:VEVENT
BEGIN:VEVENT
DTSTAMP:20260421T110144Z
DTSTART;VALUE=DATE:20210308
SUMMARY:MAP 2021 Deadline
DESCRIPTION:Music and Art in Pandemic
URL:http://www.wikicfp.com/cfp/servlet/event.showcfp?eventid=123490&copyo
 wnerid=157530
UID:cfp870021-D@wikicfp.com
END:VEVENT
BEGIN:VEVENT
DTSTAMP:20260421T110144Z
DTSTART;VALUE=DATE:20231208
DTEND;VALUE=DATE:20231210
SUMMARY:ITSC 2024
DESCRIPTION:International Theater Studies Conference: Performing Arts and
  Artificial Intelligence
URL:http://www.wikicfp.com/cfp/servlet/event.showcfp?eventid=176845&copyo
 wnerid=157530
UID:cfp977178-E@wikicfp.com
END:VEVENT
BEGIN:VEVENT
DTSTAMP:20260421T110144Z
DTSTART;VALUE=DATE:20231120
SUMMARY:ITSC 2024 Deadline
DESCRIPTION:International Theater Studies Conference: Performing Arts and
  Artificial Intelligence
URL:http://www.wikicfp.com/cfp/servlet/event.showcfp?eventid=176845&copyo
 wnerid=157530
UID:cfp977178-D@wikicfp.com
END:VEVENT
BEGIN:VEVENT
DTSTAMP:20260421T110144Z
DTSTART;VALUE=DATE:20231201
SUMMARY:ITSC 2024 Notification Due
DESCRIPTION:International Theater Studies Conference: Performing Arts and
  Artificial Intelligence
URL:http://www.wikicfp.com/cfp/servlet/event.showcfp?eventid=176845&copyo
 wnerid=157530
UID:cfp977178-N@wikicfp.com
END:VEVENT
BEGIN:VEVENT
DTSTAMP:20260421T110144Z
DTSTART;VALUE=DATE:20231208
SUMMARY:ITSC 2024 Final Version Due
DESCRIPTION:International Theater Studies Conference: Performing Arts and
  Artificial Intelligence
URL:http://www.wikicfp.com/cfp/servlet/event.showcfp?eventid=176845&copyo
 wnerid=157530
UID:cfp977178-N@wikicfp.com
END:VEVENT
BEGIN:VEVENT
DTSTAMP:20260421T110144Z
DTSTART;VALUE=DATE:20241213
DTEND;VALUE=DATE:20241215
SUMMARY:ICTS 2024
DESCRIPTION:25th International Conference of Theatre Studies: Dramaturgy 
 of Dance and Movement
URL:http://www.wikicfp.com/cfp/servlet/event.showcfp?eventid=182876&copyo
 wnerid=157530
UID:cfp1000402-E@wikicfp.com
END:VEVENT
BEGIN:VEVENT
DTSTAMP:20260421T110144Z
DTSTART;VALUE=DATE:20241208
SUMMARY:ICTS 2024 Deadline
DESCRIPTION:25th International Conference of Theatre Studies: Dramaturgy 
 of Dance and Movement
URL:http://www.wikicfp.com/cfp/servlet/event.showcfp?eventid=182876&copyo
 wnerid=157530
UID:cfp1000402-D@wikicfp.com
END:VEVENT
BEGIN:VEVENT
DTSTAMP:20260421T110144Z
DTSTART;VALUE=DATE:20241210
SUMMARY:ICTS 2024 Notification Due
DESCRIPTION:25th International Conference of Theatre Studies: Dramaturgy 
 of Dance and Movement
URL:http://www.wikicfp.com/cfp/servlet/event.showcfp?eventid=182876&copyo
 wnerid=157530
UID:cfp1000402-N@wikicfp.com
END:VEVENT
BEGIN:VEVENT
DTSTAMP:20260421T110144Z
DTSTART;VALUE=DATE:20241211
SUMMARY:ICTS 2024 Final Version Due
DESCRIPTION:25th International Conference of Theatre Studies: Dramaturgy 
 of Dance and Movement
URL:http://www.wikicfp.com/cfp/servlet/event.showcfp?eventid=182876&copyo
 wnerid=157530
UID:cfp1000402-N@wikicfp.com
END:VEVENT
BEGIN:VEVENT
DTSTAMP:20260421T110144Z
DTSTART;VALUE=DATE:20251212
DTEND;VALUE=DATE:20251214
SUMMARY:ICTS 2025
DESCRIPTION:Theatre and Experiment. Reimagining the Performing Arts - Int
 ernational Conference of Theatre Studies
URL:http://www.wikicfp.com/cfp/servlet/event.showcfp?eventid=189962&copyo
 wnerid=157530
UID:cfp1021525-E@wikicfp.com
END:VEVENT
BEGIN:VEVENT
DTSTAMP:20260421T110144Z
DTSTART;VALUE=DATE:20251115
SUMMARY:ICTS 2025 Deadline
DESCRIPTION:Theatre and Experiment. Reimagining the Performing Arts - Int
 ernational Conference of Theatre Studies
URL:http://www.wikicfp.com/cfp/servlet/event.showcfp?eventid=189962&copyo
 wnerid=157530
UID:cfp1021525-D@wikicfp.com
END:VEVENT
BEGIN:VEVENT
DTSTAMP:20260421T110144Z
DTSTART;VALUE=DATE:20251120
SUMMARY:ICTS 2025 Notification Due
DESCRIPTION:Theatre and Experiment. Reimagining the Performing Arts - Int
 ernational Conference of Theatre Studies
URL:http://www.wikicfp.com/cfp/servlet/event.showcfp?eventid=189962&copyo
 wnerid=157530
UID:cfp1021525-N@wikicfp.com
END:VEVENT
BEGIN:VEVENT
DTSTAMP:20260421T110144Z
DTSTART;VALUE=DATE:20251212
SUMMARY:ICTS 2025 Final Version Due
DESCRIPTION:Theatre and Experiment. Reimagining the Performing Arts - Int
 ernational Conference of Theatre Studies
URL:http://www.wikicfp.com/cfp/servlet/event.showcfp?eventid=189962&copyo
 wnerid=157530
UID:cfp1021525-N@wikicfp.com
END:VEVENT
BEGIN:VEVENT
DTSTAMP:20260421T110144Z
DTSTART;VALUE=DATE:20260506
DTEND;VALUE=DATE:20260509
SUMMARY:ICAE 2026
DESCRIPTION:ART AND EDUCATION International Conference FROM SOUND TO SELF
  THROUGH INTERDISCIPLINARY EDUCATION
URL:http://www.wikicfp.com/cfp/servlet/event.showcfp?eventid=191335&copyo
 wnerid=157530
UID:cfp1025922-E@wikicfp.com
END:VEVENT
BEGIN:VEVENT
DTSTAMP:20260421T110144Z
DTSTART;VALUE=DATE:20260331
SUMMARY:ICAE 2026 Deadline
DESCRIPTION:ART AND EDUCATION International Conference FROM SOUND TO SELF
  THROUGH INTERDISCIPLINARY EDUCATION
URL:http://www.wikicfp.com/cfp/servlet/event.showcfp?eventid=191335&copyo
 wnerid=157530
UID:cfp1025922-D@wikicfp.com
END:VEVENT
END:VCALENDAR
