BEGIN:VCALENDAR
PRODID:-//WikiCFP//FFTG_TUM 1.0//EN
VERSION:2.0
CALSCALE:GREGORIAN
BEGIN:VEVENT
DTSTAMP:20260419T163349Z
DTSTART;VALUE=DATE:20200219
DTEND;VALUE=DATE:20200222
SUMMARY:Munich 2020
DESCRIPTION:Practicing Evidence â Evidencing Practice: How is (Scientif
 ic) Knowledge Validated\, Valued and Contested?
URL:http://www.wikicfp.com/cfp/servlet/event.showcfp?eventid=94230&copyow
 nerid=157324
UID:cfp804954-E@wikicfp.com
END:VEVENT
BEGIN:VEVENT
DTSTAMP:20260419T163349Z
DTSTART;VALUE=DATE:20191015
SUMMARY:Munich 2020 Deadline
DESCRIPTION:Practicing Evidence â Evidencing Practice: How is (Scientif
 ic) Knowledge Validated\, Valued and Contested?
URL:http://www.wikicfp.com/cfp/servlet/event.showcfp?eventid=94230&copyow
 nerid=157324
UID:cfp804954-D@wikicfp.com
END:VEVENT
END:VCALENDAR
