BEGIN:VCALENDAR
PRODID:-//WikiCFP//UbaldoPHD2019 1.0//EN
VERSION:2.0
CALSCALE:GREGORIAN
BEGIN:VEVENT
DTSTAMP:20260419T194155Z
DTSTART;VALUE=DATE:20190531
SUMMARY:IoT-SE_Book 2019 Abstract Due
DESCRIPTION:Internet of Things and Secure Smart Environments: Success and
  Pitfalls
URL:http://www.wikicfp.com/cfp/servlet/event.showcfp?eventid=86540&copyow
 nerid=156574
UID:cfp802143-A@wikicfp.com
END:VEVENT
BEGIN:VEVENT
DTSTAMP:20260419T194155Z
DTSTART;VALUE=DATE:20191031
SUMMARY:IoT-SE_Book 2019 Deadline
DESCRIPTION:Internet of Things and Secure Smart Environments: Success and
  Pitfalls
URL:http://www.wikicfp.com/cfp/servlet/event.showcfp?eventid=86540&copyow
 nerid=156574
UID:cfp802143-D@wikicfp.com
END:VEVENT
BEGIN:VEVENT
DTSTAMP:20260419T194155Z
DTSTART;VALUE=DATE:20191201
SUMMARY:IoT-SE_Book 2019 Notification Due
DESCRIPTION:Internet of Things and Secure Smart Environments: Success and
  Pitfalls
URL:http://www.wikicfp.com/cfp/servlet/event.showcfp?eventid=86540&copyow
 nerid=156574
UID:cfp802143-N@wikicfp.com
END:VEVENT
BEGIN:VEVENT
DTSTAMP:20260419T194155Z
DTSTART;VALUE=DATE:20200131
SUMMARY:IoT-SE_Book 2019 Final Version Due
DESCRIPTION:Internet of Things and Secure Smart Environments: Success and
  Pitfalls
URL:http://www.wikicfp.com/cfp/servlet/event.showcfp?eventid=86540&copyow
 nerid=156574
UID:cfp802143-N@wikicfp.com
END:VEVENT
BEGIN:VEVENT
DTSTAMP:20260419T194155Z
DTSTART;VALUE=DATE:20191220
DTEND;VALUE=DATE:20191224
SUMMARY:ICIT--ACM\, Ei\, Scopus 2019
DESCRIPTION:ACM--2019 The 7th International Conference on Information Tec
 hnology: IoT and Smart City (ICIT 2019)--Ei Compendex\, Scopus
URL:http://www.wikicfp.com/cfp/servlet/event.showcfp?eventid=87304&copyow
 nerid=156574
UID:cfp802144-E@wikicfp.com
END:VEVENT
BEGIN:VEVENT
DTSTAMP:20260419T194155Z
DTSTART;VALUE=DATE:20191105
SUMMARY:ICIT--ACM\, Ei\, Scopus 2019 Deadline
DESCRIPTION:ACM--2019 The 7th International Conference on Information Tec
 hnology: IoT and Smart City (ICIT 2019)--Ei Compendex\, Scopus
URL:http://www.wikicfp.com/cfp/servlet/event.showcfp?eventid=87304&copyow
 nerid=156574
UID:cfp802144-D@wikicfp.com
END:VEVENT
BEGIN:VEVENT
DTSTAMP:20260419T194155Z
DTSTART;VALUE=DATE:20200327
DTEND;VALUE=DATE:20200328
SUMMARY:DUCSAN 2020
DESCRIPTION:The First International Workshop on Distributed Ubiquitous Co
 mputing: Systems\, Applications\, and Networking (DUCSAN 2020)
URL:http://www.wikicfp.com/cfp/servlet/event.showcfp?eventid=92912&copyow
 nerid=156574
UID:cfp802157-E@wikicfp.com
END:VEVENT
BEGIN:VEVENT
DTSTAMP:20260419T194155Z
DTSTART;VALUE=DATE:20191111
SUMMARY:DUCSAN 2020 Deadline
DESCRIPTION:The First International Workshop on Distributed Ubiquitous Co
 mputing: Systems\, Applications\, and Networking (DUCSAN 2020)
URL:http://www.wikicfp.com/cfp/servlet/event.showcfp?eventid=92912&copyow
 nerid=156574
UID:cfp802157-D@wikicfp.com
END:VEVENT
BEGIN:VEVENT
DTSTAMP:20260419T194155Z
DTSTART;VALUE=DATE:20191220
SUMMARY:DUCSAN 2020 Notification Due
DESCRIPTION:The First International Workshop on Distributed Ubiquitous Co
 mputing: Systems\, Applications\, and Networking (DUCSAN 2020)
URL:http://www.wikicfp.com/cfp/servlet/event.showcfp?eventid=92912&copyow
 nerid=156574
UID:cfp802157-N@wikicfp.com
END:VEVENT
BEGIN:VEVENT
DTSTAMP:20260419T194155Z
DTSTART;VALUE=DATE:20200131
SUMMARY:DUCSAN 2020 Final Version Due
DESCRIPTION:The First International Workshop on Distributed Ubiquitous Co
 mputing: Systems\, Applications\, and Networking (DUCSAN 2020)
URL:http://www.wikicfp.com/cfp/servlet/event.showcfp?eventid=92912&copyow
 nerid=156574
UID:cfp802157-N@wikicfp.com
END:VEVENT
BEGIN:VEVENT
DTSTAMP:20260419T194155Z
DTSTART;VALUE=DATE:20200414
DTEND;VALUE=DATE:20200417
SUMMARY:IEEE MobileCloud 2020
DESCRIPTION:the 8th IEEE International Conference on Mobile Cloud Computi
 ng
URL:http://www.wikicfp.com/cfp/servlet/event.showcfp?eventid=93041&copyow
 nerid=156574
UID:cfp802159-E@wikicfp.com
END:VEVENT
BEGIN:VEVENT
DTSTAMP:20260419T194155Z
DTSTART;VALUE=DATE:20191201
SUMMARY:IEEE MobileCloud 2020 Deadline
DESCRIPTION:the 8th IEEE International Conference on Mobile Cloud Computi
 ng
URL:http://www.wikicfp.com/cfp/servlet/event.showcfp?eventid=93041&copyow
 nerid=156574
UID:cfp802159-D@wikicfp.com
END:VEVENT
BEGIN:VEVENT
DTSTAMP:20260419T194155Z
DTSTART;VALUE=DATE:20200115
SUMMARY:IEEE MobileCloud 2020 Notification Due
DESCRIPTION:the 8th IEEE International Conference on Mobile Cloud Computi
 ng
URL:http://www.wikicfp.com/cfp/servlet/event.showcfp?eventid=93041&copyow
 nerid=156574
UID:cfp802159-N@wikicfp.com
END:VEVENT
BEGIN:VEVENT
DTSTAMP:20260419T194155Z
DTSTART;VALUE=DATE:20200131
SUMMARY:IEEE MobileCloud 2020 Final Version Due
DESCRIPTION:the 8th IEEE International Conference on Mobile Cloud Computi
 ng
URL:http://www.wikicfp.com/cfp/servlet/event.showcfp?eventid=93041&copyow
 nerid=156574
UID:cfp802159-N@wikicfp.com
END:VEVENT
BEGIN:VEVENT
DTSTAMP:20260419T194155Z
DTSTART;VALUE=DATE:20200629
DTEND;VALUE=DATE:20200704
SUMMARY:NetSoft 2020
DESCRIPTION:IEEE Conference on Network Softwarization 2020
URL:http://www.wikicfp.com/cfp/servlet/event.showcfp?eventid=90916&copyow
 nerid=156574
UID:cfp802152-E@wikicfp.com
END:VEVENT
BEGIN:VEVENT
DTSTAMP:20260419T194155Z
DTSTART;VALUE=DATE:20191202
SUMMARY:NetSoft 2020 Deadline
DESCRIPTION:IEEE Conference on Network Softwarization 2020
URL:http://www.wikicfp.com/cfp/servlet/event.showcfp?eventid=90916&copyow
 nerid=156574
UID:cfp802152-D@wikicfp.com
END:VEVENT
BEGIN:VEVENT
DTSTAMP:20260419T194155Z
DTSTART;VALUE=DATE:20200309
SUMMARY:NetSoft 2020 Notification Due
DESCRIPTION:IEEE Conference on Network Softwarization 2020
URL:http://www.wikicfp.com/cfp/servlet/event.showcfp?eventid=90916&copyow
 nerid=156574
UID:cfp802152-N@wikicfp.com
END:VEVENT
BEGIN:VEVENT
DTSTAMP:20260419T194155Z
DTSTART;VALUE=DATE:20200406
SUMMARY:NetSoft 2020 Final Version Due
DESCRIPTION:IEEE Conference on Network Softwarization 2020
URL:http://www.wikicfp.com/cfp/servlet/event.showcfp?eventid=90916&copyow
 nerid=156574
UID:cfp802152-N@wikicfp.com
END:VEVENT
BEGIN:VEVENT
DTSTAMP:20260419T194155Z
DTSTART;VALUE=DATE:20200511
DTEND;VALUE=DATE:20200515
SUMMARY:CCGRID 2020
DESCRIPTION:20th IEEE/ACM International Symposium on Cluster\, Cloud and 
 Internet Computing
URL:http://www.wikicfp.com/cfp/servlet/event.showcfp?eventid=90790&copyow
 nerid=156574
UID:cfp802160-E@wikicfp.com
END:VEVENT
BEGIN:VEVENT
DTSTAMP:20260419T194155Z
DTSTART;VALUE=DATE:20191210
SUMMARY:CCGRID 2020 Deadline
DESCRIPTION:20th IEEE/ACM International Symposium on Cluster\, Cloud and 
 Internet Computing
URL:http://www.wikicfp.com/cfp/servlet/event.showcfp?eventid=90790&copyow
 nerid=156574
UID:cfp802160-D@wikicfp.com
END:VEVENT
BEGIN:VEVENT
DTSTAMP:20260419T194155Z
DTSTART;VALUE=DATE:20200515
DTEND;VALUE=DATE:20200518
SUMMARY:ITIOT--Ei Compendex\, Scopus 2020
DESCRIPTION:2020 The International Conference on Information Technology a
 nd Internet of Things (ITIOT 2020)--Ei Compendex\, Scopus
URL:http://www.wikicfp.com/cfp/servlet/event.showcfp?eventid=90810&copyow
 nerid=156574
UID:cfp802149-E@wikicfp.com
END:VEVENT
BEGIN:VEVENT
DTSTAMP:20260419T194155Z
DTSTART;VALUE=DATE:20191225
SUMMARY:ITIOT--Ei Compendex\, Scopus 2020 Deadline
DESCRIPTION:2020 The International Conference on Information Technology a
 nd Internet of Things (ITIOT 2020)--Ei Compendex\, Scopus
URL:http://www.wikicfp.com/cfp/servlet/event.showcfp?eventid=90810&copyow
 nerid=156574
UID:cfp802149-D@wikicfp.com
END:VEVENT
BEGIN:VEVENT
DTSTAMP:20260419T194155Z
DTSTART;VALUE=DATE:20200623
DTEND;VALUE=DATE:20200626
SUMMARY:NETWORKING 2020
DESCRIPTION:The International Federation for Information Processing (IFIP
 ) Networking 2020 Conference 
URL:http://www.wikicfp.com/cfp/servlet/event.showcfp?eventid=92261&copyow
 nerid=156574
UID:cfp802156-E@wikicfp.com
END:VEVENT
BEGIN:VEVENT
DTSTAMP:20260419T194155Z
DTSTART;VALUE=DATE:20191231
SUMMARY:NETWORKING 2020 Abstract Due
DESCRIPTION:The International Federation for Information Processing (IFIP
 ) Networking 2020 Conference 
URL:http://www.wikicfp.com/cfp/servlet/event.showcfp?eventid=92261&copyow
 nerid=156574
UID:cfp802156-A@wikicfp.com
END:VEVENT
BEGIN:VEVENT
DTSTAMP:20260419T194155Z
DTSTART;VALUE=DATE:20200107
SUMMARY:NETWORKING 2020 Deadline
DESCRIPTION:The International Federation for Information Processing (IFIP
 ) Networking 2020 Conference 
URL:http://www.wikicfp.com/cfp/servlet/event.showcfp?eventid=92261&copyow
 nerid=156574
UID:cfp802156-D@wikicfp.com
END:VEVENT
BEGIN:VEVENT
DTSTAMP:20260419T194155Z
DTSTART;VALUE=DATE:20200401
SUMMARY:NETWORKING 2020 Notification Due
DESCRIPTION:The International Federation for Information Processing (IFIP
 ) Networking 2020 Conference 
URL:http://www.wikicfp.com/cfp/servlet/event.showcfp?eventid=92261&copyow
 nerid=156574
UID:cfp802156-N@wikicfp.com
END:VEVENT
BEGIN:VEVENT
DTSTAMP:20260419T194155Z
DTSTART;VALUE=DATE:20200507
SUMMARY:NETWORKING 2020 Final Version Due
DESCRIPTION:The International Federation for Information Processing (IFIP
 ) Networking 2020 Conference 
URL:http://www.wikicfp.com/cfp/servlet/event.showcfp?eventid=92261&copyow
 nerid=156574
UID:cfp802156-N@wikicfp.com
END:VEVENT
BEGIN:VEVENT
DTSTAMP:20260419T194155Z
DTSTART;VALUE=DATE:20200319
DTEND;VALUE=DATE:20200323
SUMMARY:CTCCC--Scopus and Ei Compendex 2020
DESCRIPTION:2020 Communication Technologies and Cloud Computing Conferenc
 e (CTCCC 2020)--Scopus and Ei Compendex
URL:http://www.wikicfp.com/cfp/servlet/event.showcfp?eventid=92681&copyow
 nerid=156574
UID:cfp802155-E@wikicfp.com
END:VEVENT
BEGIN:VEVENT
DTSTAMP:20260419T194155Z
DTSTART;VALUE=DATE:20200120
SUMMARY:CTCCC--Scopus and Ei Compendex 2020 Deadline
DESCRIPTION:2020 Communication Technologies and Cloud Computing Conferenc
 e (CTCCC 2020)--Scopus and Ei Compendex
URL:http://www.wikicfp.com/cfp/servlet/event.showcfp?eventid=92681&copyow
 nerid=156574
UID:cfp802155-D@wikicfp.com
END:VEVENT
BEGIN:VEVENT
DTSTAMP:20260419T194155Z
DTSTART;VALUE=DATE:20200520
DTEND;VALUE=DATE:20200523
SUMMARY:ICINT--Ei Compendex & Scopus 2020
DESCRIPTION:2020 5th International Conference on Information and Network 
 Technologies (ICINT 2020)--Ei Compendex & Scopus
URL:http://www.wikicfp.com/cfp/servlet/event.showcfp?eventid=92226&copyow
 nerid=156574
UID:cfp802158-E@wikicfp.com
END:VEVENT
BEGIN:VEVENT
DTSTAMP:20260419T194155Z
DTSTART;VALUE=DATE:20200330
SUMMARY:ICINT--Ei Compendex & Scopus 2020 Deadline
DESCRIPTION:2020 5th International Conference on Information and Network 
 Technologies (ICINT 2020)--Ei Compendex & Scopus
URL:http://www.wikicfp.com/cfp/servlet/event.showcfp?eventid=92226&copyow
 nerid=156574
UID:cfp802158-D@wikicfp.com
END:VEVENT
BEGIN:VEVENT
DTSTAMP:20260419T194155Z
DTSTART;VALUE=DATE:20200610
DTEND;VALUE=DATE:20200613
SUMMARY:ICCNP--JA\, Scopus 2020
DESCRIPTION:2020 3rd International Conference on Communication and Networ
 k Protocol (ICCNP 2020)--JA\, SCOPUS
URL:http://www.wikicfp.com/cfp/servlet/event.showcfp?eventid=93190&copyow
 nerid=156574
UID:cfp802153-E@wikicfp.com
END:VEVENT
BEGIN:VEVENT
DTSTAMP:20260419T194155Z
DTSTART;VALUE=DATE:20200420
SUMMARY:ICCNP--JA\, Scopus 2020 Deadline
DESCRIPTION:2020 3rd International Conference on Communication and Networ
 k Protocol (ICCNP 2020)--JA\, SCOPUS
URL:http://www.wikicfp.com/cfp/servlet/event.showcfp?eventid=93190&copyow
 nerid=156574
UID:cfp802153-D@wikicfp.com
END:VEVENT
BEGIN:VEVENT
DTSTAMP:20260419T194155Z
DTSTART;VALUE=DATE:20200626
DTEND;VALUE=DATE:20200630
SUMMARY:ICCCI--IEEE\, Ei & Scopus 2020
DESCRIPTION:IEEE--2020 The 2nd International Conference on Computer Commu
 nication and the Internet (ICCCI 2020)--Ei Compendex & Scopus
URL:http://www.wikicfp.com/cfp/servlet/event.showcfp?eventid=90787&copyow
 nerid=156574
UID:cfp802148-E@wikicfp.com
END:VEVENT
BEGIN:VEVENT
DTSTAMP:20260419T194155Z
DTSTART;VALUE=DATE:20200505
SUMMARY:ICCCI--IEEE\, Ei & Scopus 2020 Deadline
DESCRIPTION:IEEE--2020 The 2nd International Conference on Computer Commu
 nication and the Internet (ICCCI 2020)--Ei Compendex & Scopus
URL:http://www.wikicfp.com/cfp/servlet/event.showcfp?eventid=90787&copyow
 nerid=156574
UID:cfp802148-D@wikicfp.com
END:VEVENT
BEGIN:VEVENT
DTSTAMP:20260419T194155Z
DTSTART;VALUE=DATE:20200701
DTEND;VALUE=DATE:20200704
SUMMARY:ICMECG--ACM\, Ei\, Scopus 2020
DESCRIPTION:ACM--2020 International Conference on Management of e-Commerc
 e and e-Government (ICMECG 2020)--Ei Compendex\, Scopus
URL:http://www.wikicfp.com/cfp/servlet/event.showcfp?eventid=92669&copyow
 nerid=156574
UID:cfp802151-E@wikicfp.com
END:VEVENT
BEGIN:VEVENT
DTSTAMP:20260419T194155Z
DTSTART;VALUE=DATE:20200601
SUMMARY:ICMECG--ACM\, Ei\, Scopus 2020 Deadline
DESCRIPTION:ACM--2020 International Conference on Management of e-Commerc
 e and e-Government (ICMECG 2020)--Ei Compendex\, Scopus
URL:http://www.wikicfp.com/cfp/servlet/event.showcfp?eventid=92669&copyow
 nerid=156574
UID:cfp802151-D@wikicfp.com
END:VEVENT
BEGIN:VEVENT
DTSTAMP:20260419T194155Z
DTSTART;VALUE=DATE:20201111
DTEND;VALUE=DATE:20201114
SUMMARY:ICNT--Ei and Scopus 2020
DESCRIPTION:2020 3rd International Conference on Network Technology (ICNT
  2020)--Ei Compendex\, Scopus
URL:http://www.wikicfp.com/cfp/servlet/event.showcfp?eventid=90777&copyow
 nerid=156574
UID:cfp802146-E@wikicfp.com
END:VEVENT
BEGIN:VEVENT
DTSTAMP:20260419T194155Z
DTSTART;VALUE=DATE:20200715
SUMMARY:ICNT--Ei and Scopus 2020 Deadline
DESCRIPTION:2020 3rd International Conference on Network Technology (ICNT
  2020)--Ei Compendex\, Scopus
URL:http://www.wikicfp.com/cfp/servlet/event.showcfp?eventid=90777&copyow
 nerid=156574
UID:cfp802146-D@wikicfp.com
END:VEVENT
BEGIN:VEVENT
DTSTAMP:20260419T194155Z
DTSTART;VALUE=DATE:20201111
DTEND;VALUE=DATE:20201114
SUMMARY:ICSIE--ACM\, Ei Compendex\, Scopus 2020
DESCRIPTION:2020 9th International Conference on Software and Information
  Engineering (ICSIE 2020)--ACM\, Ei Compendex\, Scopus
URL:http://www.wikicfp.com/cfp/servlet/event.showcfp?eventid=90779&copyow
 nerid=156574
UID:cfp802147-E@wikicfp.com
END:VEVENT
BEGIN:VEVENT
DTSTAMP:20260419T194155Z
DTSTART;VALUE=DATE:20200715
SUMMARY:ICSIE--ACM\, Ei Compendex\, Scopus 2020 Deadline
DESCRIPTION:2020 9th International Conference on Software and Information
  Engineering (ICSIE 2020)--ACM\, Ei Compendex\, Scopus
URL:http://www.wikicfp.com/cfp/servlet/event.showcfp?eventid=90779&copyow
 nerid=156574
UID:cfp802147-D@wikicfp.com
END:VEVENT
BEGIN:VEVENT
DTSTAMP:20260419T194155Z
DTSTART;VALUE=DATE:20230526
DTEND;VALUE=DATE:20230529
SUMMARY:ICoIV 2023- Ei Compendex & Scopus 2023
DESCRIPTION:2023 International Conference on Intelligent Vehicles (ICoIV 
 2023)
URL:http://www.wikicfp.com/cfp/servlet/event.showcfp?eventid=86355&copyow
 nerid=156574
UID:cfp802154-E@wikicfp.com
END:VEVENT
BEGIN:VEVENT
DTSTAMP:20260419T194155Z
DTSTART;VALUE=DATE:20230426
SUMMARY:ICoIV 2023- Ei Compendex & Scopus 2023 Deadline
DESCRIPTION:2023 International Conference on Intelligent Vehicles (ICoIV 
 2023)
URL:http://www.wikicfp.com/cfp/servlet/event.showcfp?eventid=86355&copyow
 nerid=156574
UID:cfp802154-D@wikicfp.com
END:VEVENT
BEGIN:VEVENT
DTSTAMP:20260419T194155Z
DTSTART;VALUE=DATE:20230426
SUMMARY:ICoIV 2023- Ei Compendex & Scopus 2023 Notification Due
DESCRIPTION:2023 International Conference on Intelligent Vehicles (ICoIV 
 2023)
URL:http://www.wikicfp.com/cfp/servlet/event.showcfp?eventid=86355&copyow
 nerid=156574
UID:cfp802154-N@wikicfp.com
END:VEVENT
BEGIN:VEVENT
DTSTAMP:20260419T194155Z
DTSTART;VALUE=DATE:20230426
SUMMARY:ICoIV 2023- Ei Compendex & Scopus 2023 Final Version Due
DESCRIPTION:2023 International Conference on Intelligent Vehicles (ICoIV 
 2023)
URL:http://www.wikicfp.com/cfp/servlet/event.showcfp?eventid=86355&copyow
 nerid=156574
UID:cfp802154-N@wikicfp.com
END:VEVENT
END:VCALENDAR
