BEGIN:VCALENDAR
PRODID:-//WikiCFP//bchenglagsow 1.0//EN
VERSION:2.0
CALSCALE:GREGORIAN
BEGIN:VEVENT
DTSTAMP:20260420T080854Z
DTSTART;VALUE=DATE:20191005
DTEND;VALUE=DATE:20191009
SUMMARY:DSAA 2019
DESCRIPTION:The 6th IEEE International Conference on Data Science and Adv
 anced Analytics (DSAA 2019)
URL:http://www.wikicfp.com/cfp/servlet/event.showcfp?eventid=84860&copyow
 nerid=156050
UID:cfp800707-E@wikicfp.com
END:VEVENT
BEGIN:VEVENT
DTSTAMP:20260420T080854Z
DTSTART;VALUE=DATE:20190520
SUMMARY:DSAA 2019 Deadline
DESCRIPTION:The 6th IEEE International Conference on Data Science and Adv
 anced Analytics (DSAA 2019)
URL:http://www.wikicfp.com/cfp/servlet/event.showcfp?eventid=84860&copyow
 nerid=156050
UID:cfp800707-D@wikicfp.com
END:VEVENT
BEGIN:VEVENT
DTSTAMP:20260420T080854Z
DTSTART;VALUE=DATE:20190725
SUMMARY:DSAA 2019 Notification Due
DESCRIPTION:The 6th IEEE International Conference on Data Science and Adv
 anced Analytics (DSAA 2019)
URL:http://www.wikicfp.com/cfp/servlet/event.showcfp?eventid=84860&copyow
 nerid=156050
UID:cfp800707-N@wikicfp.com
END:VEVENT
BEGIN:VEVENT
DTSTAMP:20260420T080854Z
DTSTART;VALUE=DATE:20190808
SUMMARY:DSAA 2019 Final Version Due
DESCRIPTION:The 6th IEEE International Conference on Data Science and Adv
 anced Analytics (DSAA 2019)
URL:http://www.wikicfp.com/cfp/servlet/event.showcfp?eventid=84860&copyow
 nerid=156050
UID:cfp800707-N@wikicfp.com
END:VEVENT
BEGIN:VEVENT
DTSTAMP:20260420T080854Z
DTSTART;VALUE=DATE:20191210
DTEND;VALUE=DATE:20191213
SUMMARY:NIPS 2019
DESCRIPTION:Thirty-third Conference on Neural Information Processing Syst
 ems
URL:http://www.wikicfp.com/cfp/servlet/event.showcfp?eventid=86927&copyow
 nerid=156050
UID:cfp800708-E@wikicfp.com
END:VEVENT
BEGIN:VEVENT
DTSTAMP:20260420T080854Z
DTSTART;VALUE=DATE:20190516
SUMMARY:NIPS 2019 Abstract Due
DESCRIPTION:Thirty-third Conference on Neural Information Processing Syst
 ems
URL:http://www.wikicfp.com/cfp/servlet/event.showcfp?eventid=86927&copyow
 nerid=156050
UID:cfp800708-A@wikicfp.com
END:VEVENT
BEGIN:VEVENT
DTSTAMP:20260420T080854Z
DTSTART;VALUE=DATE:20190523
SUMMARY:NIPS 2019 Deadline
DESCRIPTION:Thirty-third Conference on Neural Information Processing Syst
 ems
URL:http://www.wikicfp.com/cfp/servlet/event.showcfp?eventid=86927&copyow
 nerid=156050
UID:cfp800708-D@wikicfp.com
END:VEVENT
BEGIN:VEVENT
DTSTAMP:20260420T080854Z
DTSTART;VALUE=DATE:20190904
SUMMARY:NIPS 2019 Notification Due
DESCRIPTION:Thirty-third Conference on Neural Information Processing Syst
 ems
URL:http://www.wikicfp.com/cfp/servlet/event.showcfp?eventid=86927&copyow
 nerid=156050
UID:cfp800708-N@wikicfp.com
END:VEVENT
BEGIN:VEVENT
DTSTAMP:20260420T080854Z
DTSTART;VALUE=DATE:20200207
DTEND;VALUE=DATE:20200213
SUMMARY:AAAI 2020
DESCRIPTION:The Thirty-Fourth AAAI Conference on Artificial Intelligence
URL:http://www.wikicfp.com/cfp/servlet/event.showcfp?eventid=90881&copyow
 nerid=156050
UID:cfp800704-E@wikicfp.com
END:VEVENT
BEGIN:VEVENT
DTSTAMP:20260420T080854Z
DTSTART;VALUE=DATE:20190830
SUMMARY:AAAI 2020 Abstract Due
DESCRIPTION:The Thirty-Fourth AAAI Conference on Artificial Intelligence
URL:http://www.wikicfp.com/cfp/servlet/event.showcfp?eventid=90881&copyow
 nerid=156050
UID:cfp800704-A@wikicfp.com
END:VEVENT
BEGIN:VEVENT
DTSTAMP:20260420T080854Z
DTSTART;VALUE=DATE:20190905
SUMMARY:AAAI 2020 Deadline
DESCRIPTION:The Thirty-Fourth AAAI Conference on Artificial Intelligence
URL:http://www.wikicfp.com/cfp/servlet/event.showcfp?eventid=90881&copyow
 nerid=156050
UID:cfp800704-D@wikicfp.com
END:VEVENT
BEGIN:VEVENT
DTSTAMP:20260420T080854Z
DTSTART;VALUE=DATE:20191110
SUMMARY:AAAI 2020 Notification Due
DESCRIPTION:The Thirty-Fourth AAAI Conference on Artificial Intelligence
URL:http://www.wikicfp.com/cfp/servlet/event.showcfp?eventid=90881&copyow
 nerid=156050
UID:cfp800704-N@wikicfp.com
END:VEVENT
BEGIN:VEVENT
DTSTAMP:20260420T080854Z
DTSTART;VALUE=DATE:20191121
SUMMARY:AAAI 2020 Final Version Due
DESCRIPTION:The Thirty-Fourth AAAI Conference on Artificial Intelligence
URL:http://www.wikicfp.com/cfp/servlet/event.showcfp?eventid=90881&copyow
 nerid=156050
UID:cfp800704-N@wikicfp.com
END:VEVENT
BEGIN:VEVENT
DTSTAMP:20260420T080854Z
DTSTART;VALUE=DATE:20191209
DTEND;VALUE=DATE:20191213
SUMMARY:FL - IEEE BigData 2019
DESCRIPTION:IEEE BigData 2019 - Special Track on Federated Machine Learni
 ng
URL:http://www.wikicfp.com/cfp/servlet/event.showcfp?eventid=88571&copyow
 nerid=156050
UID:cfp800706-E@wikicfp.com
END:VEVENT
BEGIN:VEVENT
DTSTAMP:20260420T080854Z
DTSTART;VALUE=DATE:20190915
SUMMARY:FL - IEEE BigData 2019 Deadline
DESCRIPTION:IEEE BigData 2019 - Special Track on Federated Machine Learni
 ng
URL:http://www.wikicfp.com/cfp/servlet/event.showcfp?eventid=88571&copyow
 nerid=156050
UID:cfp800706-D@wikicfp.com
END:VEVENT
BEGIN:VEVENT
DTSTAMP:20260420T080854Z
DTSTART;VALUE=DATE:20191016
SUMMARY:FL - IEEE BigData 2019 Notification Due
DESCRIPTION:IEEE BigData 2019 - Special Track on Federated Machine Learni
 ng
URL:http://www.wikicfp.com/cfp/servlet/event.showcfp?eventid=88571&copyow
 nerid=156050
UID:cfp800706-N@wikicfp.com
END:VEVENT
BEGIN:VEVENT
DTSTAMP:20260420T080854Z
DTSTART;VALUE=DATE:20191110
SUMMARY:FL - IEEE BigData 2019 Final Version Due
DESCRIPTION:IEEE BigData 2019 - Special Track on Federated Machine Learni
 ng
URL:http://www.wikicfp.com/cfp/servlet/event.showcfp?eventid=88571&copyow
 nerid=156050
UID:cfp800706-N@wikicfp.com
END:VEVENT
BEGIN:VEVENT
DTSTAMP:20260420T080854Z
DTSTART;VALUE=DATE:20200420
DTEND;VALUE=DATE:20200426
SUMMARY:WWW 2020
DESCRIPTION:The Web Conference
URL:http://www.wikicfp.com/cfp/servlet/event.showcfp?eventid=90054&copyow
 nerid=156050
UID:cfp800705-E@wikicfp.com
END:VEVENT
BEGIN:VEVENT
DTSTAMP:20260420T080854Z
DTSTART;VALUE=DATE:20191007
SUMMARY:WWW 2020 Abstract Due
DESCRIPTION:The Web Conference
URL:http://www.wikicfp.com/cfp/servlet/event.showcfp?eventid=90054&copyow
 nerid=156050
UID:cfp800705-A@wikicfp.com
END:VEVENT
BEGIN:VEVENT
DTSTAMP:20260420T080854Z
DTSTART;VALUE=DATE:20191014
SUMMARY:WWW 2020 Deadline
DESCRIPTION:The Web Conference
URL:http://www.wikicfp.com/cfp/servlet/event.showcfp?eventid=90054&copyow
 nerid=156050
UID:cfp800705-D@wikicfp.com
END:VEVENT
BEGIN:VEVENT
DTSTAMP:20260420T080854Z
DTSTART;VALUE=DATE:20200110
SUMMARY:WWW 2020 Notification Due
DESCRIPTION:The Web Conference
URL:http://www.wikicfp.com/cfp/servlet/event.showcfp?eventid=90054&copyow
 nerid=156050
UID:cfp800705-N@wikicfp.com
END:VEVENT
END:VCALENDAR
