BEGIN:VCALENDAR
PRODID:-//WikiCFP//firdevs 1.0//EN
VERSION:2.0
CALSCALE:GREGORIAN
BEGIN:VEVENT
DTSTAMP:20260423T040237Z
DTSTART;VALUE=DATE:20191020
SUMMARY:HB 2019 Deadline
DESCRIPTION:Humanities Bulletin Vol.2\, No.2 November 2019
URL:http://www.wikicfp.com/cfp/servlet/event.showcfp?eventid=90950&copyow
 nerid=155840
UID:cfp800257-D@wikicfp.com
END:VEVENT
BEGIN:VEVENT
DTSTAMP:20260423T040237Z
DTSTART;VALUE=DATE:20191020
SUMMARY:HB 2019 Notification Due
DESCRIPTION:Humanities Bulletin Vol.2\, No.2 November 2019
URL:http://www.wikicfp.com/cfp/servlet/event.showcfp?eventid=90950&copyow
 nerid=155840
UID:cfp800257-N@wikicfp.com
END:VEVENT
BEGIN:VEVENT
DTSTAMP:20260423T040237Z
DTSTART;VALUE=DATE:20191120
SUMMARY:HB 2019 Final Version Due
DESCRIPTION:Humanities Bulletin Vol.2\, No.2 November 2019
URL:http://www.wikicfp.com/cfp/servlet/event.showcfp?eventid=90950&copyow
 nerid=155840
UID:cfp800257-N@wikicfp.com
END:VEVENT
END:VCALENDAR
