BEGIN:VCALENDAR
PRODID:-//WikiCFP//flkvrdr 1.0//EN
VERSION:2.0
CALSCALE:GREGORIAN
BEGIN:VEVENT
DTSTAMP:20260422T052312Z
DTSTART;VALUE=DATE:20200625
DTEND;VALUE=DATE:20200626
SUMMARY:ECCWS 2020
DESCRIPTION:19th European Conference on Cyber Warfare and Security
URL:http://www.wikicfp.com/cfp/servlet/event.showcfp?eventid=91953&copyow
 nerid=155773
UID:cfp800163-E@wikicfp.com
END:VEVENT
BEGIN:VEVENT
DTSTAMP:20260422T052312Z
DTSTART;VALUE=DATE:20191204
SUMMARY:ECCWS 2020 Deadline
DESCRIPTION:19th European Conference on Cyber Warfare and Security
URL:http://www.wikicfp.com/cfp/servlet/event.showcfp?eventid=91953&copyow
 nerid=155773
UID:cfp800163-D@wikicfp.com
END:VEVENT
BEGIN:VEVENT
DTSTAMP:20260422T052312Z
DTSTART;VALUE=DATE:20191213
SUMMARY:ECCWS 2020 Notification Due
DESCRIPTION:19th European Conference on Cyber Warfare and Security
URL:http://www.wikicfp.com/cfp/servlet/event.showcfp?eventid=91953&copyow
 nerid=155773
UID:cfp800163-N@wikicfp.com
END:VEVENT
BEGIN:VEVENT
DTSTAMP:20260422T052312Z
DTSTART;VALUE=DATE:20200123
SUMMARY:ECCWS 2020 Final Version Due
DESCRIPTION:19th European Conference on Cyber Warfare and Security
URL:http://www.wikicfp.com/cfp/servlet/event.showcfp?eventid=91953&copyow
 nerid=155773
UID:cfp800163-N@wikicfp.com
END:VEVENT
END:VCALENDAR
