BEGIN:VCALENDAR
PRODID:-//WikiCFP//tommyqichang 1.0//EN
VERSION:2.0
CALSCALE:GREGORIAN
BEGIN:VEVENT
DTSTAMP:20260424T020107Z
DTSTART;VALUE=DATE:20190615
DTEND;VALUE=DATE:20190622
SUMMARY:CVPR 2019
DESCRIPTION:Computer Vision and Pattern Recognition
URL:http://www.wikicfp.com/cfp/servlet/event.showcfp?eventid=78951&copyow
 nerid=154476
UID:cfp796660-E@wikicfp.com
END:VEVENT
BEGIN:VEVENT
DTSTAMP:20260424T020107Z
DTSTART;VALUE=DATE:20181116
SUMMARY:CVPR 2019 Deadline
DESCRIPTION:Computer Vision and Pattern Recognition
URL:http://www.wikicfp.com/cfp/servlet/event.showcfp?eventid=78951&copyow
 nerid=154476
UID:cfp796660-D@wikicfp.com
END:VEVENT
BEGIN:VEVENT
DTSTAMP:20260424T020107Z
DTSTART;VALUE=DATE:20190302
SUMMARY:CVPR 2019 Notification Due
DESCRIPTION:Computer Vision and Pattern Recognition
URL:http://www.wikicfp.com/cfp/servlet/event.showcfp?eventid=78951&copyow
 nerid=154476
UID:cfp796660-N@wikicfp.com
END:VEVENT
BEGIN:VEVENT
DTSTAMP:20260424T020107Z
DTSTART;VALUE=DATE:20191027
DTEND;VALUE=DATE:20191104
SUMMARY:ICCV 2019
DESCRIPTION:International Conference on Computer Vision
URL:http://www.wikicfp.com/cfp/servlet/event.showcfp?eventid=79303&copyow
 nerid=154476
UID:cfp796661-E@wikicfp.com
END:VEVENT
BEGIN:VEVENT
DTSTAMP:20260424T020107Z
DTSTART;VALUE=DATE:20190301
SUMMARY:ICCV 2019 Deadline
DESCRIPTION:International Conference on Computer Vision
URL:http://www.wikicfp.com/cfp/servlet/event.showcfp?eventid=79303&copyow
 nerid=154476
UID:cfp796661-D@wikicfp.com
END:VEVENT
BEGIN:VEVENT
DTSTAMP:20260424T020107Z
DTSTART;VALUE=DATE:20191013
DTEND;VALUE=DATE:20191018
SUMMARY:MICCAI 2019
DESCRIPTION: 22nd International Conference on Medical Image Computing and
  Computer Assisted Intervention
URL:http://www.wikicfp.com/cfp/servlet/event.showcfp?eventid=86468&copyow
 nerid=154476
UID:cfp796662-E@wikicfp.com
END:VEVENT
BEGIN:VEVENT
DTSTAMP:20260424T020107Z
DTSTART;VALUE=DATE:20190319
SUMMARY:MICCAI 2019 Abstract Due
DESCRIPTION: 22nd International Conference on Medical Image Computing and
  Computer Assisted Intervention
URL:http://www.wikicfp.com/cfp/servlet/event.showcfp?eventid=86468&copyow
 nerid=154476
UID:cfp796662-A@wikicfp.com
END:VEVENT
BEGIN:VEVENT
DTSTAMP:20260424T020107Z
DTSTART;VALUE=DATE:20190402
SUMMARY:MICCAI 2019 Deadline
DESCRIPTION: 22nd International Conference on Medical Image Computing and
  Computer Assisted Intervention
URL:http://www.wikicfp.com/cfp/servlet/event.showcfp?eventid=86468&copyow
 nerid=154476
UID:cfp796662-D@wikicfp.com
END:VEVENT
BEGIN:VEVENT
DTSTAMP:20260424T020107Z
DTSTART;VALUE=DATE:20190725
SUMMARY:MICCAI 2019 Final Version Due
DESCRIPTION: 22nd International Conference on Medical Image Computing and
  Computer Assisted Intervention
URL:http://www.wikicfp.com/cfp/servlet/event.showcfp?eventid=86468&copyow
 nerid=154476
UID:cfp796662-N@wikicfp.com
END:VEVENT
BEGIN:VEVENT
DTSTAMP:20260424T020107Z
DTSTART;VALUE=DATE:20190925
DTEND;VALUE=DATE:20190928
SUMMARY:GC 2019
DESCRIPTION:Graph Computing 2019
URL:http://www.wikicfp.com/cfp/servlet/event.showcfp?eventid=83456&copyow
 nerid=154476
UID:cfp796643-E@wikicfp.com
END:VEVENT
BEGIN:VEVENT
DTSTAMP:20260424T020107Z
DTSTART;VALUE=DATE:20190722
SUMMARY:GC 2019 Deadline
DESCRIPTION:Graph Computing 2019
URL:http://www.wikicfp.com/cfp/servlet/event.showcfp?eventid=83456&copyow
 nerid=154476
UID:cfp796643-D@wikicfp.com
END:VEVENT
BEGIN:VEVENT
DTSTAMP:20260424T020107Z
DTSTART;VALUE=DATE:20190812
SUMMARY:GC 2019 Notification Due
DESCRIPTION:Graph Computing 2019
URL:http://www.wikicfp.com/cfp/servlet/event.showcfp?eventid=83456&copyow
 nerid=154476
UID:cfp796643-N@wikicfp.com
END:VEVENT
BEGIN:VEVENT
DTSTAMP:20260424T020107Z
DTSTART;VALUE=DATE:20190826
SUMMARY:GC 2019 Final Version Due
DESCRIPTION:Graph Computing 2019
URL:http://www.wikicfp.com/cfp/servlet/event.showcfp?eventid=83456&copyow
 nerid=154476
UID:cfp796643-N@wikicfp.com
END:VEVENT
BEGIN:VEVENT
DTSTAMP:20260424T020107Z
DTSTART;VALUE=DATE:20190925
DTEND;VALUE=DATE:20190928
SUMMARY:ai4i 2019
DESCRIPTION:Artificial Intelligence for Industries 2019
URL:http://www.wikicfp.com/cfp/servlet/event.showcfp?eventid=83457&copyow
 nerid=154476
UID:cfp796644-E@wikicfp.com
END:VEVENT
BEGIN:VEVENT
DTSTAMP:20260424T020107Z
DTSTART;VALUE=DATE:20190722
SUMMARY:ai4i 2019 Deadline
DESCRIPTION:Artificial Intelligence for Industries 2019
URL:http://www.wikicfp.com/cfp/servlet/event.showcfp?eventid=83457&copyow
 nerid=154476
UID:cfp796644-D@wikicfp.com
END:VEVENT
BEGIN:VEVENT
DTSTAMP:20260424T020107Z
DTSTART;VALUE=DATE:20190801
SUMMARY:ai4i 2019 Notification Due
DESCRIPTION:Artificial Intelligence for Industries 2019
URL:http://www.wikicfp.com/cfp/servlet/event.showcfp?eventid=83457&copyow
 nerid=154476
UID:cfp796644-N@wikicfp.com
END:VEVENT
BEGIN:VEVENT
DTSTAMP:20260424T020107Z
DTSTART;VALUE=DATE:20190814
SUMMARY:ai4i 2019 Final Version Due
DESCRIPTION:Artificial Intelligence for Industries 2019
URL:http://www.wikicfp.com/cfp/servlet/event.showcfp?eventid=83457&copyow
 nerid=154476
UID:cfp796644-N@wikicfp.com
END:VEVENT
BEGIN:VEVENT
DTSTAMP:20260424T020107Z
DTSTART;VALUE=DATE:20190925
DTEND;VALUE=DATE:20190928
SUMMARY:HCC 2019
DESCRIPTION:Humanized Computing and Communication 2019
URL:http://www.wikicfp.com/cfp/servlet/event.showcfp?eventid=85503&copyow
 nerid=154476
UID:cfp796649-E@wikicfp.com
END:VEVENT
BEGIN:VEVENT
DTSTAMP:20260424T020107Z
DTSTART;VALUE=DATE:20190722
SUMMARY:HCC 2019 Deadline
DESCRIPTION:Humanized Computing and Communication 2019
URL:http://www.wikicfp.com/cfp/servlet/event.showcfp?eventid=85503&copyow
 nerid=154476
UID:cfp796649-D@wikicfp.com
END:VEVENT
BEGIN:VEVENT
DTSTAMP:20260424T020107Z
DTSTART;VALUE=DATE:20190815
SUMMARY:HCC 2019 Notification Due
DESCRIPTION:Humanized Computing and Communication 2019
URL:http://www.wikicfp.com/cfp/servlet/event.showcfp?eventid=85503&copyow
 nerid=154476
UID:cfp796649-N@wikicfp.com
END:VEVENT
BEGIN:VEVENT
DTSTAMP:20260424T020107Z
DTSTART;VALUE=DATE:20190831
SUMMARY:HCC 2019 Final Version Due
DESCRIPTION:Humanized Computing and Communication 2019
URL:http://www.wikicfp.com/cfp/servlet/event.showcfp?eventid=85503&copyow
 nerid=154476
UID:cfp796649-N@wikicfp.com
END:VEVENT
BEGIN:VEVENT
DTSTAMP:20260424T020107Z
DTSTART;VALUE=DATE:20191022
DTEND;VALUE=DATE:20191026
SUMMARY:IEEE DTL 2019
DESCRIPTION:The Second IEEE International Workshop on Deep and Transfer L
 earning 
URL:http://www.wikicfp.com/cfp/servlet/event.showcfp?eventid=88878&copyow
 nerid=154476
UID:cfp796653-E@wikicfp.com
END:VEVENT
BEGIN:VEVENT
DTSTAMP:20260424T020107Z
DTSTART;VALUE=DATE:20190722
SUMMARY:IEEE DTL 2019 Deadline
DESCRIPTION:The Second IEEE International Workshop on Deep and Transfer L
 earning 
URL:http://www.wikicfp.com/cfp/servlet/event.showcfp?eventid=88878&copyow
 nerid=154476
UID:cfp796653-D@wikicfp.com
END:VEVENT
BEGIN:VEVENT
DTSTAMP:20260424T020107Z
DTSTART;VALUE=DATE:20190820
SUMMARY:IEEE DTL 2019 Notification Due
DESCRIPTION:The Second IEEE International Workshop on Deep and Transfer L
 earning 
URL:http://www.wikicfp.com/cfp/servlet/event.showcfp?eventid=88878&copyow
 nerid=154476
UID:cfp796653-N@wikicfp.com
END:VEVENT
BEGIN:VEVENT
DTSTAMP:20260424T020107Z
DTSTART;VALUE=DATE:20190905
SUMMARY:IEEE DTL 2019 Final Version Due
DESCRIPTION:The Second IEEE International Workshop on Deep and Transfer L
 earning 
URL:http://www.wikicfp.com/cfp/servlet/event.showcfp?eventid=88878&copyow
 nerid=154476
UID:cfp796653-N@wikicfp.com
END:VEVENT
BEGIN:VEVENT
DTSTAMP:20260424T020107Z
DTSTART;VALUE=DATE:20190724
SUMMARY:BIOA 2019 Deadline
DESCRIPTION:Bio-inspired algorithms and Bio-systems (Mathematical Bioscie
 nces and Engineering)
URL:http://www.wikicfp.com/cfp/servlet/event.showcfp?eventid=83799&copyow
 nerid=154476
UID:cfp796645-D@wikicfp.com
END:VEVENT
BEGIN:VEVENT
DTSTAMP:20260424T020107Z
DTSTART;VALUE=DATE:20191020
DTEND;VALUE=DATE:20191021
SUMMARY:VISxAI 2019
DESCRIPTION:2nd Workshop on Visualization for AI Explainability (VISxAI) 
 at IEEE VIS 2019
URL:http://www.wikicfp.com/cfp/servlet/event.showcfp?eventid=91283&copyow
 nerid=154476
UID:cfp796656-E@wikicfp.com
END:VEVENT
BEGIN:VEVENT
DTSTAMP:20260424T020107Z
DTSTART;VALUE=DATE:20190724
SUMMARY:VISxAI 2019 Deadline
DESCRIPTION:2nd Workshop on Visualization for AI Explainability (VISxAI) 
 at IEEE VIS 2019
URL:http://www.wikicfp.com/cfp/servlet/event.showcfp?eventid=91283&copyow
 nerid=154476
UID:cfp796656-D@wikicfp.com
END:VEVENT
BEGIN:VEVENT
DTSTAMP:20260424T020107Z
DTSTART;VALUE=DATE:20190802
SUMMARY:VISxAI 2019 Notification Due
DESCRIPTION:2nd Workshop on Visualization for AI Explainability (VISxAI) 
 at IEEE VIS 2019
URL:http://www.wikicfp.com/cfp/servlet/event.showcfp?eventid=91283&copyow
 nerid=154476
UID:cfp796656-N@wikicfp.com
END:VEVENT
BEGIN:VEVENT
DTSTAMP:20260424T020107Z
DTSTART;VALUE=DATE:20190903
SUMMARY:VISxAI 2019 Final Version Due
DESCRIPTION:2nd Workshop on Visualization for AI Explainability (VISxAI) 
 at IEEE VIS 2019
URL:http://www.wikicfp.com/cfp/servlet/event.showcfp?eventid=91283&copyow
 nerid=154476
UID:cfp796656-N@wikicfp.com
END:VEVENT
BEGIN:VEVENT
DTSTAMP:20260424T020107Z
DTSTART;VALUE=DATE:20190918
DTEND;VALUE=DATE:20190921
SUMMARY:ACM--MLMI--Ei\, Scopus 2019
DESCRIPTION:ACM--2019 The 2nd International Conference on Machine Learnin
 g and Machine Intelligence (MLMI 2019)--Ei Compendex and Scopus
URL:http://www.wikicfp.com/cfp/servlet/event.showcfp?eventid=84343&copyow
 nerid=154476
UID:cfp796646-E@wikicfp.com
END:VEVENT
BEGIN:VEVENT
DTSTAMP:20260424T020107Z
DTSTART;VALUE=DATE:20190725
SUMMARY:ACM--MLMI--Ei\, Scopus 2019 Deadline
DESCRIPTION:ACM--2019 The 2nd International Conference on Machine Learnin
 g and Machine Intelligence (MLMI 2019)--Ei Compendex and Scopus
URL:http://www.wikicfp.com/cfp/servlet/event.showcfp?eventid=84343&copyow
 nerid=154476
UID:cfp796646-D@wikicfp.com
END:VEVENT
BEGIN:VEVENT
DTSTAMP:20260424T020107Z
DTSTART;VALUE=DATE:20190914
DTEND;VALUE=DATE:20190917
SUMMARY:EAIT--JA\, Scopus 2019
DESCRIPTION:2019 The International Conference on Education and Artificial
  Intelligence Technologies (EAIT 2019)--JA\, Scopus
URL:http://www.wikicfp.com/cfp/servlet/event.showcfp?eventid=90259&copyow
 nerid=154476
UID:cfp796655-E@wikicfp.com
END:VEVENT
BEGIN:VEVENT
DTSTAMP:20260424T020107Z
DTSTART;VALUE=DATE:20190725
SUMMARY:EAIT--JA\, Scopus 2019 Deadline
DESCRIPTION:2019 The International Conference on Education and Artificial
  Intelligence Technologies (EAIT 2019)--JA\, Scopus
URL:http://www.wikicfp.com/cfp/servlet/event.showcfp?eventid=90259&copyow
 nerid=154476
UID:cfp796655-D@wikicfp.com
END:VEVENT
BEGIN:VEVENT
DTSTAMP:20260424T020107Z
DTSTART;VALUE=DATE:20190920
DTEND;VALUE=DATE:20190924
SUMMARY:WSSE--Ei\, Scopus 2019
DESCRIPTION:2019 The World Symposium on Software Engineering (WSSE 2019)-
 -Ei Compendex\, Scopus
URL:http://www.wikicfp.com/cfp/servlet/event.showcfp?eventid=84700&copyow
 nerid=154476
UID:cfp796636-E@wikicfp.com
END:VEVENT
BEGIN:VEVENT
DTSTAMP:20260424T020107Z
DTSTART;VALUE=DATE:20190805
SUMMARY:WSSE--Ei\, Scopus 2019 Deadline
DESCRIPTION:2019 The World Symposium on Software Engineering (WSSE 2019)-
 -Ei Compendex\, Scopus
URL:http://www.wikicfp.com/cfp/servlet/event.showcfp?eventid=84700&copyow
 nerid=154476
UID:cfp796636-D@wikicfp.com
END:VEVENT
BEGIN:VEVENT
DTSTAMP:20260424T020107Z
DTSTART;VALUE=DATE:20191017
DTEND;VALUE=DATE:20191020
SUMMARY:ACM--ICCBB--Ei Compendex and Scopus 2019
DESCRIPTION:ACM--2019 3rd International Conference on Computational Biolo
 gy and Bioinformatics (ICCBB 2019)--Ei Compendex and Scopus
URL:http://www.wikicfp.com/cfp/servlet/event.showcfp?eventid=84762&copyow
 nerid=154476
UID:cfp796647-E@wikicfp.com
END:VEVENT
BEGIN:VEVENT
DTSTAMP:20260424T020107Z
DTSTART;VALUE=DATE:20190820
SUMMARY:ACM--ICCBB--Ei Compendex and Scopus 2019 Deadline
DESCRIPTION:ACM--2019 3rd International Conference on Computational Biolo
 gy and Bioinformatics (ICCBB 2019)--Ei Compendex and Scopus
URL:http://www.wikicfp.com/cfp/servlet/event.showcfp?eventid=84762&copyow
 nerid=154476
UID:cfp796647-D@wikicfp.com
END:VEVENT
BEGIN:VEVENT
DTSTAMP:20260424T020107Z
DTSTART;VALUE=DATE:20191018
DTEND;VALUE=DATE:20191021
SUMMARY:CSEA--ACM\, Ei Compendex and Scopus 2019
DESCRIPTION:ACM--2019 International Conference on Computer\, Software Eng
 ineering and Applications (CSEA 2019)--Ei Compendex and Scopus
URL:http://www.wikicfp.com/cfp/servlet/event.showcfp?eventid=85276&copyow
 nerid=154476
UID:cfp796637-E@wikicfp.com
END:VEVENT
BEGIN:VEVENT
DTSTAMP:20260424T020107Z
DTSTART;VALUE=DATE:20190825
SUMMARY:CSEA--ACM\, Ei Compendex and Scopus 2019 Deadline
DESCRIPTION:ACM--2019 International Conference on Computer\, Software Eng
 ineering and Applications (CSEA 2019)--Ei Compendex and Scopus
URL:http://www.wikicfp.com/cfp/servlet/event.showcfp?eventid=85276&copyow
 nerid=154476
UID:cfp796637-D@wikicfp.com
END:VEVENT
BEGIN:VEVENT
DTSTAMP:20260424T020107Z
DTSTART;VALUE=DATE:20191025
DTEND;VALUE=DATE:20191028
SUMMARY:ACM--HPCCI--Ei and Scopus 2019
DESCRIPTION:ACM--2019 High Performance Computing and Computational Intell
 igence Conference (HPCCI 2019)--Ei Compendex and Scopus
URL:http://www.wikicfp.com/cfp/servlet/event.showcfp?eventid=85776&copyow
 nerid=154476
UID:cfp796638-E@wikicfp.com
END:VEVENT
BEGIN:VEVENT
DTSTAMP:20260424T020107Z
DTSTART;VALUE=DATE:20190910
SUMMARY:ACM--HPCCI--Ei and Scopus 2019 Deadline
DESCRIPTION:ACM--2019 High Performance Computing and Computational Intell
 igence Conference (HPCCI 2019)--Ei Compendex and Scopus
URL:http://www.wikicfp.com/cfp/servlet/event.showcfp?eventid=85776&copyow
 nerid=154476
UID:cfp796638-D@wikicfp.com
END:VEVENT
BEGIN:VEVENT
DTSTAMP:20260424T020107Z
DTSTART;VALUE=DATE:20191218
DTEND;VALUE=DATE:20191221
SUMMARY:ICOAI 2019
DESCRIPTION:2019 6th International Conference on Artificial Intelligence 
 (ICOAI 2019)--JA\, Scopus
URL:http://www.wikicfp.com/cfp/servlet/event.showcfp?eventid=86961&copyow
 nerid=154476
UID:cfp796651-E@wikicfp.com
END:VEVENT
BEGIN:VEVENT
DTSTAMP:20260424T020107Z
DTSTART;VALUE=DATE:20191015
SUMMARY:ICOAI 2019 Deadline
DESCRIPTION:2019 6th International Conference on Artificial Intelligence 
 (ICOAI 2019)--JA\, Scopus
URL:http://www.wikicfp.com/cfp/servlet/event.showcfp?eventid=86961&copyow
 nerid=154476
UID:cfp796651-D@wikicfp.com
END:VEVENT
BEGIN:VEVENT
DTSTAMP:20260424T020107Z
DTSTART;VALUE=DATE:20191206
DTEND;VALUE=DATE:20191209
SUMMARY:ACM--CSAI--Ei\, Scopus 2019
DESCRIPTION:ACM--2019 3rd International Conference on Computer Science an
 d Artificial Intelligence (CSAI 2019)--Ei Compendex\, Scopus
URL:http://www.wikicfp.com/cfp/servlet/event.showcfp?eventid=87298&copyow
 nerid=154476
UID:cfp796641-E@wikicfp.com
END:VEVENT
BEGIN:VEVENT
DTSTAMP:20260424T020107Z
DTSTART;VALUE=DATE:20191015
SUMMARY:ACM--CSAI--Ei\, Scopus 2019 Deadline
DESCRIPTION:ACM--2019 3rd International Conference on Computer Science an
 d Artificial Intelligence (CSAI 2019)--Ei Compendex\, Scopus
URL:http://www.wikicfp.com/cfp/servlet/event.showcfp?eventid=87298&copyow
 nerid=154476
UID:cfp796641-D@wikicfp.com
END:VEVENT
BEGIN:VEVENT
DTSTAMP:20260424T020107Z
DTSTART;VALUE=DATE:20191207
DTEND;VALUE=DATE:20191210
SUMMARY:ACMLC--JA\, Scopus 2019
DESCRIPTION:2019 3rd Asia Conference on Machine Learning and Computing (A
 CMLC 2019)--JA\, Scopus
URL:http://www.wikicfp.com/cfp/servlet/event.showcfp?eventid=86955&copyow
 nerid=154476
UID:cfp796640-E@wikicfp.com
END:VEVENT
BEGIN:VEVENT
DTSTAMP:20260424T020107Z
DTSTART;VALUE=DATE:20191020
SUMMARY:ACMLC--JA\, Scopus 2019 Deadline
DESCRIPTION:2019 3rd Asia Conference on Machine Learning and Computing (A
 CMLC 2019)--JA\, Scopus
URL:http://www.wikicfp.com/cfp/servlet/event.showcfp?eventid=86955&copyow
 nerid=154476
UID:cfp796640-D@wikicfp.com
END:VEVENT
BEGIN:VEVENT
DTSTAMP:20260424T020107Z
DTSTART;VALUE=DATE:20191214
DTEND;VALUE=DATE:20191217
SUMMARY:ACM--AIRC--EI Compendex\, Scopus 2019
DESCRIPTION:ACM--2019 International Conference on Artificial Intelligence
 \, Robotics and Control (AIRC 2019)--EI Compendex\, Scopus
URL:http://www.wikicfp.com/cfp/servlet/event.showcfp?eventid=88305&copyow
 nerid=154476
UID:cfp796642-E@wikicfp.com
END:VEVENT
BEGIN:VEVENT
DTSTAMP:20260424T020107Z
DTSTART;VALUE=DATE:20191020
SUMMARY:ACM--AIRC--EI Compendex\, Scopus 2019 Deadline
DESCRIPTION:ACM--2019 International Conference on Artificial Intelligence
 \, Robotics and Control (AIRC 2019)--EI Compendex\, Scopus
URL:http://www.wikicfp.com/cfp/servlet/event.showcfp?eventid=88305&copyow
 nerid=154476
UID:cfp796642-D@wikicfp.com
END:VEVENT
BEGIN:VEVENT
DTSTAMP:20260424T020107Z
DTSTART;VALUE=DATE:20200110
DTEND;VALUE=DATE:20200113
SUMMARY:ICICC--Ei Compendex\, Scopus 2020
DESCRIPTION:2020 The 3rd International Conference on Intelligent Control 
 and Computing (ICICC 2020)--Ei Compendex\, Scopus
URL:http://www.wikicfp.com/cfp/servlet/event.showcfp?eventid=88447&copyow
 nerid=154476
UID:cfp796652-E@wikicfp.com
END:VEVENT
BEGIN:VEVENT
DTSTAMP:20260424T020107Z
DTSTART;VALUE=DATE:20191120
SUMMARY:ICICC--Ei Compendex\, Scopus 2020 Deadline
DESCRIPTION:2020 The 3rd International Conference on Intelligent Control 
 and Computing (ICICC 2020)--Ei Compendex\, Scopus
URL:http://www.wikicfp.com/cfp/servlet/event.showcfp?eventid=88447&copyow
 nerid=154476
UID:cfp796652-D@wikicfp.com
END:VEVENT
BEGIN:VEVENT
DTSTAMP:20260424T020107Z
DTSTART;VALUE=DATE:20201121
DTEND;VALUE=DATE:20201123
SUMMARY:ARIA 2020
DESCRIPTION:International Conference on Artificial Intelligence & Applica
 tions 
URL:http://www.wikicfp.com/cfp/servlet/event.showcfp?eventid=79521&copyow
 nerid=154476
UID:cfp796634-E@wikicfp.com
END:VEVENT
BEGIN:VEVENT
DTSTAMP:20260424T020107Z
DTSTART;VALUE=DATE:20201107
SUMMARY:ARIA 2020 Deadline
DESCRIPTION:International Conference on Artificial Intelligence & Applica
 tions 
URL:http://www.wikicfp.com/cfp/servlet/event.showcfp?eventid=79521&copyow
 nerid=154476
UID:cfp796634-D@wikicfp.com
END:VEVENT
BEGIN:VEVENT
DTSTAMP:20260424T020107Z
DTSTART;VALUE=DATE:20201114
SUMMARY:ARIA 2020 Notification Due
DESCRIPTION:International Conference on Artificial Intelligence & Applica
 tions 
URL:http://www.wikicfp.com/cfp/servlet/event.showcfp?eventid=79521&copyow
 nerid=154476
UID:cfp796634-N@wikicfp.com
END:VEVENT
BEGIN:VEVENT
DTSTAMP:20260424T020107Z
DTSTART;VALUE=DATE:20201116
SUMMARY:ARIA 2020 Final Version Due
DESCRIPTION:International Conference on Artificial Intelligence & Applica
 tions 
URL:http://www.wikicfp.com/cfp/servlet/event.showcfp?eventid=79521&copyow
 nerid=154476
UID:cfp796634-N@wikicfp.com
END:VEVENT
BEGIN:VEVENT
DTSTAMP:20260424T020107Z
DTSTART;VALUE=DATE:20201128
DTEND;VALUE=DATE:20201130
SUMMARY:ELEC 2020
DESCRIPTION:4th International Conference on Electrical Engineering 
URL:http://www.wikicfp.com/cfp/servlet/event.showcfp?eventid=91802&copyow
 nerid=154476
UID:cfp796657-E@wikicfp.com
END:VEVENT
BEGIN:VEVENT
DTSTAMP:20260424T020107Z
DTSTART;VALUE=DATE:20201115
SUMMARY:ELEC 2020 Deadline
DESCRIPTION:4th International Conference on Electrical Engineering 
URL:http://www.wikicfp.com/cfp/servlet/event.showcfp?eventid=91802&copyow
 nerid=154476
UID:cfp796657-D@wikicfp.com
END:VEVENT
BEGIN:VEVENT
DTSTAMP:20260424T020107Z
DTSTART;VALUE=DATE:20201122
SUMMARY:ELEC 2020 Notification Due
DESCRIPTION:4th International Conference on Electrical Engineering 
URL:http://www.wikicfp.com/cfp/servlet/event.showcfp?eventid=91802&copyow
 nerid=154476
UID:cfp796657-N@wikicfp.com
END:VEVENT
BEGIN:VEVENT
DTSTAMP:20260424T020107Z
DTSTART;VALUE=DATE:20201125
SUMMARY:ELEC 2020 Final Version Due
DESCRIPTION:4th International Conference on Electrical Engineering 
URL:http://www.wikicfp.com/cfp/servlet/event.showcfp?eventid=91802&copyow
 nerid=154476
UID:cfp796657-N@wikicfp.com
END:VEVENT
BEGIN:VEVENT
DTSTAMP:20260424T020107Z
DTSTART;VALUE=DATE:20210327
DTEND;VALUE=DATE:20210329
SUMMARY:CHEME  2021
DESCRIPTION:5th International Conference on Chemical Engineering 
URL:http://www.wikicfp.com/cfp/servlet/event.showcfp?eventid=79921&copyow
 nerid=154476
UID:cfp796635-E@wikicfp.com
END:VEVENT
BEGIN:VEVENT
DTSTAMP:20260424T020107Z
DTSTART;VALUE=DATE:20210313
SUMMARY:CHEME  2021 Deadline
DESCRIPTION:5th International Conference on Chemical Engineering 
URL:http://www.wikicfp.com/cfp/servlet/event.showcfp?eventid=79921&copyow
 nerid=154476
UID:cfp796635-D@wikicfp.com
END:VEVENT
BEGIN:VEVENT
DTSTAMP:20260424T020107Z
DTSTART;VALUE=DATE:20210320
SUMMARY:CHEME  2021 Notification Due
DESCRIPTION:5th International Conference on Chemical Engineering 
URL:http://www.wikicfp.com/cfp/servlet/event.showcfp?eventid=79921&copyow
 nerid=154476
UID:cfp796635-N@wikicfp.com
END:VEVENT
BEGIN:VEVENT
DTSTAMP:20260424T020107Z
DTSTART;VALUE=DATE:20210322
SUMMARY:CHEME  2021 Final Version Due
DESCRIPTION:5th International Conference on Chemical Engineering 
URL:http://www.wikicfp.com/cfp/servlet/event.showcfp?eventid=79921&copyow
 nerid=154476
UID:cfp796635-N@wikicfp.com
END:VEVENT
BEGIN:VEVENT
DTSTAMP:20260424T020107Z
DTSTART;VALUE=DATE:20230721
DTEND;VALUE=DATE:20230724
SUMMARY:JCRAI 2023-Ei Compendex & Scopus 2023
DESCRIPTION:2023 International Joint Conference on Robotics and Artificia
 l Intelligence (JCRAI 2023)
URL:http://www.wikicfp.com/cfp/servlet/event.showcfp?eventid=86352&copyow
 nerid=154476
UID:cfp796658-E@wikicfp.com
END:VEVENT
BEGIN:VEVENT
DTSTAMP:20260424T020107Z
DTSTART;VALUE=DATE:20230621
SUMMARY:JCRAI 2023-Ei Compendex & Scopus 2023 Deadline
DESCRIPTION:2023 International Joint Conference on Robotics and Artificia
 l Intelligence (JCRAI 2023)
URL:http://www.wikicfp.com/cfp/servlet/event.showcfp?eventid=86352&copyow
 nerid=154476
UID:cfp796658-D@wikicfp.com
END:VEVENT
BEGIN:VEVENT
DTSTAMP:20260424T020107Z
DTSTART;VALUE=DATE:20230621
SUMMARY:JCRAI 2023-Ei Compendex & Scopus 2023 Notification Due
DESCRIPTION:2023 International Joint Conference on Robotics and Artificia
 l Intelligence (JCRAI 2023)
URL:http://www.wikicfp.com/cfp/servlet/event.showcfp?eventid=86352&copyow
 nerid=154476
UID:cfp796658-N@wikicfp.com
END:VEVENT
BEGIN:VEVENT
DTSTAMP:20260424T020107Z
DTSTART;VALUE=DATE:20230621
SUMMARY:JCRAI 2023-Ei Compendex & Scopus 2023 Final Version Due
DESCRIPTION:2023 International Joint Conference on Robotics and Artificia
 l Intelligence (JCRAI 2023)
URL:http://www.wikicfp.com/cfp/servlet/event.showcfp?eventid=86352&copyow
 nerid=154476
UID:cfp796658-N@wikicfp.com
END:VEVENT
BEGIN:VEVENT
DTSTAMP:20260424T020107Z
DTSTART;VALUE=DATE:20230922
DTEND;VALUE=DATE:20230925
SUMMARY:CFMAI 2023
DESCRIPTION:2023 5th International Conference on Frontiers of Mathematics
  and Artificial Intelligence (CFMAI 2023)
URL:http://www.wikicfp.com/cfp/servlet/event.showcfp?eventid=86344&copyow
 nerid=154476
UID:cfp796659-E@wikicfp.com
END:VEVENT
BEGIN:VEVENT
DTSTAMP:20260424T020107Z
DTSTART;VALUE=DATE:20230810
SUMMARY:CFMAI 2023 Deadline
DESCRIPTION:2023 5th International Conference on Frontiers of Mathematics
  and Artificial Intelligence (CFMAI 2023)
URL:http://www.wikicfp.com/cfp/servlet/event.showcfp?eventid=86344&copyow
 nerid=154476
UID:cfp796659-D@wikicfp.com
END:VEVENT
BEGIN:VEVENT
DTSTAMP:20260424T020107Z
DTSTART;VALUE=DATE:20230810
SUMMARY:CFMAI 2023 Notification Due
DESCRIPTION:2023 5th International Conference on Frontiers of Mathematics
  and Artificial Intelligence (CFMAI 2023)
URL:http://www.wikicfp.com/cfp/servlet/event.showcfp?eventid=86344&copyow
 nerid=154476
UID:cfp796659-N@wikicfp.com
END:VEVENT
BEGIN:VEVENT
DTSTAMP:20260424T020107Z
DTSTART;VALUE=DATE:20230810
SUMMARY:CFMAI 2023 Final Version Due
DESCRIPTION:2023 5th International Conference on Frontiers of Mathematics
  and Artificial Intelligence (CFMAI 2023)
URL:http://www.wikicfp.com/cfp/servlet/event.showcfp?eventid=86344&copyow
 nerid=154476
UID:cfp796659-N@wikicfp.com
END:VEVENT
BEGIN:VEVENT
DTSTAMP:20260424T020107Z
DTSTART;VALUE=DATE:20250111
SUMMARY:IJPLA 2025 Deadline
DESCRIPTION:International Journal of Programming Languages and Applicatio
 ns
URL:http://www.wikicfp.com/cfp/servlet/event.showcfp?eventid=89909&copyow
 nerid=154476
UID:cfp796654-D@wikicfp.com
END:VEVENT
BEGIN:VEVENT
DTSTAMP:20260424T020107Z
DTSTART;VALUE=DATE:20250121
SUMMARY:IJPLA 2025 Notification Due
DESCRIPTION:International Journal of Programming Languages and Applicatio
 ns
URL:http://www.wikicfp.com/cfp/servlet/event.showcfp?eventid=89909&copyow
 nerid=154476
UID:cfp796654-N@wikicfp.com
END:VEVENT
BEGIN:VEVENT
DTSTAMP:20260424T020107Z
DTSTART;VALUE=DATE:20250125
SUMMARY:IJPLA 2025 Final Version Due
DESCRIPTION:International Journal of Programming Languages and Applicatio
 ns
URL:http://www.wikicfp.com/cfp/servlet/event.showcfp?eventid=89909&copyow
 nerid=154476
UID:cfp796654-N@wikicfp.com
END:VEVENT
BEGIN:VEVENT
DTSTAMP:20260424T020107Z
DTSTART;VALUE=DATE:20260425
SUMMARY:IJBBR 2026 Deadline
DESCRIPTION:International Journal of BRIC Business Research
URL:http://www.wikicfp.com/cfp/servlet/event.showcfp?eventid=86060&copyow
 nerid=154476
UID:cfp796639-D@wikicfp.com
END:VEVENT
BEGIN:VEVENT
DTSTAMP:20260424T020107Z
DTSTART;VALUE=DATE:20260520
SUMMARY:IJBBR 2026 Notification Due
DESCRIPTION:International Journal of BRIC Business Research
URL:http://www.wikicfp.com/cfp/servlet/event.showcfp?eventid=86060&copyow
 nerid=154476
UID:cfp796639-N@wikicfp.com
END:VEVENT
BEGIN:VEVENT
DTSTAMP:20260424T020107Z
DTSTART;VALUE=DATE:20260526
SUMMARY:IJBBR 2026 Final Version Due
DESCRIPTION:International Journal of BRIC Business Research
URL:http://www.wikicfp.com/cfp/servlet/event.showcfp?eventid=86060&copyow
 nerid=154476
UID:cfp796639-N@wikicfp.com
END:VEVENT
BEGIN:VEVENT
DTSTAMP:20260424T020107Z
DTSTART;VALUE=DATE:20260425
SUMMARY:IJCSEIT 2026 Deadline
DESCRIPTION:International Journal of Computer Science\, Engineering and I
 nformation Technology
URL:http://www.wikicfp.com/cfp/servlet/event.showcfp?eventid=86922&copyow
 nerid=154476
UID:cfp796650-D@wikicfp.com
END:VEVENT
BEGIN:VEVENT
DTSTAMP:20260424T020107Z
DTSTART;VALUE=DATE:20260525
SUMMARY:IJCSEIT 2026 Notification Due
DESCRIPTION:International Journal of Computer Science\, Engineering and I
 nformation Technology
URL:http://www.wikicfp.com/cfp/servlet/event.showcfp?eventid=86922&copyow
 nerid=154476
UID:cfp796650-N@wikicfp.com
END:VEVENT
BEGIN:VEVENT
DTSTAMP:20260424T020107Z
DTSTART;VALUE=DATE:20260601
SUMMARY:IJCSEIT 2026 Final Version Due
DESCRIPTION:International Journal of Computer Science\, Engineering and I
 nformation Technology
URL:http://www.wikicfp.com/cfp/servlet/event.showcfp?eventid=86922&copyow
 nerid=154476
UID:cfp796650-N@wikicfp.com
END:VEVENT
BEGIN:VEVENT
DTSTAMP:20260424T020107Z
DTSTART;VALUE=DATE:20260505
SUMMARY:IJMPICT 2026 Deadline
DESCRIPTION:International Journal of Managing Public Sector Information a
 nd Communication Technologies
URL:http://www.wikicfp.com/cfp/servlet/event.showcfp?eventid=85262&copyow
 nerid=154476
UID:cfp796648-D@wikicfp.com
END:VEVENT
BEGIN:VEVENT
DTSTAMP:20260424T020107Z
DTSTART;VALUE=DATE:20260605
SUMMARY:IJMPICT 2026 Notification Due
DESCRIPTION:International Journal of Managing Public Sector Information a
 nd Communication Technologies
URL:http://www.wikicfp.com/cfp/servlet/event.showcfp?eventid=85262&copyow
 nerid=154476
UID:cfp796648-N@wikicfp.com
END:VEVENT
BEGIN:VEVENT
DTSTAMP:20260424T020107Z
DTSTART;VALUE=DATE:20260612
SUMMARY:IJMPICT 2026 Final Version Due
DESCRIPTION:International Journal of Managing Public Sector Information a
 nd Communication Technologies
URL:http://www.wikicfp.com/cfp/servlet/event.showcfp?eventid=85262&copyow
 nerid=154476
UID:cfp796648-N@wikicfp.com
END:VEVENT
END:VCALENDAR
