BEGIN:VCALENDAR
PRODID:-//WikiCFP//kenjie 1.0//EN
VERSION:2.0
CALSCALE:GREGORIAN
BEGIN:VEVENT
DTSTAMP:20260425T153207Z
DTSTART;VALUE=DATE:20190910
DTEND;VALUE=DATE:20190914
SUMMARY:GCPR 2019
DESCRIPTION:German Conference on Pattern Recognition
URL:http://www.wikicfp.com/cfp/servlet/event.showcfp?eventid=84775&copyow
 nerid=154325
UID:cfp796303-E@wikicfp.com
END:VEVENT
BEGIN:VEVENT
DTSTAMP:20260425T153207Z
DTSTART;VALUE=DATE:20190519
SUMMARY:GCPR 2019 Deadline
DESCRIPTION:German Conference on Pattern Recognition
URL:http://www.wikicfp.com/cfp/servlet/event.showcfp?eventid=84775&copyow
 nerid=154325
UID:cfp796303-D@wikicfp.com
END:VEVENT
BEGIN:VEVENT
DTSTAMP:20260425T153207Z
DTSTART;VALUE=DATE:20190715
SUMMARY:GCPR 2019 Notification Due
DESCRIPTION:German Conference on Pattern Recognition
URL:http://www.wikicfp.com/cfp/servlet/event.showcfp?eventid=84775&copyow
 nerid=154325
UID:cfp796303-N@wikicfp.com
END:VEVENT
BEGIN:VEVENT
DTSTAMP:20260425T153207Z
DTSTART;VALUE=DATE:20190731
SUMMARY:GCPR 2019 Final Version Due
DESCRIPTION:German Conference on Pattern Recognition
URL:http://www.wikicfp.com/cfp/servlet/event.showcfp?eventid=84775&copyow
 nerid=154325
UID:cfp796303-N@wikicfp.com
END:VEVENT
END:VCALENDAR
