BEGIN:VCALENDAR
PRODID:-//WikiCFP//dineshdash 1.0//EN
VERSION:2.0
CALSCALE:GREGORIAN
BEGIN:VEVENT
DTSTAMP:20260420T140410Z
DTSTART;VALUE=DATE:20100621
DTEND;VALUE=DATE:20100624
SUMMARY:SWAT 2010
DESCRIPTION:Scandinavian Symposium and Workshops on Algorithm Theory
URL:http://www.wikicfp.com/cfp/servlet/event.showcfp?eventid=9372&copyown
 erid=15281
UID:cfp105531-E@wikicfp.com
END:VEVENT
BEGIN:VEVENT
DTSTAMP:20260420T140410Z
DTSTART;VALUE=DATE:20100201
SUMMARY:SWAT 2010 Deadline
DESCRIPTION:Scandinavian Symposium and Workshops on Algorithm Theory
URL:http://www.wikicfp.com/cfp/servlet/event.showcfp?eventid=9372&copyown
 erid=15281
UID:cfp105531-D@wikicfp.com
END:VEVENT
BEGIN:VEVENT
DTSTAMP:20260420T140410Z
DTSTART;VALUE=DATE:20100324
SUMMARY:SWAT 2010 Notification Due
DESCRIPTION:Scandinavian Symposium and Workshops on Algorithm Theory
URL:http://www.wikicfp.com/cfp/servlet/event.showcfp?eventid=9372&copyown
 erid=15281
UID:cfp105531-N@wikicfp.com
END:VEVENT
BEGIN:VEVENT
DTSTAMP:20260420T140410Z
DTSTART;VALUE=DATE:20100410
SUMMARY:SWAT 2010 Final Version Due
DESCRIPTION:Scandinavian Symposium and Workshops on Algorithm Theory
URL:http://www.wikicfp.com/cfp/servlet/event.showcfp?eventid=9372&copyown
 erid=15281
UID:cfp105531-N@wikicfp.com
END:VEVENT
BEGIN:VEVENT
DTSTAMP:20260420T140410Z
DTSTART;VALUE=DATE:20101207
DTEND;VALUE=DATE:20101211
SUMMARY:ISSNIP 2010
DESCRIPTION:Sixth International Conference on Intelligent Sensors\, Senso
 r Networks and Information Processing
URL:http://www.wikicfp.com/cfp/servlet/event.showcfp?eventid=8917&copyown
 erid=15281
UID:cfp105523-E@wikicfp.com
END:VEVENT
BEGIN:VEVENT
DTSTAMP:20260420T140410Z
DTSTART;VALUE=DATE:20100630
SUMMARY:ISSNIP 2010 Deadline
DESCRIPTION:Sixth International Conference on Intelligent Sensors\, Senso
 r Networks and Information Processing
URL:http://www.wikicfp.com/cfp/servlet/event.showcfp?eventid=8917&copyown
 erid=15281
UID:cfp105523-D@wikicfp.com
END:VEVENT
BEGIN:VEVENT
DTSTAMP:20260420T140410Z
DTSTART;VALUE=DATE:20100731
SUMMARY:ISSNIP 2010 Notification Due
DESCRIPTION:Sixth International Conference on Intelligent Sensors\, Senso
 r Networks and Information Processing
URL:http://www.wikicfp.com/cfp/servlet/event.showcfp?eventid=8917&copyown
 erid=15281
UID:cfp105523-N@wikicfp.com
END:VEVENT
BEGIN:VEVENT
DTSTAMP:20260420T140410Z
DTSTART;VALUE=DATE:20100831
SUMMARY:ISSNIP 2010 Final Version Due
DESCRIPTION:Sixth International Conference on Intelligent Sensors\, Senso
 r Networks and Information Processing
URL:http://www.wikicfp.com/cfp/servlet/event.showcfp?eventid=8917&copyown
 erid=15281
UID:cfp105523-N@wikicfp.com
END:VEVENT
BEGIN:VEVENT
DTSTAMP:20260420T140410Z
DTSTART;VALUE=DATE:20101210
DTEND;VALUE=DATE:20101211
SUMMARY:ASIT 2010
DESCRIPTION:International Workshop on Advanced Sensor Integration Technol
 ogy
URL:http://www.wikicfp.com/cfp/servlet/event.showcfp?eventid=9812&copyown
 erid=15281
UID:cfp105525-E@wikicfp.com
END:VEVENT
BEGIN:VEVENT
DTSTAMP:20260420T140410Z
DTSTART;VALUE=DATE:20100702
SUMMARY:ASIT 2010 Deadline
DESCRIPTION:International Workshop on Advanced Sensor Integration Technol
 ogy
URL:http://www.wikicfp.com/cfp/servlet/event.showcfp?eventid=9812&copyown
 erid=15281
UID:cfp105525-D@wikicfp.com
END:VEVENT
BEGIN:VEVENT
DTSTAMP:20260420T140410Z
DTSTART;VALUE=DATE:20100813
SUMMARY:ASIT 2010 Notification Due
DESCRIPTION:International Workshop on Advanced Sensor Integration Technol
 ogy
URL:http://www.wikicfp.com/cfp/servlet/event.showcfp?eventid=9812&copyown
 erid=15281
UID:cfp105525-N@wikicfp.com
END:VEVENT
BEGIN:VEVENT
DTSTAMP:20260420T140410Z
DTSTART;VALUE=DATE:20100831
SUMMARY:ASIT 2010 Final Version Due
DESCRIPTION:International Workshop on Advanced Sensor Integration Technol
 ogy
URL:http://www.wikicfp.com/cfp/servlet/event.showcfp?eventid=9812&copyown
 erid=15281
UID:cfp105525-N@wikicfp.com
END:VEVENT
BEGIN:VEVENT
DTSTAMP:20260420T140410Z
DTSTART;VALUE=DATE:20101220
DTEND;VALUE=DATE:20101223
SUMMARY:MSN 2010
DESCRIPTION:The 6th International Conference on Mobile Ad-hoc and Sensor 
 Networks 
URL:http://www.wikicfp.com/cfp/servlet/event.showcfp?eventid=9563&copyown
 erid=15281
UID:cfp105524-E@wikicfp.com
END:VEVENT
BEGIN:VEVENT
DTSTAMP:20260420T140410Z
DTSTART;VALUE=DATE:20100709
SUMMARY:MSN 2010 Deadline
DESCRIPTION:The 6th International Conference on Mobile Ad-hoc and Sensor 
 Networks 
URL:http://www.wikicfp.com/cfp/servlet/event.showcfp?eventid=9563&copyown
 erid=15281
UID:cfp105524-D@wikicfp.com
END:VEVENT
BEGIN:VEVENT
DTSTAMP:20260420T140410Z
DTSTART;VALUE=DATE:20100910
SUMMARY:MSN 2010 Notification Due
DESCRIPTION:The 6th International Conference on Mobile Ad-hoc and Sensor 
 Networks 
URL:http://www.wikicfp.com/cfp/servlet/event.showcfp?eventid=9563&copyown
 erid=15281
UID:cfp105524-N@wikicfp.com
END:VEVENT
BEGIN:VEVENT
DTSTAMP:20260420T140410Z
DTSTART;VALUE=DATE:20101008
SUMMARY:MSN 2010 Final Version Due
DESCRIPTION:The 6th International Conference on Mobile Ad-hoc and Sensor 
 Networks 
URL:http://www.wikicfp.com/cfp/servlet/event.showcfp?eventid=9563&copyown
 erid=15281
UID:cfp105524-N@wikicfp.com
END:VEVENT
BEGIN:VEVENT
DTSTAMP:20260420T140410Z
DTSTART;VALUE=DATE:20101108
DTEND;VALUE=DATE:20101111
SUMMARY:SNA 2010
DESCRIPTION:Second International Conference on Sensor Networks and Applic
 ations
URL:http://www.wikicfp.com/cfp/servlet/event.showcfp?eventid=10429&copyow
 nerid=15281
UID:cfp105526-E@wikicfp.com
END:VEVENT
BEGIN:VEVENT
DTSTAMP:20260420T140410Z
DTSTART;VALUE=DATE:20100715
SUMMARY:SNA 2010 Deadline
DESCRIPTION:Second International Conference on Sensor Networks and Applic
 ations
URL:http://www.wikicfp.com/cfp/servlet/event.showcfp?eventid=10429&copyow
 nerid=15281
UID:cfp105526-D@wikicfp.com
END:VEVENT
BEGIN:VEVENT
DTSTAMP:20260420T140410Z
DTSTART;VALUE=DATE:20100825
SUMMARY:SNA 2010 Notification Due
DESCRIPTION:Second International Conference on Sensor Networks and Applic
 ations
URL:http://www.wikicfp.com/cfp/servlet/event.showcfp?eventid=10429&copyow
 nerid=15281
UID:cfp105526-N@wikicfp.com
END:VEVENT
BEGIN:VEVENT
DTSTAMP:20260420T140410Z
DTSTART;VALUE=DATE:20100925
SUMMARY:SNA 2010 Final Version Due
DESCRIPTION:Second International Conference on Sensor Networks and Applic
 ations
URL:http://www.wikicfp.com/cfp/servlet/event.showcfp?eventid=10429&copyow
 nerid=15281
UID:cfp105526-N@wikicfp.com
END:VEVENT
BEGIN:VEVENT
DTSTAMP:20260420T140410Z
DTSTART;VALUE=DATE:20101211
DTEND;VALUE=DATE:20101214
SUMMARY:WiNA 2010
DESCRIPTION:The Third International Workshop on Wireless Network Algorith
 m and Theory
URL:http://www.wikicfp.com/cfp/servlet/event.showcfp?eventid=10134&copyow
 nerid=15281
UID:cfp105530-E@wikicfp.com
END:VEVENT
BEGIN:VEVENT
DTSTAMP:20260420T140410Z
DTSTART;VALUE=DATE:20100731
SUMMARY:WiNA 2010 Deadline
DESCRIPTION:The Third International Workshop on Wireless Network Algorith
 m and Theory
URL:http://www.wikicfp.com/cfp/servlet/event.showcfp?eventid=10134&copyow
 nerid=15281
UID:cfp105530-D@wikicfp.com
END:VEVENT
BEGIN:VEVENT
DTSTAMP:20260420T140410Z
DTSTART;VALUE=DATE:20100905
SUMMARY:WiNA 2010 Notification Due
DESCRIPTION:The Third International Workshop on Wireless Network Algorith
 m and Theory
URL:http://www.wikicfp.com/cfp/servlet/event.showcfp?eventid=10134&copyow
 nerid=15281
UID:cfp105530-N@wikicfp.com
END:VEVENT
BEGIN:VEVENT
DTSTAMP:20260420T140410Z
DTSTART;VALUE=DATE:20101005
SUMMARY:WiNA 2010 Final Version Due
DESCRIPTION:The Third International Workshop on Wireless Network Algorith
 m and Theory
URL:http://www.wikicfp.com/cfp/servlet/event.showcfp?eventid=10134&copyow
 nerid=15281
UID:cfp105530-N@wikicfp.com
END:VEVENT
BEGIN:VEVENT
DTSTAMP:20260420T140410Z
DTSTART;VALUE=DATE:20110223
DTEND;VALUE=DATE:20110226
SUMMARY:EWSN 2011
DESCRIPTION:8th European Conference on Wireless Sensor Networks
URL:http://www.wikicfp.com/cfp/servlet/event.showcfp?eventid=10919&copyow
 nerid=15281
UID:cfp105529-E@wikicfp.com
END:VEVENT
BEGIN:VEVENT
DTSTAMP:20260420T140410Z
DTSTART;VALUE=DATE:20101001
SUMMARY:EWSN 2011 Abstract Due
DESCRIPTION:8th European Conference on Wireless Sensor Networks
URL:http://www.wikicfp.com/cfp/servlet/event.showcfp?eventid=10919&copyow
 nerid=15281
UID:cfp105529-A@wikicfp.com
END:VEVENT
BEGIN:VEVENT
DTSTAMP:20260420T140410Z
DTSTART;VALUE=DATE:20101008
SUMMARY:EWSN 2011 Deadline
DESCRIPTION:8th European Conference on Wireless Sensor Networks
URL:http://www.wikicfp.com/cfp/servlet/event.showcfp?eventid=10919&copyow
 nerid=15281
UID:cfp105529-D@wikicfp.com
END:VEVENT
BEGIN:VEVENT
DTSTAMP:20260420T140410Z
DTSTART;VALUE=DATE:20101129
SUMMARY:EWSN 2011 Notification Due
DESCRIPTION:8th European Conference on Wireless Sensor Networks
URL:http://www.wikicfp.com/cfp/servlet/event.showcfp?eventid=10919&copyow
 nerid=15281
UID:cfp105529-N@wikicfp.com
END:VEVENT
BEGIN:VEVENT
DTSTAMP:20260420T140410Z
DTSTART;VALUE=DATE:20110114
SUMMARY:EWSN 2011 Final Version Due
DESCRIPTION:8th European Conference on Wireless Sensor Networks
URL:http://www.wikicfp.com/cfp/servlet/event.showcfp?eventid=10919&copyow
 nerid=15281
UID:cfp105529-N@wikicfp.com
END:VEVENT
BEGIN:VEVENT
DTSTAMP:20260420T140410Z
DTSTART;VALUE=DATE:20110412
DTEND;VALUE=DATE:20110415
SUMMARY:IPSN 2011
DESCRIPTION:The 10th International Conference on Information Processing i
 n Sensor Networks 
URL:http://www.wikicfp.com/cfp/servlet/event.showcfp?eventid=10824&copyow
 nerid=15281
UID:cfp105528-E@wikicfp.com
END:VEVENT
BEGIN:VEVENT
DTSTAMP:20260420T140410Z
DTSTART;VALUE=DATE:20101022
SUMMARY:IPSN 2011 Abstract Due
DESCRIPTION:The 10th International Conference on Information Processing i
 n Sensor Networks 
URL:http://www.wikicfp.com/cfp/servlet/event.showcfp?eventid=10824&copyow
 nerid=15281
UID:cfp105528-A@wikicfp.com
END:VEVENT
BEGIN:VEVENT
DTSTAMP:20260420T140410Z
DTSTART;VALUE=DATE:20101029
SUMMARY:IPSN 2011 Deadline
DESCRIPTION:The 10th International Conference on Information Processing i
 n Sensor Networks 
URL:http://www.wikicfp.com/cfp/servlet/event.showcfp?eventid=10824&copyow
 nerid=15281
UID:cfp105528-D@wikicfp.com
END:VEVENT
BEGIN:VEVENT
DTSTAMP:20260420T140410Z
DTSTART;VALUE=DATE:20110121
SUMMARY:IPSN 2011 Notification Due
DESCRIPTION:The 10th International Conference on Information Processing i
 n Sensor Networks 
URL:http://www.wikicfp.com/cfp/servlet/event.showcfp?eventid=10824&copyow
 nerid=15281
UID:cfp105528-N@wikicfp.com
END:VEVENT
BEGIN:VEVENT
DTSTAMP:20260420T140410Z
DTSTART;VALUE=DATE:20110509
DTEND;VALUE=DATE:20110512
SUMMARY:MOBILIGHT 2011
DESCRIPTION:3rd International ICST Conference on Mobile Lightweight Wirel
 ess Systems
URL:http://www.wikicfp.com/cfp/servlet/event.showcfp?eventid=10635&copyow
 nerid=15281
UID:cfp105527-E@wikicfp.com
END:VEVENT
BEGIN:VEVENT
DTSTAMP:20260420T140410Z
DTSTART;VALUE=DATE:20110225
SUMMARY:MOBILIGHT 2011 Deadline
DESCRIPTION:3rd International ICST Conference on Mobile Lightweight Wirel
 ess Systems
URL:http://www.wikicfp.com/cfp/servlet/event.showcfp?eventid=10635&copyow
 nerid=15281
UID:cfp105527-D@wikicfp.com
END:VEVENT
BEGIN:VEVENT
DTSTAMP:20260420T140410Z
DTSTART;VALUE=DATE:20110318
SUMMARY:MOBILIGHT 2011 Notification Due
DESCRIPTION:3rd International ICST Conference on Mobile Lightweight Wirel
 ess Systems
URL:http://www.wikicfp.com/cfp/servlet/event.showcfp?eventid=10635&copyow
 nerid=15281
UID:cfp105527-N@wikicfp.com
END:VEVENT
BEGIN:VEVENT
DTSTAMP:20260420T140410Z
DTSTART;VALUE=DATE:20110402
SUMMARY:MOBILIGHT 2011 Final Version Due
DESCRIPTION:3rd International ICST Conference on Mobile Lightweight Wirel
 ess Systems
URL:http://www.wikicfp.com/cfp/servlet/event.showcfp?eventid=10635&copyow
 nerid=15281
UID:cfp105527-N@wikicfp.com
END:VEVENT
END:VCALENDAR
