BEGIN:VCALENDAR
PRODID:-//WikiCFP//ahmedaley 1.0//EN
VERSION:2.0
CALSCALE:GREGORIAN
BEGIN:VEVENT
DTSTAMP:20260423T144723Z
DTSTART;VALUE=DATE:20100701
SUMMARY:IJJ I(3) 2010 Abstract Due
DESCRIPTION:The International Journal of ACM Jordan\, Volume I\, Issue II
 I
URL:http://www.wikicfp.com/cfp/servlet/event.showcfp?eventid=10431&copyow
 nerid=15277
UID:cfp120603-A@wikicfp.com
END:VEVENT
BEGIN:VEVENT
DTSTAMP:20260423T144723Z
DTSTART;VALUE=DATE:20100901
SUMMARY:IJJ I(3) 2010 Deadline
DESCRIPTION:The International Journal of ACM Jordan\, Volume I\, Issue II
 I
URL:http://www.wikicfp.com/cfp/servlet/event.showcfp?eventid=10431&copyow
 nerid=15277
UID:cfp120603-D@wikicfp.com
END:VEVENT
BEGIN:VEVENT
DTSTAMP:20260423T144723Z
DTSTART;VALUE=DATE:20100915
SUMMARY:IJJ I(3) 2010 Notification Due
DESCRIPTION:The International Journal of ACM Jordan\, Volume I\, Issue II
 I
URL:http://www.wikicfp.com/cfp/servlet/event.showcfp?eventid=10431&copyow
 nerid=15277
UID:cfp120603-N@wikicfp.com
END:VEVENT
BEGIN:VEVENT
DTSTAMP:20260423T144723Z
DTSTART;VALUE=DATE:20100920
SUMMARY:IJJ I(3) 2010 Final Version Due
DESCRIPTION:The International Journal of ACM Jordan\, Volume I\, Issue II
 I
URL:http://www.wikicfp.com/cfp/servlet/event.showcfp?eventid=10431&copyow
 nerid=15277
UID:cfp120603-N@wikicfp.com
END:VEVENT
BEGIN:VEVENT
DTSTAMP:20260423T144723Z
DTSTART;VALUE=DATE:20101115
DTEND;VALUE=DATE:20101116
SUMMARY:MTAGS 2010
DESCRIPTION:3rd ACM Workshop on Many-Task Computing on Grids and Supercom
 puters 2010
URL:http://www.wikicfp.com/cfp/servlet/event.showcfp?eventid=10699&copyow
 nerid=15277
UID:cfp120606-E@wikicfp.com
END:VEVENT
BEGIN:VEVENT
DTSTAMP:20260423T144723Z
DTSTART;VALUE=DATE:20100825
SUMMARY:MTAGS 2010 Abstract Due
DESCRIPTION:3rd ACM Workshop on Many-Task Computing on Grids and Supercom
 puters 2010
URL:http://www.wikicfp.com/cfp/servlet/event.showcfp?eventid=10699&copyow
 nerid=15277
UID:cfp120606-A@wikicfp.com
END:VEVENT
BEGIN:VEVENT
DTSTAMP:20260423T144723Z
DTSTART;VALUE=DATE:20100901
SUMMARY:MTAGS 2010 Deadline
DESCRIPTION:3rd ACM Workshop on Many-Task Computing on Grids and Supercom
 puters 2010
URL:http://www.wikicfp.com/cfp/servlet/event.showcfp?eventid=10699&copyow
 nerid=15277
UID:cfp120606-D@wikicfp.com
END:VEVENT
BEGIN:VEVENT
DTSTAMP:20260423T144723Z
DTSTART;VALUE=DATE:20101001
SUMMARY:MTAGS 2010 Notification Due
DESCRIPTION:3rd ACM Workshop on Many-Task Computing on Grids and Supercom
 puters 2010
URL:http://www.wikicfp.com/cfp/servlet/event.showcfp?eventid=10699&copyow
 nerid=15277
UID:cfp120606-N@wikicfp.com
END:VEVENT
BEGIN:VEVENT
DTSTAMP:20260423T144723Z
DTSTART;VALUE=DATE:20101101
SUMMARY:MTAGS 2010 Final Version Due
DESCRIPTION:3rd ACM Workshop on Many-Task Computing on Grids and Supercom
 puters 2010
URL:http://www.wikicfp.com/cfp/servlet/event.showcfp?eventid=10699&copyow
 nerid=15277
UID:cfp120606-N@wikicfp.com
END:VEVENT
BEGIN:VEVENT
DTSTAMP:20260423T144723Z
DTSTART;VALUE=DATE:20101114
DTEND;VALUE=DATE:20101115
SUMMARY:GCE   2010
DESCRIPTION:Gateway Computing Environments  - workshop in IEEE / ACM SC10
  -  Call for Papers
URL:http://www.wikicfp.com/cfp/servlet/event.showcfp?eventid=10715&copyow
 nerid=15277
UID:cfp120607-E@wikicfp.com
END:VEVENT
BEGIN:VEVENT
DTSTAMP:20260423T144723Z
DTSTART;VALUE=DATE:20100905
SUMMARY:GCE   2010 Deadline
DESCRIPTION:Gateway Computing Environments  - workshop in IEEE / ACM SC10
  -  Call for Papers
URL:http://www.wikicfp.com/cfp/servlet/event.showcfp?eventid=10715&copyow
 nerid=15277
UID:cfp120607-D@wikicfp.com
END:VEVENT
BEGIN:VEVENT
DTSTAMP:20260423T144723Z
DTSTART;VALUE=DATE:20100928
SUMMARY:GCE   2010 Notification Due
DESCRIPTION:Gateway Computing Environments  - workshop in IEEE / ACM SC10
  -  Call for Papers
URL:http://www.wikicfp.com/cfp/servlet/event.showcfp?eventid=10715&copyow
 nerid=15277
UID:cfp120607-N@wikicfp.com
END:VEVENT
BEGIN:VEVENT
DTSTAMP:20260423T144723Z
DTSTART;VALUE=DATE:20101029
DTEND;VALUE=DATE:20101030
SUMMARY:SRCA 2010
DESCRIPTION:Secure and Resilient Cyber Architectures Conference at the MI
 TRE Corporation
URL:http://www.wikicfp.com/cfp/servlet/event.showcfp?eventid=11039&copyow
 nerid=15277
UID:cfp120610-E@wikicfp.com
END:VEVENT
BEGIN:VEVENT
DTSTAMP:20260423T144723Z
DTSTART;VALUE=DATE:20100910
SUMMARY:SRCA 2010 Deadline
DESCRIPTION:Secure and Resilient Cyber Architectures Conference at the MI
 TRE Corporation
URL:http://www.wikicfp.com/cfp/servlet/event.showcfp?eventid=11039&copyow
 nerid=15277
UID:cfp120610-D@wikicfp.com
END:VEVENT
BEGIN:VEVENT
DTSTAMP:20260423T144723Z
DTSTART;VALUE=DATE:20100920
SUMMARY:SRCA 2010 Notification Due
DESCRIPTION:Secure and Resilient Cyber Architectures Conference at the MI
 TRE Corporation
URL:http://www.wikicfp.com/cfp/servlet/event.showcfp?eventid=11039&copyow
 nerid=15277
UID:cfp120610-N@wikicfp.com
END:VEVENT
BEGIN:VEVENT
DTSTAMP:20260423T144723Z
DTSTART;VALUE=DATE:20101018
SUMMARY:SRCA 2010 Final Version Due
DESCRIPTION:Secure and Resilient Cyber Architectures Conference at the MI
 TRE Corporation
URL:http://www.wikicfp.com/cfp/servlet/event.showcfp?eventid=11039&copyow
 nerid=15277
UID:cfp120610-N@wikicfp.com
END:VEVENT
BEGIN:VEVENT
DTSTAMP:20260423T144723Z
DTSTART;VALUE=DATE:20100915
SUMMARY:CFP MapReduce Special Issue of CCPE 2010 Deadline
DESCRIPTION:CFP for Special Issue on MapReduce and its Applications (Conc
 urrency and Computation: Practice & Experience)
URL:http://www.wikicfp.com/cfp/servlet/event.showcfp?eventid=10849&copyow
 nerid=15277
UID:cfp120608-D@wikicfp.com
END:VEVENT
BEGIN:VEVENT
DTSTAMP:20260423T144723Z
DTSTART;VALUE=DATE:20101209
DTEND;VALUE=DATE:20101211
SUMMARY:GreeninfotechSummit- 2010
DESCRIPTION:Greeninfotechsummit
URL:http://www.wikicfp.com/cfp/servlet/event.showcfp?eventid=11348&copyow
 nerid=15277
UID:cfp120614-E@wikicfp.com
END:VEVENT
BEGIN:VEVENT
DTSTAMP:20260423T144723Z
DTSTART;VALUE=DATE:20100927
SUMMARY:GreeninfotechSummit- 2010 Deadline
DESCRIPTION:Greeninfotechsummit
URL:http://www.wikicfp.com/cfp/servlet/event.showcfp?eventid=11348&copyow
 nerid=15277
UID:cfp120614-D@wikicfp.com
END:VEVENT
BEGIN:VEVENT
DTSTAMP:20260423T144723Z
DTSTART;VALUE=DATE:20100907
SUMMARY:GreeninfotechSummit- 2010 Notification Due
DESCRIPTION:Greeninfotechsummit
URL:http://www.wikicfp.com/cfp/servlet/event.showcfp?eventid=11348&copyow
 nerid=15277
UID:cfp120614-N@wikicfp.com
END:VEVENT
BEGIN:VEVENT
DTSTAMP:20260423T144723Z
DTSTART;VALUE=DATE:20100927
SUMMARY:GreeninfotechSummit- 2010 Final Version Due
DESCRIPTION:Greeninfotechsummit
URL:http://www.wikicfp.com/cfp/servlet/event.showcfp?eventid=11348&copyow
 nerid=15277
UID:cfp120614-N@wikicfp.com
END:VEVENT
BEGIN:VEVENT
DTSTAMP:20260423T144723Z
DTSTART;VALUE=DATE:20101214
DTEND;VALUE=DATE:20101217
SUMMARY:UCC 2010
DESCRIPTION:First International Conference on Utility and Cloud Computing
 
URL:http://www.wikicfp.com/cfp/servlet/event.showcfp?eventid=11558&copyow
 nerid=15277
UID:cfp120618-E@wikicfp.com
END:VEVENT
BEGIN:VEVENT
DTSTAMP:20260423T144723Z
DTSTART;VALUE=DATE:20100930
SUMMARY:UCC 2010 Deadline
DESCRIPTION:First International Conference on Utility and Cloud Computing
 
URL:http://www.wikicfp.com/cfp/servlet/event.showcfp?eventid=11558&copyow
 nerid=15277
UID:cfp120618-D@wikicfp.com
END:VEVENT
BEGIN:VEVENT
DTSTAMP:20260423T144723Z
DTSTART;VALUE=DATE:20101205
DTEND;VALUE=DATE:20101206
SUMMARY:MASVDC 2010
DESCRIPTION:Workshop on Mirco Architectural Support for Virtualization\, 
 Data Center Computing\, and Clouds
URL:http://www.wikicfp.com/cfp/servlet/event.showcfp?eventid=11221&copyow
 nerid=15277
UID:cfp120612-E@wikicfp.com
END:VEVENT
BEGIN:VEVENT
DTSTAMP:20260423T144723Z
DTSTART;VALUE=DATE:20101011
SUMMARY:MASVDC 2010 Deadline
DESCRIPTION:Workshop on Mirco Architectural Support for Virtualization\, 
 Data Center Computing\, and Clouds
URL:http://www.wikicfp.com/cfp/servlet/event.showcfp?eventid=11221&copyow
 nerid=15277
UID:cfp120612-D@wikicfp.com
END:VEVENT
BEGIN:VEVENT
DTSTAMP:20260423T144723Z
DTSTART;VALUE=DATE:20101025
SUMMARY:MASVDC 2010 Notification Due
DESCRIPTION:Workshop on Mirco Architectural Support for Virtualization\, 
 Data Center Computing\, and Clouds
URL:http://www.wikicfp.com/cfp/servlet/event.showcfp?eventid=11221&copyow
 nerid=15277
UID:cfp120612-N@wikicfp.com
END:VEVENT
BEGIN:VEVENT
DTSTAMP:20260423T144723Z
DTSTART;VALUE=DATE:20101115
SUMMARY:MASVDC 2010 Final Version Due
DESCRIPTION:Workshop on Mirco Architectural Support for Virtualization\, 
 Data Center Computing\, and Clouds
URL:http://www.wikicfp.com/cfp/servlet/event.showcfp?eventid=11221&copyow
 nerid=15277
UID:cfp120612-N@wikicfp.com
END:VEVENT
BEGIN:VEVENT
DTSTAMP:20260423T144723Z
DTSTART;VALUE=DATE:20101015
SUMMARY:CCEA 2011 Deadline
DESCRIPTION:Book on 'Cloud Computing for Enterprise Architectures' - to b
 e published by Springer 2011
URL:http://www.wikicfp.com/cfp/servlet/event.showcfp?eventid=11723&copyow
 nerid=15277
UID:cfp120621-D@wikicfp.com
END:VEVENT
BEGIN:VEVENT
DTSTAMP:20260423T144723Z
DTSTART;VALUE=DATE:20101101
SUMMARY:CCEA 2011 Notification Due
DESCRIPTION:Book on 'Cloud Computing for Enterprise Architectures' - to b
 e published by Springer 2011
URL:http://www.wikicfp.com/cfp/servlet/event.showcfp?eventid=11723&copyow
 nerid=15277
UID:cfp120621-N@wikicfp.com
END:VEVENT
BEGIN:VEVENT
DTSTAMP:20260423T144723Z
DTSTART;VALUE=DATE:20101220
SUMMARY:CCEA 2011 Final Version Due
DESCRIPTION:Book on 'Cloud Computing for Enterprise Architectures' - to b
 e published by Springer 2011
URL:http://www.wikicfp.com/cfp/servlet/event.showcfp?eventid=11723&copyow
 nerid=15277
UID:cfp120621-N@wikicfp.com
END:VEVENT
BEGIN:VEVENT
DTSTAMP:20260423T144723Z
DTSTART;VALUE=DATE:20101210
DTEND;VALUE=DATE:20101212
SUMMARY:LCCC 2010
DESCRIPTION:NIPS 2010 Workshop on Learning on Cores\, Clusters and Clouds
 
URL:http://www.wikicfp.com/cfp/servlet/event.showcfp?eventid=11200&copyow
 nerid=15277
UID:cfp120611-E@wikicfp.com
END:VEVENT
BEGIN:VEVENT
DTSTAMP:20260423T144723Z
DTSTART;VALUE=DATE:20101017
SUMMARY:LCCC 2010 Deadline
DESCRIPTION:NIPS 2010 Workshop on Learning on Cores\, Clusters and Clouds
 
URL:http://www.wikicfp.com/cfp/servlet/event.showcfp?eventid=11200&copyow
 nerid=15277
UID:cfp120611-D@wikicfp.com
END:VEVENT
BEGIN:VEVENT
DTSTAMP:20260423T144723Z
DTSTART;VALUE=DATE:20100815
DTEND;VALUE=DATE:20101211
SUMMARY:Cloud Computing Book 2010
DESCRIPTION:Call for Book Chapters\, Cloud Computing: Methodology\, Syste
 ms\, and Applications
URL:http://www.wikicfp.com/cfp/servlet/event.showcfp?eventid=10508&copyow
 nerid=15277
UID:cfp120604-E@wikicfp.com
END:VEVENT
BEGIN:VEVENT
DTSTAMP:20260423T144723Z
DTSTART;VALUE=DATE:20100815
SUMMARY:Cloud Computing Book 2010 Abstract Due
DESCRIPTION:Call for Book Chapters\, Cloud Computing: Methodology\, Syste
 ms\, and Applications
URL:http://www.wikicfp.com/cfp/servlet/event.showcfp?eventid=10508&copyow
 nerid=15277
UID:cfp120604-A@wikicfp.com
END:VEVENT
BEGIN:VEVENT
DTSTAMP:20260423T144723Z
DTSTART;VALUE=DATE:20101030
SUMMARY:Cloud Computing Book 2010 Deadline
DESCRIPTION:Call for Book Chapters\, Cloud Computing: Methodology\, Syste
 ms\, and Applications
URL:http://www.wikicfp.com/cfp/servlet/event.showcfp?eventid=10508&copyow
 nerid=15277
UID:cfp120604-D@wikicfp.com
END:VEVENT
BEGIN:VEVENT
DTSTAMP:20260423T144723Z
DTSTART;VALUE=DATE:20101120
SUMMARY:Cloud Computing Book 2010 Notification Due
DESCRIPTION:Call for Book Chapters\, Cloud Computing: Methodology\, Syste
 ms\, and Applications
URL:http://www.wikicfp.com/cfp/servlet/event.showcfp?eventid=10508&copyow
 nerid=15277
UID:cfp120604-N@wikicfp.com
END:VEVENT
BEGIN:VEVENT
DTSTAMP:20260423T144723Z
DTSTART;VALUE=DATE:20101210
SUMMARY:Cloud Computing Book 2010 Final Version Due
DESCRIPTION:Call for Book Chapters\, Cloud Computing: Methodology\, Syste
 ms\, and Applications
URL:http://www.wikicfp.com/cfp/servlet/event.showcfp?eventid=10508&copyow
 nerid=15277
UID:cfp120604-N@wikicfp.com
END:VEVENT
BEGIN:VEVENT
DTSTAMP:20260423T144723Z
DTSTART;VALUE=DATE:20110321
DTEND;VALUE=DATE:20110322
SUMMARY:PerCoSC 2011
DESCRIPTION:First IEEE PerCom Workshop on Pervasive Communities and Servi
 ce Clouds
URL:http://www.wikicfp.com/cfp/servlet/event.showcfp?eventid=10964&copyow
 nerid=15277
UID:cfp120609-E@wikicfp.com
END:VEVENT
BEGIN:VEVENT
DTSTAMP:20260423T144723Z
DTSTART;VALUE=DATE:20101031
SUMMARY:PerCoSC 2011 Deadline
DESCRIPTION:First IEEE PerCom Workshop on Pervasive Communities and Servi
 ce Clouds
URL:http://www.wikicfp.com/cfp/servlet/event.showcfp?eventid=10964&copyow
 nerid=15277
UID:cfp120609-D@wikicfp.com
END:VEVENT
BEGIN:VEVENT
DTSTAMP:20260423T144723Z
DTSTART;VALUE=DATE:20110107
SUMMARY:PerCoSC 2011 Notification Due
DESCRIPTION:First IEEE PerCom Workshop on Pervasive Communities and Servi
 ce Clouds
URL:http://www.wikicfp.com/cfp/servlet/event.showcfp?eventid=10964&copyow
 nerid=15277
UID:cfp120609-N@wikicfp.com
END:VEVENT
BEGIN:VEVENT
DTSTAMP:20260423T144723Z
DTSTART;VALUE=DATE:20110128
SUMMARY:PerCoSC 2011 Final Version Due
DESCRIPTION:First IEEE PerCom Workshop on Pervasive Communities and Servi
 ce Clouds
URL:http://www.wikicfp.com/cfp/servlet/event.showcfp?eventid=10964&copyow
 nerid=15277
UID:cfp120609-N@wikicfp.com
END:VEVENT
BEGIN:VEVENT
DTSTAMP:20260423T144723Z
DTSTART;VALUE=DATE:20110516
DTEND;VALUE=DATE:20110517
SUMMARY:WGC-Sec  2011
DESCRIPTION:Workshop on Security for Grid and Cloud Computing
URL:http://www.wikicfp.com/cfp/servlet/event.showcfp?eventid=11692&copyow
 nerid=15277
UID:cfp120619-E@wikicfp.com
END:VEVENT
BEGIN:VEVENT
DTSTAMP:20260423T144723Z
DTSTART;VALUE=DATE:20101101
SUMMARY:WGC-Sec  2011 Deadline
DESCRIPTION:Workshop on Security for Grid and Cloud Computing
URL:http://www.wikicfp.com/cfp/servlet/event.showcfp?eventid=11692&copyow
 nerid=15277
UID:cfp120619-D@wikicfp.com
END:VEVENT
BEGIN:VEVENT
DTSTAMP:20260423T144723Z
DTSTART;VALUE=DATE:20101220
SUMMARY:WGC-Sec  2011 Notification Due
DESCRIPTION:Workshop on Security for Grid and Cloud Computing
URL:http://www.wikicfp.com/cfp/servlet/event.showcfp?eventid=11692&copyow
 nerid=15277
UID:cfp120619-N@wikicfp.com
END:VEVENT
BEGIN:VEVENT
DTSTAMP:20260423T144723Z
DTSTART;VALUE=DATE:20110201
SUMMARY:WGC-Sec  2011 Final Version Due
DESCRIPTION:Workshop on Security for Grid and Cloud Computing
URL:http://www.wikicfp.com/cfp/servlet/event.showcfp?eventid=11692&copyow
 nerid=15277
UID:cfp120619-N@wikicfp.com
END:VEVENT
BEGIN:VEVENT
DTSTAMP:20260423T144723Z
DTSTART;VALUE=DATE:20110320
DTEND;VALUE=DATE:20110326
SUMMARY:ECCSS 2011
DESCRIPTION:First International Workshop on 'Enterprise Cloud Computing: 
 Strategies and Solutions'
URL:http://www.wikicfp.com/cfp/servlet/event.showcfp?eventid=11694&copyow
 nerid=15277
UID:cfp120620-E@wikicfp.com
END:VEVENT
BEGIN:VEVENT
DTSTAMP:20260423T144723Z
DTSTART;VALUE=DATE:20110110
SUMMARY:ECCSS 2011 Abstract Due
DESCRIPTION:First International Workshop on 'Enterprise Cloud Computing: 
 Strategies and Solutions'
URL:http://www.wikicfp.com/cfp/servlet/event.showcfp?eventid=11694&copyow
 nerid=15277
UID:cfp120620-A@wikicfp.com
END:VEVENT
BEGIN:VEVENT
DTSTAMP:20260423T144723Z
DTSTART;VALUE=DATE:20101122
SUMMARY:ECCSS 2011 Deadline
DESCRIPTION:First International Workshop on 'Enterprise Cloud Computing: 
 Strategies and Solutions'
URL:http://www.wikicfp.com/cfp/servlet/event.showcfp?eventid=11694&copyow
 nerid=15277
UID:cfp120620-D@wikicfp.com
END:VEVENT
BEGIN:VEVENT
DTSTAMP:20260423T144723Z
DTSTART;VALUE=DATE:20101210
SUMMARY:ECCSS 2011 Notification Due
DESCRIPTION:First International Workshop on 'Enterprise Cloud Computing: 
 Strategies and Solutions'
URL:http://www.wikicfp.com/cfp/servlet/event.showcfp?eventid=11694&copyow
 nerid=15277
UID:cfp120620-N@wikicfp.com
END:VEVENT
BEGIN:VEVENT
DTSTAMP:20260423T144723Z
DTSTART;VALUE=DATE:20110115
SUMMARY:ECCSS 2011 Final Version Due
DESCRIPTION:First International Workshop on 'Enterprise Cloud Computing: 
 Strategies and Solutions'
URL:http://www.wikicfp.com/cfp/servlet/event.showcfp?eventid=11694&copyow
 nerid=15277
UID:cfp120620-N@wikicfp.com
END:VEVENT
BEGIN:VEVENT
DTSTAMP:20260423T144723Z
DTSTART;VALUE=DATE:20110507
DTEND;VALUE=DATE:20110510
SUMMARY:CLOSER 2011
DESCRIPTION:International Conference on Cloud Computing and Services Scie
 nce (CLOSER)
URL:http://www.wikicfp.com/cfp/servlet/event.showcfp?eventid=11277&copyow
 nerid=15277
UID:cfp120613-E@wikicfp.com
END:VEVENT
BEGIN:VEVENT
DTSTAMP:20260423T144723Z
DTSTART;VALUE=DATE:20110224
SUMMARY:CLOSER 2011 Abstract Due
DESCRIPTION:International Conference on Cloud Computing and Services Scie
 nce (CLOSER)
URL:http://www.wikicfp.com/cfp/servlet/event.showcfp?eventid=11277&copyow
 nerid=15277
UID:cfp120613-A@wikicfp.com
END:VEVENT
BEGIN:VEVENT
DTSTAMP:20260423T144723Z
DTSTART;VALUE=DATE:20101124
SUMMARY:CLOSER 2011 Deadline
DESCRIPTION:International Conference on Cloud Computing and Services Scie
 nce (CLOSER)
URL:http://www.wikicfp.com/cfp/servlet/event.showcfp?eventid=11277&copyow
 nerid=15277
UID:cfp120613-D@wikicfp.com
END:VEVENT
BEGIN:VEVENT
DTSTAMP:20260423T144723Z
DTSTART;VALUE=DATE:20110204
SUMMARY:CLOSER 2011 Notification Due
DESCRIPTION:International Conference on Cloud Computing and Services Scie
 nce (CLOSER)
URL:http://www.wikicfp.com/cfp/servlet/event.showcfp?eventid=11277&copyow
 nerid=15277
UID:cfp120613-N@wikicfp.com
END:VEVENT
BEGIN:VEVENT
DTSTAMP:20260423T144723Z
DTSTART;VALUE=DATE:20110224
SUMMARY:CLOSER 2011 Final Version Due
DESCRIPTION:International Conference on Cloud Computing and Services Scie
 nce (CLOSER)
URL:http://www.wikicfp.com/cfp/servlet/event.showcfp?eventid=11277&copyow
 nerid=15277
UID:cfp120613-N@wikicfp.com
END:VEVENT
BEGIN:VEVENT
DTSTAMP:20260423T144723Z
DTSTART;VALUE=DATE:20110616
DTEND;VALUE=DATE:20110617
SUMMARY:DATACLOUD 2011
DESCRIPTION:Workshop on Data Intensive Computing in the Clouds
URL:http://www.wikicfp.com/cfp/servlet/event.showcfp?eventid=11442&copyow
 nerid=15277
UID:cfp120617-E@wikicfp.com
END:VEVENT
BEGIN:VEVENT
DTSTAMP:20260423T144723Z
DTSTART;VALUE=DATE:20110103
SUMMARY:DATACLOUD 2011 Deadline
DESCRIPTION:Workshop on Data Intensive Computing in the Clouds
URL:http://www.wikicfp.com/cfp/servlet/event.showcfp?eventid=11442&copyow
 nerid=15277
UID:cfp120617-D@wikicfp.com
END:VEVENT
BEGIN:VEVENT
DTSTAMP:20260423T144723Z
DTSTART;VALUE=DATE:20110201
SUMMARY:DATACLOUD 2011 Notification Due
DESCRIPTION:Workshop on Data Intensive Computing in the Clouds
URL:http://www.wikicfp.com/cfp/servlet/event.showcfp?eventid=11442&copyow
 nerid=15277
UID:cfp120617-N@wikicfp.com
END:VEVENT
BEGIN:VEVENT
DTSTAMP:20260423T144723Z
DTSTART;VALUE=DATE:20110221
SUMMARY:DATACLOUD 2011 Final Version Due
DESCRIPTION:Workshop on Data Intensive Computing in the Clouds
URL:http://www.wikicfp.com/cfp/servlet/event.showcfp?eventid=11442&copyow
 nerid=15277
UID:cfp120617-N@wikicfp.com
END:VEVENT
BEGIN:VEVENT
DTSTAMP:20260423T144723Z
DTSTART;VALUE=DATE:20110608
DTEND;VALUE=DATE:20110612
SUMMARY:HPDC 2011
DESCRIPTION:The 20th International Symposium on High Performance Distribu
 ted Computing
URL:http://www.wikicfp.com/cfp/servlet/event.showcfp?eventid=10555&copyow
 nerid=15277
UID:cfp120605-E@wikicfp.com
END:VEVENT
BEGIN:VEVENT
DTSTAMP:20260423T144723Z
DTSTART;VALUE=DATE:20110117
SUMMARY:HPDC 2011 Abstract Due
DESCRIPTION:The 20th International Symposium on High Performance Distribu
 ted Computing
URL:http://www.wikicfp.com/cfp/servlet/event.showcfp?eventid=10555&copyow
 nerid=15277
UID:cfp120605-A@wikicfp.com
END:VEVENT
BEGIN:VEVENT
DTSTAMP:20260423T144723Z
DTSTART;VALUE=DATE:20110124
SUMMARY:HPDC 2011 Deadline
DESCRIPTION:The 20th International Symposium on High Performance Distribu
 ted Computing
URL:http://www.wikicfp.com/cfp/servlet/event.showcfp?eventid=10555&copyow
 nerid=15277
UID:cfp120605-D@wikicfp.com
END:VEVENT
BEGIN:VEVENT
DTSTAMP:20260423T144723Z
DTSTART;VALUE=DATE:20110228
SUMMARY:HPDC 2011 Notification Due
DESCRIPTION:The 20th International Symposium on High Performance Distribu
 ted Computing
URL:http://www.wikicfp.com/cfp/servlet/event.showcfp?eventid=10555&copyow
 nerid=15277
UID:cfp120605-N@wikicfp.com
END:VEVENT
BEGIN:VEVENT
DTSTAMP:20260423T144723Z
DTSTART;VALUE=DATE:20110324
SUMMARY:HPDC 2011 Final Version Due
DESCRIPTION:The 20th International Symposium on High Performance Distribu
 ted Computing
URL:http://www.wikicfp.com/cfp/servlet/event.showcfp?eventid=10555&copyow
 nerid=15277
UID:cfp120605-N@wikicfp.com
END:VEVENT
BEGIN:VEVENT
DTSTAMP:20260423T144723Z
DTSTART;VALUE=DATE:20110705
DTEND;VALUE=DATE:20110711
SUMMARY:CLOUD 2011
DESCRIPTION:IEEE International Conference on Cloud Computing
URL:http://www.wikicfp.com/cfp/servlet/event.showcfp?eventid=11820&copyow
 nerid=15277
UID:cfp120622-E@wikicfp.com
END:VEVENT
BEGIN:VEVENT
DTSTAMP:20260423T144723Z
DTSTART;VALUE=DATE:20110124
SUMMARY:CLOUD 2011 Deadline
DESCRIPTION:IEEE International Conference on Cloud Computing
URL:http://www.wikicfp.com/cfp/servlet/event.showcfp?eventid=11820&copyow
 nerid=15277
UID:cfp120622-D@wikicfp.com
END:VEVENT
BEGIN:VEVENT
DTSTAMP:20260423T144723Z
DTSTART;VALUE=DATE:20110315
SUMMARY:CLOUD 2011 Notification Due
DESCRIPTION:IEEE International Conference on Cloud Computing
URL:http://www.wikicfp.com/cfp/servlet/event.showcfp?eventid=11820&copyow
 nerid=15277
UID:cfp120622-N@wikicfp.com
END:VEVENT
BEGIN:VEVENT
DTSTAMP:20260423T144723Z
DTSTART;VALUE=DATE:20110408
SUMMARY:CLOUD 2011 Final Version Due
DESCRIPTION:IEEE International Conference on Cloud Computing
URL:http://www.wikicfp.com/cfp/servlet/event.showcfp?eventid=11820&copyow
 nerid=15277
UID:cfp120622-N@wikicfp.com
END:VEVENT
BEGIN:VEVENT
DTSTAMP:20260423T144723Z
DTSTART;VALUE=DATE:20110418
DTEND;VALUE=DATE:20110421
SUMMARY:ISWSA 2011
DESCRIPTION:The International conference on Intelligent Semantic Web-Serv
 ices and Applications
URL:http://www.wikicfp.com/cfp/servlet/event.showcfp?eventid=11367&copyow
 nerid=15277
UID:cfp120616-E@wikicfp.com
END:VEVENT
BEGIN:VEVENT
DTSTAMP:20260423T144723Z
DTSTART;VALUE=DATE:20110209
SUMMARY:ISWSA 2011 Abstract Due
DESCRIPTION:The International conference on Intelligent Semantic Web-Serv
 ices and Applications
URL:http://www.wikicfp.com/cfp/servlet/event.showcfp?eventid=11367&copyow
 nerid=15277
UID:cfp120616-A@wikicfp.com
END:VEVENT
BEGIN:VEVENT
DTSTAMP:20260423T144723Z
DTSTART;VALUE=DATE:20110225
SUMMARY:ISWSA 2011 Deadline
DESCRIPTION:The International conference on Intelligent Semantic Web-Serv
 ices and Applications
URL:http://www.wikicfp.com/cfp/servlet/event.showcfp?eventid=11367&copyow
 nerid=15277
UID:cfp120616-D@wikicfp.com
END:VEVENT
BEGIN:VEVENT
DTSTAMP:20260423T144723Z
DTSTART;VALUE=DATE:20110305
SUMMARY:ISWSA 2011 Notification Due
DESCRIPTION:The International conference on Intelligent Semantic Web-Serv
 ices and Applications
URL:http://www.wikicfp.com/cfp/servlet/event.showcfp?eventid=11367&copyow
 nerid=15277
UID:cfp120616-N@wikicfp.com
END:VEVENT
BEGIN:VEVENT
DTSTAMP:20260423T144723Z
DTSTART;VALUE=DATE:20110325
SUMMARY:ISWSA 2011 Final Version Due
DESCRIPTION:The International conference on Intelligent Semantic Web-Serv
 ices and Applications
URL:http://www.wikicfp.com/cfp/servlet/event.showcfp?eventid=11367&copyow
 nerid=15277
UID:cfp120616-N@wikicfp.com
END:VEVENT
BEGIN:VEVENT
DTSTAMP:20260423T144723Z
DTSTART;VALUE=DATE:20130201
SUMMARY:IJJ 2013 Deadline
DESCRIPTION:IThe Research Bulletin of Jordan ACM - ISWSA
URL:http://www.wikicfp.com/cfp/servlet/event.showcfp?eventid=11360&copyow
 nerid=15277
UID:cfp120615-D@wikicfp.com
END:VEVENT
BEGIN:VEVENT
DTSTAMP:20260423T144723Z
DTSTART;VALUE=DATE:20130401
SUMMARY:IJJ 2013 Notification Due
DESCRIPTION:IThe Research Bulletin of Jordan ACM - ISWSA
URL:http://www.wikicfp.com/cfp/servlet/event.showcfp?eventid=11360&copyow
 nerid=15277
UID:cfp120615-N@wikicfp.com
END:VEVENT
BEGIN:VEVENT
DTSTAMP:20260423T144723Z
DTSTART;VALUE=DATE:20130415
SUMMARY:IJJ 2013 Final Version Due
DESCRIPTION:IThe Research Bulletin of Jordan ACM - ISWSA
URL:http://www.wikicfp.com/cfp/servlet/event.showcfp?eventid=11360&copyow
 nerid=15277
UID:cfp120615-N@wikicfp.com
END:VEVENT
END:VCALENDAR
