BEGIN:VCALENDAR
PRODID:-//WikiCFP//lei_david_li 1.0//EN
VERSION:2.0
CALSCALE:GREGORIAN
BEGIN:VEVENT
DTSTAMP:20260425T143545Z
DTSTART;VALUE=DATE:20190615
SUMMARY:Sensors journal 2019 Deadline
DESCRIPTION:Special Issue on Green\, Energy-efficient and Sustainable Net
 works
URL:http://www.wikicfp.com/cfp/servlet/event.showcfp?eventid=78650&copyow
 nerid=151720
UID:cfp790835-D@wikicfp.com
END:VEVENT
BEGIN:VEVENT
DTSTAMP:20260425T143545Z
DTSTART;VALUE=DATE:20191127
DTEND;VALUE=DATE:20191129
SUMMARY:ISSH2 2019
DESCRIPTION:International Symposium on Sustainable Hydrogen
URL:http://www.wikicfp.com/cfp/servlet/event.showcfp?eventid=86125&copyow
 nerid=151720
UID:cfp790830-E@wikicfp.com
END:VEVENT
BEGIN:VEVENT
DTSTAMP:20260425T143545Z
DTSTART;VALUE=DATE:20190710
SUMMARY:ISSH2 2019 Deadline
DESCRIPTION:International Symposium on Sustainable Hydrogen
URL:http://www.wikicfp.com/cfp/servlet/event.showcfp?eventid=86125&copyow
 nerid=151720
UID:cfp790830-D@wikicfp.com
END:VEVENT
BEGIN:VEVENT
DTSTAMP:20260425T143545Z
DTSTART;VALUE=DATE:20190720
SUMMARY:ISSH2 2019 Notification Due
DESCRIPTION:International Symposium on Sustainable Hydrogen
URL:http://www.wikicfp.com/cfp/servlet/event.showcfp?eventid=86125&copyow
 nerid=151720
UID:cfp790830-N@wikicfp.com
END:VEVENT
BEGIN:VEVENT
DTSTAMP:20260425T143545Z
DTSTART;VALUE=DATE:20190930
SUMMARY:ISSH2 2019 Final Version Due
DESCRIPTION:International Symposium on Sustainable Hydrogen
URL:http://www.wikicfp.com/cfp/servlet/event.showcfp?eventid=86125&copyow
 nerid=151720
UID:cfp790830-N@wikicfp.com
END:VEVENT
BEGIN:VEVENT
DTSTAMP:20260425T143545Z
DTSTART;VALUE=DATE:20191213
DTEND;VALUE=DATE:20191216
SUMMARY:COCOA 2019
DESCRIPTION:Conference on Combinatorial Optimization and Applications
URL:http://www.wikicfp.com/cfp/servlet/event.showcfp?eventid=89853&copyow
 nerid=151720
UID:cfp790832-E@wikicfp.com
END:VEVENT
BEGIN:VEVENT
DTSTAMP:20260425T143545Z
DTSTART;VALUE=DATE:20190807
SUMMARY:COCOA 2019 Deadline
DESCRIPTION:Conference on Combinatorial Optimization and Applications
URL:http://www.wikicfp.com/cfp/servlet/event.showcfp?eventid=89853&copyow
 nerid=151720
UID:cfp790832-D@wikicfp.com
END:VEVENT
BEGIN:VEVENT
DTSTAMP:20260425T143545Z
DTSTART;VALUE=DATE:20190917
SUMMARY:COCOA 2019 Notification Due
DESCRIPTION:Conference on Combinatorial Optimization and Applications
URL:http://www.wikicfp.com/cfp/servlet/event.showcfp?eventid=89853&copyow
 nerid=151720
UID:cfp790832-N@wikicfp.com
END:VEVENT
BEGIN:VEVENT
DTSTAMP:20260425T143545Z
DTSTART;VALUE=DATE:20191001
SUMMARY:COCOA 2019 Final Version Due
DESCRIPTION:Conference on Combinatorial Optimization and Applications
URL:http://www.wikicfp.com/cfp/servlet/event.showcfp?eventid=89853&copyow
 nerid=151720
UID:cfp790832-N@wikicfp.com
END:VEVENT
END:VCALENDAR
