BEGIN:VCALENDAR
PRODID:-//WikiCFP//mrpusda 1.0//EN
VERSION:2.0
CALSCALE:GREGORIAN
BEGIN:VEVENT
DTSTAMP:20260423T080724Z
DTSTART;VALUE=DATE:20191028
DTEND;VALUE=DATE:20191101
SUMMARY:CSEI 2019
DESCRIPTION:I International Conference on Computer Science\, Electronics 
 and Industrial Engineering
URL:http://www.wikicfp.com/cfp/servlet/event.showcfp?eventid=86251&copyow
 nerid=151379
UID:cfp789908-E@wikicfp.com
END:VEVENT
BEGIN:VEVENT
DTSTAMP:20260423T080724Z
DTSTART;VALUE=DATE:20190628
SUMMARY:CSEI 2019 Deadline
DESCRIPTION:I International Conference on Computer Science\, Electronics 
 and Industrial Engineering
URL:http://www.wikicfp.com/cfp/servlet/event.showcfp?eventid=86251&copyow
 nerid=151379
UID:cfp789908-D@wikicfp.com
END:VEVENT
BEGIN:VEVENT
DTSTAMP:20260423T080724Z
DTSTART;VALUE=DATE:20190816
SUMMARY:CSEI 2019 Notification Due
DESCRIPTION:I International Conference on Computer Science\, Electronics 
 and Industrial Engineering
URL:http://www.wikicfp.com/cfp/servlet/event.showcfp?eventid=86251&copyow
 nerid=151379
UID:cfp789908-N@wikicfp.com
END:VEVENT
BEGIN:VEVENT
DTSTAMP:20260423T080724Z
DTSTART;VALUE=DATE:20190922
SUMMARY:CSEI 2019 Final Version Due
DESCRIPTION:I International Conference on Computer Science\, Electronics 
 and Industrial Engineering
URL:http://www.wikicfp.com/cfp/servlet/event.showcfp?eventid=86251&copyow
 nerid=151379
UID:cfp789908-N@wikicfp.com
END:VEVENT
END:VCALENDAR
