BEGIN:VCALENDAR
PRODID:-//WikiCFP//mathiasfls 1.0//EN
VERSION:2.0
CALSCALE:GREGORIAN
BEGIN:VEVENT
DTSTAMP:20260419T205710Z
DTSTART;VALUE=DATE:20180903
DTEND;VALUE=DATE:20180906
SUMMARY:SNMAM 2018
DESCRIPTION:Track on Social Network and Media Analysis and Mining - SIMBi
 g 2018
URL:http://www.wikicfp.com/cfp/servlet/event.showcfp?eventid=74841&copyow
 nerid=150673
UID:cfp788624-E@wikicfp.com
END:VEVENT
BEGIN:VEVENT
DTSTAMP:20260419T205710Z
DTSTART;VALUE=DATE:20180607
SUMMARY:SNMAM 2018 Deadline
DESCRIPTION:Track on Social Network and Media Analysis and Mining - SIMBi
 g 2018
URL:http://www.wikicfp.com/cfp/servlet/event.showcfp?eventid=74841&copyow
 nerid=150673
UID:cfp788624-D@wikicfp.com
END:VEVENT
BEGIN:VEVENT
DTSTAMP:20260419T205710Z
DTSTART;VALUE=DATE:20180630
SUMMARY:SNMAM 2018 Notification Due
DESCRIPTION:Track on Social Network and Media Analysis and Mining - SIMBi
 g 2018
URL:http://www.wikicfp.com/cfp/servlet/event.showcfp?eventid=74841&copyow
 nerid=150673
UID:cfp788624-N@wikicfp.com
END:VEVENT
BEGIN:VEVENT
DTSTAMP:20260419T205710Z
DTSTART;VALUE=DATE:20180721
SUMMARY:SNMAM 2018 Final Version Due
DESCRIPTION:Track on Social Network and Media Analysis and Mining - SIMBi
 g 2018
URL:http://www.wikicfp.com/cfp/servlet/event.showcfp?eventid=74841&copyow
 nerid=150673
UID:cfp788624-N@wikicfp.com
END:VEVENT
BEGIN:VEVENT
DTSTAMP:20260419T205710Z
DTSTART;VALUE=DATE:20180811
DTEND;VALUE=DATE:20180813
SUMMARY:ICCMS 2018
DESCRIPTION:International Conference on Communication and Media Studies â
 Media and Power in the Digital Ageâ
URL:http://www.wikicfp.com/cfp/servlet/event.showcfp?eventid=76258&copyow
 nerid=150673
UID:cfp788622-E@wikicfp.com
END:VEVENT
BEGIN:VEVENT
DTSTAMP:20260419T205710Z
DTSTART;VALUE=DATE:20180615
SUMMARY:ICCMS 2018 Deadline
DESCRIPTION:International Conference on Communication and Media Studies â
 Media and Power in the Digital Ageâ
URL:http://www.wikicfp.com/cfp/servlet/event.showcfp?eventid=76258&copyow
 nerid=150673
UID:cfp788622-D@wikicfp.com
END:VEVENT
BEGIN:VEVENT
DTSTAMP:20260419T205710Z
DTSTART;VALUE=DATE:20181231
SUMMARY:Book proposals 2018 Deadline
DESCRIPTION:Call for book proposals: digital humanities\, media and socie
 ty\, environmental humanities
URL:http://www.wikicfp.com/cfp/servlet/event.showcfp?eventid=79517&copyow
 nerid=150673
UID:cfp788623-D@wikicfp.com
END:VEVENT
BEGIN:VEVENT
DTSTAMP:20260419T205710Z
DTSTART;VALUE=DATE:20190429
DTEND;VALUE=DATE:20190430
SUMMARY:IEEE CAOS 2019
DESCRIPTION:The First IEEE INFOCOM Workshop on the  Communications and Ne
 tworking Aspects of Online Social Networks
URL:http://www.wikicfp.com/cfp/servlet/event.showcfp?eventid=82225&copyow
 nerid=150673
UID:cfp788625-E@wikicfp.com
END:VEVENT
BEGIN:VEVENT
DTSTAMP:20260419T205710Z
DTSTART;VALUE=DATE:20190124
SUMMARY:IEEE CAOS 2019 Deadline
DESCRIPTION:The First IEEE INFOCOM Workshop on the  Communications and Ne
 tworking Aspects of Online Social Networks
URL:http://www.wikicfp.com/cfp/servlet/event.showcfp?eventid=82225&copyow
 nerid=150673
UID:cfp788625-D@wikicfp.com
END:VEVENT
BEGIN:VEVENT
DTSTAMP:20260419T205710Z
DTSTART;VALUE=DATE:20190222
SUMMARY:IEEE CAOS 2019 Notification Due
DESCRIPTION:The First IEEE INFOCOM Workshop on the  Communications and Ne
 tworking Aspects of Online Social Networks
URL:http://www.wikicfp.com/cfp/servlet/event.showcfp?eventid=82225&copyow
 nerid=150673
UID:cfp788625-N@wikicfp.com
END:VEVENT
BEGIN:VEVENT
DTSTAMP:20260419T205710Z
DTSTART;VALUE=DATE:20190310
SUMMARY:IEEE CAOS 2019 Final Version Due
DESCRIPTION:The First IEEE INFOCOM Workshop on the  Communications and Ne
 tworking Aspects of Online Social Networks
URL:http://www.wikicfp.com/cfp/servlet/event.showcfp?eventid=82225&copyow
 nerid=150673
UID:cfp788625-N@wikicfp.com
END:VEVENT
BEGIN:VEVENT
DTSTAMP:20260419T205710Z
DTSTART;VALUE=DATE:20190714
DTEND;VALUE=DATE:20190718
SUMMARY:SocialSec 2019
DESCRIPTION:5th International Symposium on Security and Privacy in Social
  Networks and Big Data
URL:http://www.wikicfp.com/cfp/servlet/event.showcfp?eventid=86937&copyow
 nerid=150673
UID:cfp788626-E@wikicfp.com
END:VEVENT
BEGIN:VEVENT
DTSTAMP:20260419T205710Z
DTSTART;VALUE=DATE:20190410
SUMMARY:SocialSec 2019 Deadline
DESCRIPTION:5th International Symposium on Security and Privacy in Social
  Networks and Big Data
URL:http://www.wikicfp.com/cfp/servlet/event.showcfp?eventid=86937&copyow
 nerid=150673
UID:cfp788626-D@wikicfp.com
END:VEVENT
BEGIN:VEVENT
DTSTAMP:20260419T205710Z
DTSTART;VALUE=DATE:20190510
SUMMARY:SocialSec 2019 Notification Due
DESCRIPTION:5th International Symposium on Security and Privacy in Social
  Networks and Big Data
URL:http://www.wikicfp.com/cfp/servlet/event.showcfp?eventid=86937&copyow
 nerid=150673
UID:cfp788626-N@wikicfp.com
END:VEVENT
BEGIN:VEVENT
DTSTAMP:20260419T205710Z
DTSTART;VALUE=DATE:20190520
SUMMARY:SocialSec 2019 Final Version Due
DESCRIPTION:5th International Symposium on Security and Privacy in Social
  Networks and Big Data
URL:http://www.wikicfp.com/cfp/servlet/event.showcfp?eventid=86937&copyow
 nerid=150673
UID:cfp788626-N@wikicfp.com
END:VEVENT
BEGIN:VEVENT
DTSTAMP:20260419T205710Z
DTSTART;VALUE=DATE:20190826
DTEND;VALUE=DATE:20190829
SUMMARY:MISNC 2019
DESCRIPTION:The 6th Multidisciplinary International Social Networks Confe
 rence
URL:http://www.wikicfp.com/cfp/servlet/event.showcfp?eventid=87597&copyow
 nerid=150673
UID:cfp788627-E@wikicfp.com
END:VEVENT
BEGIN:VEVENT
DTSTAMP:20260419T205710Z
DTSTART;VALUE=DATE:20190430
SUMMARY:MISNC 2019 Deadline
DESCRIPTION:The 6th Multidisciplinary International Social Networks Confe
 rence
URL:http://www.wikicfp.com/cfp/servlet/event.showcfp?eventid=87597&copyow
 nerid=150673
UID:cfp788627-D@wikicfp.com
END:VEVENT
BEGIN:VEVENT
DTSTAMP:20260419T205710Z
DTSTART;VALUE=DATE:20190530
SUMMARY:MISNC 2019 Notification Due
DESCRIPTION:The 6th Multidisciplinary International Social Networks Confe
 rence
URL:http://www.wikicfp.com/cfp/servlet/event.showcfp?eventid=87597&copyow
 nerid=150673
UID:cfp788627-N@wikicfp.com
END:VEVENT
BEGIN:VEVENT
DTSTAMP:20260419T205710Z
DTSTART;VALUE=DATE:20190601
SUMMARY:MISNC 2019 Final Version Due
DESCRIPTION:The 6th Multidisciplinary International Social Networks Confe
 rence
URL:http://www.wikicfp.com/cfp/servlet/event.showcfp?eventid=87597&copyow
 nerid=150673
UID:cfp788627-N@wikicfp.com
END:VEVENT
BEGIN:VEVENT
DTSTAMP:20260419T205710Z
DTSTART;VALUE=DATE:20191015
DTEND;VALUE=DATE:20191019
SUMMARY:GCCE-OSDSC 2019
DESCRIPTION:GCCE 2019: Organized Session on Data Science and Its Applicat
 ion to Consumer Technology
URL:http://www.wikicfp.com/cfp/servlet/event.showcfp?eventid=89518&copyow
 nerid=150673
UID:cfp788621-E@wikicfp.com
END:VEVENT
BEGIN:VEVENT
DTSTAMP:20260419T205710Z
DTSTART;VALUE=DATE:20190527
SUMMARY:GCCE-OSDSC 2019 Deadline
DESCRIPTION:GCCE 2019: Organized Session on Data Science and Its Applicat
 ion to Consumer Technology
URL:http://www.wikicfp.com/cfp/servlet/event.showcfp?eventid=89518&copyow
 nerid=150673
UID:cfp788621-D@wikicfp.com
END:VEVENT
BEGIN:VEVENT
DTSTAMP:20260419T205710Z
DTSTART;VALUE=DATE:20190719
SUMMARY:GCCE-OSDSC 2019 Notification Due
DESCRIPTION:GCCE 2019: Organized Session on Data Science and Its Applicat
 ion to Consumer Technology
URL:http://www.wikicfp.com/cfp/servlet/event.showcfp?eventid=89518&copyow
 nerid=150673
UID:cfp788621-N@wikicfp.com
END:VEVENT
BEGIN:VEVENT
DTSTAMP:20260419T205710Z
DTSTART;VALUE=DATE:20190809
SUMMARY:GCCE-OSDSC 2019 Final Version Due
DESCRIPTION:GCCE 2019: Organized Session on Data Science and Its Applicat
 ion to Consumer Technology
URL:http://www.wikicfp.com/cfp/servlet/event.showcfp?eventid=89518&copyow
 nerid=150673
UID:cfp788621-N@wikicfp.com
END:VEVENT
BEGIN:VEVENT
DTSTAMP:20260419T205710Z
DTSTART;VALUE=DATE:20190821
DTEND;VALUE=DATE:20190824
SUMMARY:SNMAM 2019
DESCRIPTION:Track on Social Network and Media Analysis and Mining
URL:http://www.wikicfp.com/cfp/servlet/event.showcfp?eventid=86252&copyow
 nerid=150673
UID:cfp788618-E@wikicfp.com
END:VEVENT
BEGIN:VEVENT
DTSTAMP:20260419T205710Z
DTSTART;VALUE=DATE:20190531
SUMMARY:SNMAM 2019 Deadline
DESCRIPTION:Track on Social Network and Media Analysis and Mining
URL:http://www.wikicfp.com/cfp/servlet/event.showcfp?eventid=86252&copyow
 nerid=150673
UID:cfp788618-D@wikicfp.com
END:VEVENT
BEGIN:VEVENT
DTSTAMP:20260419T205710Z
DTSTART;VALUE=DATE:20190621
SUMMARY:SNMAM 2019 Notification Due
DESCRIPTION:Track on Social Network and Media Analysis and Mining
URL:http://www.wikicfp.com/cfp/servlet/event.showcfp?eventid=86252&copyow
 nerid=150673
UID:cfp788618-N@wikicfp.com
END:VEVENT
BEGIN:VEVENT
DTSTAMP:20260419T205710Z
DTSTART;VALUE=DATE:20190701
SUMMARY:SNMAM 2019 Final Version Due
DESCRIPTION:Track on Social Network and Media Analysis and Mining
URL:http://www.wikicfp.com/cfp/servlet/event.showcfp?eventid=86252&copyow
 nerid=150673
UID:cfp788618-N@wikicfp.com
END:VEVENT
BEGIN:VEVENT
DTSTAMP:20260419T205710Z
DTSTART;VALUE=DATE:20191119
DTEND;VALUE=DATE:20191121
SUMMARY:DSC 5.0 2019
DESCRIPTION:Data Science Conference 5.0
URL:http://www.wikicfp.com/cfp/servlet/event.showcfp?eventid=88016&copyow
 nerid=150673
UID:cfp788620-E@wikicfp.com
END:VEVENT
BEGIN:VEVENT
DTSTAMP:20260419T205710Z
DTSTART;VALUE=DATE:20190603
SUMMARY:DSC 5.0 2019 Deadline
DESCRIPTION:Data Science Conference 5.0
URL:http://www.wikicfp.com/cfp/servlet/event.showcfp?eventid=88016&copyow
 nerid=150673
UID:cfp788620-D@wikicfp.com
END:VEVENT
BEGIN:VEVENT
DTSTAMP:20260419T205710Z
DTSTART;VALUE=DATE:20190715
SUMMARY:DSC 5.0 2019 Notification Due
DESCRIPTION:Data Science Conference 5.0
URL:http://www.wikicfp.com/cfp/servlet/event.showcfp?eventid=88016&copyow
 nerid=150673
UID:cfp788620-N@wikicfp.com
END:VEVENT
BEGIN:VEVENT
DTSTAMP:20260419T205710Z
DTSTART;VALUE=DATE:20191001
SUMMARY:DSC 5.0 2019 Final Version Due
DESCRIPTION:Data Science Conference 5.0
URL:http://www.wikicfp.com/cfp/servlet/event.showcfp?eventid=88016&copyow
 nerid=150673
UID:cfp788620-N@wikicfp.com
END:VEVENT
BEGIN:VEVENT
DTSTAMP:20260419T205710Z
DTSTART;VALUE=DATE:20190828
DTEND;VALUE=DATE:20190830
SUMMARY:SCDS  2019
DESCRIPTION:The Fifth International Conference on Soft Computing in Data 
 Science and Analytics (SCDS) 2019
URL:http://www.wikicfp.com/cfp/servlet/event.showcfp?eventid=86330&copyow
 nerid=150673
UID:cfp788619-E@wikicfp.com
END:VEVENT
BEGIN:VEVENT
DTSTAMP:20260419T205710Z
DTSTART;VALUE=DATE:20190715
SUMMARY:SCDS  2019 Deadline
DESCRIPTION:The Fifth International Conference on Soft Computing in Data 
 Science and Analytics (SCDS) 2019
URL:http://www.wikicfp.com/cfp/servlet/event.showcfp?eventid=86330&copyow
 nerid=150673
UID:cfp788619-D@wikicfp.com
END:VEVENT
BEGIN:VEVENT
DTSTAMP:20260419T205710Z
DTSTART;VALUE=DATE:20190722
SUMMARY:SCDS  2019 Notification Due
DESCRIPTION:The Fifth International Conference on Soft Computing in Data 
 Science and Analytics (SCDS) 2019
URL:http://www.wikicfp.com/cfp/servlet/event.showcfp?eventid=86330&copyow
 nerid=150673
UID:cfp788619-N@wikicfp.com
END:VEVENT
BEGIN:VEVENT
DTSTAMP:20260419T205710Z
DTSTART;VALUE=DATE:20190727
SUMMARY:SCDS  2019 Final Version Due
DESCRIPTION:The Fifth International Conference on Soft Computing in Data 
 Science and Analytics (SCDS) 2019
URL:http://www.wikicfp.com/cfp/servlet/event.showcfp?eventid=86330&copyow
 nerid=150673
UID:cfp788619-N@wikicfp.com
END:VEVENT
BEGIN:VEVENT
DTSTAMP:20260419T205710Z
DTSTART;VALUE=DATE:20191221
DTEND;VALUE=DATE:20191223
SUMMARY:CNDC  2019
DESCRIPTION:6th International Conference on Computer Networks & Data Comm
 unications 
URL:http://www.wikicfp.com/cfp/servlet/event.showcfp?eventid=80624&copyow
 nerid=150673
UID:cfp788615-E@wikicfp.com
END:VEVENT
BEGIN:VEVENT
DTSTAMP:20260419T205710Z
DTSTART;VALUE=DATE:20191130
SUMMARY:CNDC  2019 Deadline
DESCRIPTION:6th International Conference on Computer Networks & Data Comm
 unications 
URL:http://www.wikicfp.com/cfp/servlet/event.showcfp?eventid=80624&copyow
 nerid=150673
UID:cfp788615-D@wikicfp.com
END:VEVENT
BEGIN:VEVENT
DTSTAMP:20260419T205710Z
DTSTART;VALUE=DATE:20191214
SUMMARY:CNDC  2019 Notification Due
DESCRIPTION:6th International Conference on Computer Networks & Data Comm
 unications 
URL:http://www.wikicfp.com/cfp/servlet/event.showcfp?eventid=80624&copyow
 nerid=150673
UID:cfp788615-N@wikicfp.com
END:VEVENT
BEGIN:VEVENT
DTSTAMP:20260419T205710Z
DTSTART;VALUE=DATE:20191217
SUMMARY:CNDC  2019 Final Version Due
DESCRIPTION:6th International Conference on Computer Networks & Data Comm
 unications 
URL:http://www.wikicfp.com/cfp/servlet/event.showcfp?eventid=80624&copyow
 nerid=150673
UID:cfp788615-N@wikicfp.com
END:VEVENT
BEGIN:VEVENT
DTSTAMP:20260419T205710Z
DTSTART;VALUE=DATE:20200724
DTEND;VALUE=DATE:20200727
SUMMARY:ACM-DMBD 2020-Ei/Scopus 2020
DESCRIPTION:2020 3rd International Conference on Data Mining and Big Data
  (DMBD 2020)
URL:http://www.wikicfp.com/cfp/servlet/event.showcfp?eventid=75287&copyow
 nerid=150673
UID:cfp788617-E@wikicfp.com
END:VEVENT
BEGIN:VEVENT
DTSTAMP:20260419T205710Z
DTSTART;VALUE=DATE:20200724
SUMMARY:ACM-DMBD 2020-Ei/Scopus 2020 Deadline
DESCRIPTION:2020 3rd International Conference on Data Mining and Big Data
  (DMBD 2020)
URL:http://www.wikicfp.com/cfp/servlet/event.showcfp?eventid=75287&copyow
 nerid=150673
UID:cfp788617-D@wikicfp.com
END:VEVENT
BEGIN:VEVENT
DTSTAMP:20260419T205710Z
DTSTART;VALUE=DATE:20201226
DTEND;VALUE=DATE:20201228
SUMMARY:BIOS 2020
DESCRIPTION:6th International Conference on Bioinformatics & Biosciences
URL:http://www.wikicfp.com/cfp/servlet/event.showcfp?eventid=77850&copyow
 nerid=150673
UID:cfp788616-E@wikicfp.com
END:VEVENT
BEGIN:VEVENT
DTSTAMP:20260419T205710Z
DTSTART;VALUE=DATE:20201212
SUMMARY:BIOS 2020 Deadline
DESCRIPTION:6th International Conference on Bioinformatics & Biosciences
URL:http://www.wikicfp.com/cfp/servlet/event.showcfp?eventid=77850&copyow
 nerid=150673
UID:cfp788616-D@wikicfp.com
END:VEVENT
BEGIN:VEVENT
DTSTAMP:20260419T205710Z
DTSTART;VALUE=DATE:20201219
SUMMARY:BIOS 2020 Notification Due
DESCRIPTION:6th International Conference on Bioinformatics & Biosciences
URL:http://www.wikicfp.com/cfp/servlet/event.showcfp?eventid=77850&copyow
 nerid=150673
UID:cfp788616-N@wikicfp.com
END:VEVENT
BEGIN:VEVENT
DTSTAMP:20260419T205710Z
DTSTART;VALUE=DATE:20201222
SUMMARY:BIOS 2020 Final Version Due
DESCRIPTION:6th International Conference on Bioinformatics & Biosciences
URL:http://www.wikicfp.com/cfp/servlet/event.showcfp?eventid=77850&copyow
 nerid=150673
UID:cfp788616-N@wikicfp.com
END:VEVENT
END:VCALENDAR
