BEGIN:VCALENDAR
PRODID:-//WikiCFP//Mrinalini 1.0//EN
VERSION:2.0
CALSCALE:GREGORIAN
BEGIN:VEVENT
DTSTAMP:20260421T194514Z
DTSTART;VALUE=DATE:20191202
DTEND;VALUE=DATE:20191206
SUMMARY:AusDM 2019
DESCRIPTION:The 17th Australasian Data Mining Conference
URL:http://www.wikicfp.com/cfp/servlet/event.showcfp?eventid=87329&copyow
 nerid=150494
UID:cfp788282-E@wikicfp.com
END:VEVENT
BEGIN:VEVENT
DTSTAMP:20260421T194514Z
DTSTART;VALUE=DATE:20190715
SUMMARY:AusDM 2019 Abstract Due
DESCRIPTION:The 17th Australasian Data Mining Conference
URL:http://www.wikicfp.com/cfp/servlet/event.showcfp?eventid=87329&copyow
 nerid=150494
UID:cfp788282-A@wikicfp.com
END:VEVENT
BEGIN:VEVENT
DTSTAMP:20260421T194514Z
DTSTART;VALUE=DATE:20190722
SUMMARY:AusDM 2019 Deadline
DESCRIPTION:The 17th Australasian Data Mining Conference
URL:http://www.wikicfp.com/cfp/servlet/event.showcfp?eventid=87329&copyow
 nerid=150494
UID:cfp788282-D@wikicfp.com
END:VEVENT
BEGIN:VEVENT
DTSTAMP:20260421T194514Z
DTSTART;VALUE=DATE:20190930
SUMMARY:AusDM 2019 Notification Due
DESCRIPTION:The 17th Australasian Data Mining Conference
URL:http://www.wikicfp.com/cfp/servlet/event.showcfp?eventid=87329&copyow
 nerid=150494
UID:cfp788282-N@wikicfp.com
END:VEVENT
BEGIN:VEVENT
DTSTAMP:20260421T194514Z
DTSTART;VALUE=DATE:20191014
SUMMARY:AusDM 2019 Final Version Due
DESCRIPTION:The 17th Australasian Data Mining Conference
URL:http://www.wikicfp.com/cfp/servlet/event.showcfp?eventid=87329&copyow
 nerid=150494
UID:cfp788282-N@wikicfp.com
END:VEVENT
BEGIN:VEVENT
DTSTAMP:20260421T194514Z
DTSTART;VALUE=DATE:20220929
DTEND;VALUE=DATE:20221001
SUMMARY:ICIIP 2022
DESCRIPTION:ãACM ICPS EI SCOPUSã2019 4th International Conference on 
 Intelligent Information Processing
URL:http://www.wikicfp.com/cfp/servlet/event.showcfp?eventid=62735&copyow
 nerid=150494
UID:cfp788856-E@wikicfp.com
END:VEVENT
BEGIN:VEVENT
DTSTAMP:20260421T194514Z
DTSTART;VALUE=DATE:20190729
SUMMARY:ICIIP 2022 Deadline
DESCRIPTION:ãACM ICPS EI SCOPUSã2019 4th International Conference on 
 Intelligent Information Processing
URL:http://www.wikicfp.com/cfp/servlet/event.showcfp?eventid=62735&copyow
 nerid=150494
UID:cfp788856-D@wikicfp.com
END:VEVENT
BEGIN:VEVENT
DTSTAMP:20260421T194514Z
DTSTART;VALUE=DATE:20191202
DTEND;VALUE=DATE:20191205
SUMMARY:iCMLDE 2019
DESCRIPTION:International Conference on Machine Learning and Data Enginee
 ring
URL:http://www.wikicfp.com/cfp/servlet/event.showcfp?eventid=86804&copyow
 nerid=150494
UID:cfp788867-E@wikicfp.com
END:VEVENT
BEGIN:VEVENT
DTSTAMP:20260421T194514Z
DTSTART;VALUE=DATE:20190730
SUMMARY:iCMLDE 2019 Deadline
DESCRIPTION:International Conference on Machine Learning and Data Enginee
 ring
URL:http://www.wikicfp.com/cfp/servlet/event.showcfp?eventid=86804&copyow
 nerid=150494
UID:cfp788867-D@wikicfp.com
END:VEVENT
BEGIN:VEVENT
DTSTAMP:20260421T194514Z
DTSTART;VALUE=DATE:20190915
SUMMARY:iCMLDE 2019 Notification Due
DESCRIPTION:International Conference on Machine Learning and Data Enginee
 ring
URL:http://www.wikicfp.com/cfp/servlet/event.showcfp?eventid=86804&copyow
 nerid=150494
UID:cfp788867-N@wikicfp.com
END:VEVENT
BEGIN:VEVENT
DTSTAMP:20260421T194514Z
DTSTART;VALUE=DATE:20191015
SUMMARY:iCMLDE 2019 Final Version Due
DESCRIPTION:International Conference on Machine Learning and Data Enginee
 ring
URL:http://www.wikicfp.com/cfp/servlet/event.showcfp?eventid=86804&copyow
 nerid=150494
UID:cfp788867-N@wikicfp.com
END:VEVENT
BEGIN:VEVENT
DTSTAMP:20260421T194514Z
DTSTART;VALUE=DATE:20191209
DTEND;VALUE=DATE:20191213
SUMMARY:IEEE BigData 2019
DESCRIPTION:IEEE International Conference on Big Data
URL:http://www.wikicfp.com/cfp/servlet/event.showcfp?eventid=83991&copyow
 nerid=150494
UID:cfp788855-E@wikicfp.com
END:VEVENT
BEGIN:VEVENT
DTSTAMP:20260421T194514Z
DTSTART;VALUE=DATE:20190819
SUMMARY:IEEE BigData 2019 Deadline
DESCRIPTION:IEEE International Conference on Big Data
URL:http://www.wikicfp.com/cfp/servlet/event.showcfp?eventid=83991&copyow
 nerid=150494
UID:cfp788855-D@wikicfp.com
END:VEVENT
BEGIN:VEVENT
DTSTAMP:20260421T194514Z
DTSTART;VALUE=DATE:20191016
SUMMARY:IEEE BigData 2019 Notification Due
DESCRIPTION:IEEE International Conference on Big Data
URL:http://www.wikicfp.com/cfp/servlet/event.showcfp?eventid=83991&copyow
 nerid=150494
UID:cfp788855-N@wikicfp.com
END:VEVENT
BEGIN:VEVENT
DTSTAMP:20260421T194514Z
DTSTART;VALUE=DATE:20191110
SUMMARY:IEEE BigData 2019 Final Version Due
DESCRIPTION:IEEE International Conference on Big Data
URL:http://www.wikicfp.com/cfp/servlet/event.showcfp?eventid=83991&copyow
 nerid=150494
UID:cfp788855-N@wikicfp.com
END:VEVENT
BEGIN:VEVENT
DTSTAMP:20260421T194514Z
DTSTART;VALUE=DATE:20191216
DTEND;VALUE=DATE:20191220
SUMMARY:ICMLA 2019
DESCRIPTION:18th IEEE International Conference on Machine Learning and Ap
 plications
URL:http://www.wikicfp.com/cfp/servlet/event.showcfp?eventid=83617&copyow
 nerid=150494
UID:cfp788277-E@wikicfp.com
END:VEVENT
BEGIN:VEVENT
DTSTAMP:20260421T194514Z
DTSTART;VALUE=DATE:20190907
SUMMARY:ICMLA 2019 Deadline
DESCRIPTION:18th IEEE International Conference on Machine Learning and Ap
 plications
URL:http://www.wikicfp.com/cfp/servlet/event.showcfp?eventid=83617&copyow
 nerid=150494
UID:cfp788277-D@wikicfp.com
END:VEVENT
BEGIN:VEVENT
DTSTAMP:20260421T194514Z
DTSTART;VALUE=DATE:20191007
SUMMARY:ICMLA 2019 Notification Due
DESCRIPTION:18th IEEE International Conference on Machine Learning and Ap
 plications
URL:http://www.wikicfp.com/cfp/servlet/event.showcfp?eventid=83617&copyow
 nerid=150494
UID:cfp788277-N@wikicfp.com
END:VEVENT
BEGIN:VEVENT
DTSTAMP:20260421T194514Z
DTSTART;VALUE=DATE:20191017
SUMMARY:ICMLA 2019 Final Version Due
DESCRIPTION:18th IEEE International Conference on Machine Learning and Ap
 plications
URL:http://www.wikicfp.com/cfp/servlet/event.showcfp?eventid=83617&copyow
 nerid=150494
UID:cfp788277-N@wikicfp.com
END:VEVENT
BEGIN:VEVENT
DTSTAMP:20260421T194514Z
DTSTART;VALUE=DATE:20191104
DTEND;VALUE=DATE:20191107
SUMMARY:MSA 2019
DESCRIPTION:38th Scientific Conference on Multivariate Statistical Analys
 is MSA 2019
URL:http://www.wikicfp.com/cfp/servlet/event.showcfp?eventid=87128&copyow
 nerid=150494
UID:cfp788854-E@wikicfp.com
END:VEVENT
BEGIN:VEVENT
DTSTAMP:20260421T194514Z
DTSTART;VALUE=DATE:20190915
SUMMARY:MSA 2019 Deadline
DESCRIPTION:38th Scientific Conference on Multivariate Statistical Analys
 is MSA 2019
URL:http://www.wikicfp.com/cfp/servlet/event.showcfp?eventid=87128&copyow
 nerid=150494
UID:cfp788854-D@wikicfp.com
END:VEVENT
BEGIN:VEVENT
DTSTAMP:20260421T194514Z
DTSTART;VALUE=DATE:20200503
DTEND;VALUE=DATE:20200506
SUMMARY:CDMA  2020
DESCRIPTION:6th Intâl Conference on Data Science and Machine Learning A
 pplications (CDMA 2020)
URL:http://www.wikicfp.com/cfp/servlet/event.showcfp?eventid=89862&copyow
 nerid=150494
UID:cfp788285-E@wikicfp.com
END:VEVENT
BEGIN:VEVENT
DTSTAMP:20260421T194514Z
DTSTART;VALUE=DATE:20191015
SUMMARY:CDMA  2020 Deadline
DESCRIPTION:6th Intâl Conference on Data Science and Machine Learning A
 pplications (CDMA 2020)
URL:http://www.wikicfp.com/cfp/servlet/event.showcfp?eventid=89862&copyow
 nerid=150494
UID:cfp788285-D@wikicfp.com
END:VEVENT
BEGIN:VEVENT
DTSTAMP:20260421T194514Z
DTSTART;VALUE=DATE:20191215
SUMMARY:CDMA  2020 Notification Due
DESCRIPTION:6th Intâl Conference on Data Science and Machine Learning A
 pplications (CDMA 2020)
URL:http://www.wikicfp.com/cfp/servlet/event.showcfp?eventid=89862&copyow
 nerid=150494
UID:cfp788285-N@wikicfp.com
END:VEVENT
BEGIN:VEVENT
DTSTAMP:20260421T194514Z
DTSTART;VALUE=DATE:20200101
SUMMARY:CDMA  2020 Final Version Due
DESCRIPTION:6th Intâl Conference on Data Science and Machine Learning A
 pplications (CDMA 2020)
URL:http://www.wikicfp.com/cfp/servlet/event.showcfp?eventid=89862&copyow
 nerid=150494
UID:cfp788285-N@wikicfp.com
END:VEVENT
END:VCALENDAR
