BEGIN:VCALENDAR
PRODID:-//WikiCFP//ZdraveskiDejan1977 1.0//EN
VERSION:2.0
CALSCALE:GREGORIAN
BEGIN:VEVENT
DTSTAMP:20260422T192727Z
DTSTART;VALUE=DATE:20191019
DTEND;VALUE=DATE:20191021
SUMMARY:DTES 2019
DESCRIPTION:Digital Transformation of the Economy and Society: Shaping th
 e Future
URL:http://www.wikicfp.com/cfp/servlet/event.showcfp?eventid=89904&copyow
 nerid=150318
UID:cfp788001-E@wikicfp.com
END:VEVENT
BEGIN:VEVENT
DTSTAMP:20260422T192727Z
DTSTART;VALUE=DATE:20190901
SUMMARY:DTES 2019 Deadline
DESCRIPTION:Digital Transformation of the Economy and Society: Shaping th
 e Future
URL:http://www.wikicfp.com/cfp/servlet/event.showcfp?eventid=89904&copyow
 nerid=150318
UID:cfp788001-D@wikicfp.com
END:VEVENT
BEGIN:VEVENT
DTSTAMP:20260422T192727Z
DTSTART;VALUE=DATE:20190915
SUMMARY:DTES 2019 Notification Due
DESCRIPTION:Digital Transformation of the Economy and Society: Shaping th
 e Future
URL:http://www.wikicfp.com/cfp/servlet/event.showcfp?eventid=89904&copyow
 nerid=150318
UID:cfp788001-N@wikicfp.com
END:VEVENT
BEGIN:VEVENT
DTSTAMP:20260422T192727Z
DTSTART;VALUE=DATE:20191001
SUMMARY:DTES 2019 Final Version Due
DESCRIPTION:Digital Transformation of the Economy and Society: Shaping th
 e Future
URL:http://www.wikicfp.com/cfp/servlet/event.showcfp?eventid=89904&copyow
 nerid=150318
UID:cfp788001-N@wikicfp.com
END:VEVENT
END:VCALENDAR
