BEGIN:VCALENDAR
PRODID:-//WikiCFP//overture2019 1.0//EN
VERSION:2.0
CALSCALE:GREGORIAN
BEGIN:VEVENT
DTSTAMP:20260419T175240Z
DTSTART;VALUE=DATE:20191008
DTEND;VALUE=DATE:20191009
SUMMARY:Overture 2019
DESCRIPTION:The 17th Overture Workshop on VDM
URL:http://www.wikicfp.com/cfp/servlet/event.showcfp?eventid=88624&copyow
 nerid=148570
UID:cfp781713-E@wikicfp.com
END:VEVENT
BEGIN:VEVENT
DTSTAMP:20260419T175240Z
DTSTART;VALUE=DATE:20190609
SUMMARY:Overture 2019 Abstract Due
DESCRIPTION:The 17th Overture Workshop on VDM
URL:http://www.wikicfp.com/cfp/servlet/event.showcfp?eventid=88624&copyow
 nerid=148570
UID:cfp781713-A@wikicfp.com
END:VEVENT
BEGIN:VEVENT
DTSTAMP:20260419T175240Z
DTSTART;VALUE=DATE:20190616
SUMMARY:Overture 2019 Deadline
DESCRIPTION:The 17th Overture Workshop on VDM
URL:http://www.wikicfp.com/cfp/servlet/event.showcfp?eventid=88624&copyow
 nerid=148570
UID:cfp781713-D@wikicfp.com
END:VEVENT
BEGIN:VEVENT
DTSTAMP:20260419T175240Z
DTSTART;VALUE=DATE:20190815
SUMMARY:Overture 2019 Notification Due
DESCRIPTION:The 17th Overture Workshop on VDM
URL:http://www.wikicfp.com/cfp/servlet/event.showcfp?eventid=88624&copyow
 nerid=148570
UID:cfp781713-N@wikicfp.com
END:VEVENT
BEGIN:VEVENT
DTSTAMP:20260419T175240Z
DTSTART;VALUE=DATE:20190827
SUMMARY:Overture 2019 Final Version Due
DESCRIPTION:The 17th Overture Workshop on VDM
URL:http://www.wikicfp.com/cfp/servlet/event.showcfp?eventid=88624&copyow
 nerid=148570
UID:cfp781713-N@wikicfp.com
END:VEVENT
END:VCALENDAR
