BEGIN:VCALENDAR
PRODID:-//WikiCFP//bgnr1 1.0//EN
VERSION:2.0
CALSCALE:GREGORIAN
BEGIN:VEVENT
DTSTAMP:20260422T133045Z
DTSTART;VALUE=DATE:20260427
DTEND;VALUE=DATE:20260502
SUMMARY:LAK 2026
DESCRIPTION:16th International Conference on Learning Analytics and Knowl
 edge	
URL:http://www.wikicfp.com/cfp/servlet/event.showcfp?eventid=189278&copyo
 wnerid=14805
UID:cfp1031876-E@wikicfp.com
END:VEVENT
BEGIN:VEVENT
DTSTAMP:20260422T133045Z
DTSTART;VALUE=DATE:20250929
SUMMARY:LAK 2026 Deadline
DESCRIPTION:16th International Conference on Learning Analytics and Knowl
 edge	
URL:http://www.wikicfp.com/cfp/servlet/event.showcfp?eventid=189278&copyo
 wnerid=14805
UID:cfp1031876-D@wikicfp.com
END:VEVENT
BEGIN:VEVENT
DTSTAMP:20260422T133045Z
DTSTART;VALUE=DATE:20260815
DTEND;VALUE=DATE:20260822
SUMMARY:IJCAI 2026
DESCRIPTION:35th International Joint Conference on Artificial Intelligenc
 e
URL:http://www.wikicfp.com/cfp/servlet/event.showcfp?eventid=190167&copyo
 wnerid=14805
UID:cfp1023423-E@wikicfp.com
END:VEVENT
BEGIN:VEVENT
DTSTAMP:20260422T133045Z
DTSTART;VALUE=DATE:20260131
SUMMARY:IJCAI 2026 Deadline
DESCRIPTION:35th International Joint Conference on Artificial Intelligenc
 e
URL:http://www.wikicfp.com/cfp/servlet/event.showcfp?eventid=190167&copyo
 wnerid=14805
UID:cfp1023423-D@wikicfp.com
END:VEVENT
BEGIN:VEVENT
DTSTAMP:20260422T133045Z
DTSTART;VALUE=DATE:20260703
DTEND;VALUE=DATE:20260705
SUMMARY:CoNLL  2026
DESCRIPTION:30th Conference on Computational Natural Language Learning
URL:http://www.wikicfp.com/cfp/servlet/event.showcfp?eventid=191131&copyo
 wnerid=14805
UID:cfp1028094-E@wikicfp.com
END:VEVENT
BEGIN:VEVENT
DTSTAMP:20260422T133045Z
DTSTART;VALUE=DATE:20260219
SUMMARY:CoNLL  2026 Deadline
DESCRIPTION:30th Conference on Computational Natural Language Learning
URL:http://www.wikicfp.com/cfp/servlet/event.showcfp?eventid=191131&copyo
 wnerid=14805
UID:cfp1028094-D@wikicfp.com
END:VEVENT
BEGIN:VEVENT
DTSTAMP:20260422T133045Z
DTSTART;VALUE=DATE:20260421
SUMMARY:CoNLL  2026 Notification Due
DESCRIPTION:30th Conference on Computational Natural Language Learning
URL:http://www.wikicfp.com/cfp/servlet/event.showcfp?eventid=191131&copyo
 wnerid=14805
UID:cfp1028094-N@wikicfp.com
END:VEVENT
BEGIN:VEVENT
DTSTAMP:20260422T133045Z
DTSTART;VALUE=DATE:20260512
SUMMARY:CoNLL  2026 Final Version Due
DESCRIPTION:30th Conference on Computational Natural Language Learning
URL:http://www.wikicfp.com/cfp/servlet/event.showcfp?eventid=191131&copyo
 wnerid=14805
UID:cfp1028094-N@wikicfp.com
END:VEVENT
BEGIN:VEVENT
DTSTAMP:20260422T133045Z
DTSTART;VALUE=DATE:20260907
DTEND;VALUE=DATE:20260912
SUMMARY:ECML PKDD 2026
DESCRIPTION:ECML PKDD 2026 : European Conference on Machine Learning and 
 Principles and Practice of Knowledge Discovery in Databases
URL:http://www.wikicfp.com/cfp/servlet/event.showcfp?eventid=191917&copyo
 wnerid=14805
UID:cfp1028311-E@wikicfp.com
END:VEVENT
BEGIN:VEVENT
DTSTAMP:20260422T133045Z
DTSTART;VALUE=DATE:20260305
SUMMARY:ECML PKDD 2026 Abstract Due
DESCRIPTION:ECML PKDD 2026 : European Conference on Machine Learning and 
 Principles and Practice of Knowledge Discovery in Databases
URL:http://www.wikicfp.com/cfp/servlet/event.showcfp?eventid=191917&copyo
 wnerid=14805
UID:cfp1028311-A@wikicfp.com
END:VEVENT
BEGIN:VEVENT
DTSTAMP:20260422T133045Z
DTSTART;VALUE=DATE:20260312
SUMMARY:ECML PKDD 2026 Deadline
DESCRIPTION:ECML PKDD 2026 : European Conference on Machine Learning and 
 Principles and Practice of Knowledge Discovery in Databases
URL:http://www.wikicfp.com/cfp/servlet/event.showcfp?eventid=191917&copyo
 wnerid=14805
UID:cfp1028311-D@wikicfp.com
END:VEVENT
BEGIN:VEVENT
DTSTAMP:20260422T133045Z
DTSTART;VALUE=DATE:20260527
SUMMARY:ECML PKDD 2026 Notification Due
DESCRIPTION:ECML PKDD 2026 : European Conference on Machine Learning and 
 Principles and Practice of Knowledge Discovery in Databases
URL:http://www.wikicfp.com/cfp/servlet/event.showcfp?eventid=191917&copyo
 wnerid=14805
UID:cfp1028311-N@wikicfp.com
END:VEVENT
BEGIN:VEVENT
DTSTAMP:20260422T133045Z
DTSTART;VALUE=DATE:20260618
SUMMARY:ECML PKDD 2026 Final Version Due
DESCRIPTION:ECML PKDD 2026 : European Conference on Machine Learning and 
 Principles and Practice of Knowledge Discovery in Databases
URL:http://www.wikicfp.com/cfp/servlet/event.showcfp?eventid=191917&copyo
 wnerid=14805
UID:cfp1028311-N@wikicfp.com
END:VEVENT
END:VCALENDAR
