BEGIN:VCALENDAR
PRODID:-//WikiCFP//lr231654111 1.0//EN
VERSION:2.0
CALSCALE:GREGORIAN
BEGIN:VEVENT
DTSTAMP:20260424T070147Z
DTSTART;VALUE=DATE:20190614
DTEND;VALUE=DATE:20190616
SUMMARY:14th ICLICE 2019
DESCRIPTION:14th International Conference on Language\, Innovation\, Cult
 ure\, and Education 2019
URL:http://www.wikicfp.com/cfp/servlet/event.showcfp?eventid=87896&copyow
 nerid=147860
UID:cfp780629-E@wikicfp.com
END:VEVENT
BEGIN:VEVENT
DTSTAMP:20260424T070147Z
DTSTART;VALUE=DATE:20190508
SUMMARY:14th ICLICE 2019 Deadline
DESCRIPTION:14th International Conference on Language\, Innovation\, Cult
 ure\, and Education 2019
URL:http://www.wikicfp.com/cfp/servlet/event.showcfp?eventid=87896&copyow
 nerid=147860
UID:cfp780629-D@wikicfp.com
END:VEVENT
BEGIN:VEVENT
DTSTAMP:20260424T070147Z
DTSTART;VALUE=DATE:20190529
SUMMARY:14th ICLICE 2019 Final Version Due
DESCRIPTION:14th International Conference on Language\, Innovation\, Cult
 ure\, and Education 2019
URL:http://www.wikicfp.com/cfp/servlet/event.showcfp?eventid=87896&copyow
 nerid=147860
UID:cfp780629-N@wikicfp.com
END:VEVENT
END:VCALENDAR
