BEGIN:VCALENDAR
PRODID:-//WikiCFP//jerome_nobecourt 1.0//EN
VERSION:2.0
CALSCALE:GREGORIAN
BEGIN:VEVENT
DTSTAMP:20260424T021603Z
DTSTART;VALUE=DATE:20101031
SUMMARY:AIJ-AIWSSR 2011 Deadline
DESCRIPTION:Artificial Intelligence Journal Special Issue on Artificial I
 ntelligence\, Wikipedia and Semi-Structured Resources
URL:http://www.wikicfp.com/cfp/servlet/event.showcfp?eventid=8963&copyown
 erid=14785
UID:cfp102773-D@wikicfp.com
END:VEVENT
BEGIN:VEVENT
DTSTAMP:20260424T021603Z
DTSTART;VALUE=DATE:20110131
SUMMARY:AIJ-AIWSSR 2011 Notification Due
DESCRIPTION:Artificial Intelligence Journal Special Issue on Artificial I
 ntelligence\, Wikipedia and Semi-Structured Resources
URL:http://www.wikicfp.com/cfp/servlet/event.showcfp?eventid=8963&copyown
 erid=14785
UID:cfp102773-N@wikicfp.com
END:VEVENT
BEGIN:VEVENT
DTSTAMP:20260424T021603Z
DTSTART;VALUE=DATE:20110731
SUMMARY:AIJ-AIWSSR 2011 Final Version Due
DESCRIPTION:Artificial Intelligence Journal Special Issue on Artificial I
 ntelligence\, Wikipedia and Semi-Structured Resources
URL:http://www.wikicfp.com/cfp/servlet/event.showcfp?eventid=8963&copyown
 erid=14785
UID:cfp102773-N@wikicfp.com
END:VEVENT
END:VCALENDAR
