BEGIN:VCALENDAR
PRODID:-//WikiCFP//andreinour 1.0//EN
VERSION:2.0
CALSCALE:GREGORIAN
BEGIN:VEVENT
DTSTAMP:20260419T181122Z
DTSTART;VALUE=DATE:20190926
DTEND;VALUE=DATE:20190929
SUMMARY:Mobility IoT 2019
DESCRIPTION:Mobility IoT 2019 - 6th EAI International Conference on Smart
  Cities within SmartCity360Â° Summit
URL:http://www.wikicfp.com/cfp/servlet/event.showcfp?eventid=86795&copyow
 nerid=146584
UID:cfp778516-E@wikicfp.com
END:VEVENT
BEGIN:VEVENT
DTSTAMP:20260419T181122Z
DTSTART;VALUE=DATE:20190415
SUMMARY:Mobility IoT 2019 Deadline
DESCRIPTION:Mobility IoT 2019 - 6th EAI International Conference on Smart
  Cities within SmartCity360Â° Summit
URL:http://www.wikicfp.com/cfp/servlet/event.showcfp?eventid=86795&copyow
 nerid=146584
UID:cfp778516-D@wikicfp.com
END:VEVENT
BEGIN:VEVENT
DTSTAMP:20260419T181122Z
DTSTART;VALUE=DATE:20190530
SUMMARY:Mobility IoT 2019 Notification Due
DESCRIPTION:Mobility IoT 2019 - 6th EAI International Conference on Smart
  Cities within SmartCity360Â° Summit
URL:http://www.wikicfp.com/cfp/servlet/event.showcfp?eventid=86795&copyow
 nerid=146584
UID:cfp778516-N@wikicfp.com
END:VEVENT
BEGIN:VEVENT
DTSTAMP:20260419T181122Z
DTSTART;VALUE=DATE:20190630
SUMMARY:Mobility IoT 2019 Final Version Due
DESCRIPTION:Mobility IoT 2019 - 6th EAI International Conference on Smart
  Cities within SmartCity360Â° Summit
URL:http://www.wikicfp.com/cfp/servlet/event.showcfp?eventid=86795&copyow
 nerid=146584
UID:cfp778516-N@wikicfp.com
END:VEVENT
BEGIN:VEVENT
DTSTAMP:20260419T181122Z
DTSTART;VALUE=DATE:20190627
DTEND;VALUE=DATE:20190630
SUMMARY:ECAI 2019
DESCRIPTION:11th edition of the Electronics\, Computers and Artificial In
 telligence - ECAI-2019 
URL:http://www.wikicfp.com/cfp/servlet/event.showcfp?eventid=86083&copyow
 nerid=146584
UID:cfp778515-E@wikicfp.com
END:VEVENT
BEGIN:VEVENT
DTSTAMP:20260419T181122Z
DTSTART;VALUE=DATE:20190502
SUMMARY:ECAI 2019 Abstract Due
DESCRIPTION:11th edition of the Electronics\, Computers and Artificial In
 telligence - ECAI-2019 
URL:http://www.wikicfp.com/cfp/servlet/event.showcfp?eventid=86083&copyow
 nerid=146584
UID:cfp778515-A@wikicfp.com
END:VEVENT
BEGIN:VEVENT
DTSTAMP:20260419T181122Z
DTSTART;VALUE=DATE:20190519
SUMMARY:ECAI 2019 Deadline
DESCRIPTION:11th edition of the Electronics\, Computers and Artificial In
 telligence - ECAI-2019 
URL:http://www.wikicfp.com/cfp/servlet/event.showcfp?eventid=86083&copyow
 nerid=146584
UID:cfp778515-D@wikicfp.com
END:VEVENT
BEGIN:VEVENT
DTSTAMP:20260419T181122Z
DTSTART;VALUE=DATE:20190602
SUMMARY:ECAI 2019 Notification Due
DESCRIPTION:11th edition of the Electronics\, Computers and Artificial In
 telligence - ECAI-2019 
URL:http://www.wikicfp.com/cfp/servlet/event.showcfp?eventid=86083&copyow
 nerid=146584
UID:cfp778515-N@wikicfp.com
END:VEVENT
END:VCALENDAR
