BEGIN:VCALENDAR
PRODID:-//WikiCFP//Charmander 1.0//EN
VERSION:2.0
CALSCALE:GREGORIAN
BEGIN:VEVENT
DTSTAMP:20260421T230207Z
DTSTART;VALUE=DATE:20191027
DTEND;VALUE=DATE:20191031
SUMMARY:SOSP 2019
DESCRIPTION:The 27th ACM Symposium on Operating Systems Principles
URL:http://www.wikicfp.com/cfp/servlet/event.showcfp?eventid=83728&copyow
 nerid=146484
UID:cfp903072-E@wikicfp.com
END:VEVENT
BEGIN:VEVENT
DTSTAMP:20260421T230207Z
DTSTART;VALUE=DATE:20190417
SUMMARY:SOSP 2019 Abstract Due
DESCRIPTION:The 27th ACM Symposium on Operating Systems Principles
URL:http://www.wikicfp.com/cfp/servlet/event.showcfp?eventid=83728&copyow
 nerid=146484
UID:cfp903072-A@wikicfp.com
END:VEVENT
BEGIN:VEVENT
DTSTAMP:20260421T230207Z
DTSTART;VALUE=DATE:20190424
SUMMARY:SOSP 2019 Deadline
DESCRIPTION:The 27th ACM Symposium on Operating Systems Principles
URL:http://www.wikicfp.com/cfp/servlet/event.showcfp?eventid=83728&copyow
 nerid=146484
UID:cfp903072-D@wikicfp.com
END:VEVENT
BEGIN:VEVENT
DTSTAMP:20260421T230207Z
DTSTART;VALUE=DATE:20210510
DTEND;VALUE=DATE:20210514
SUMMARY:INFOCOM 2021
DESCRIPTION:INFOCOM 2021 : International Conference on Computer Communica
 tions
URL:http://www.wikicfp.com/cfp/servlet/event.showcfp?eventid=108295&copyo
 wnerid=146484
UID:cfp849544-E@wikicfp.com
END:VEVENT
BEGIN:VEVENT
DTSTAMP:20260421T230207Z
DTSTART;VALUE=DATE:20200815
SUMMARY:INFOCOM 2021 Deadline
DESCRIPTION:INFOCOM 2021 : International Conference on Computer Communica
 tions
URL:http://www.wikicfp.com/cfp/servlet/event.showcfp?eventid=108295&copyo
 wnerid=146484
UID:cfp849544-D@wikicfp.com
END:VEVENT
BEGIN:VEVENT
DTSTAMP:20260421T230207Z
DTSTART;VALUE=DATE:20200331
DTEND;VALUE=DATE:20200401
SUMMARY:ASPLOS 2021
DESCRIPTION:Architectural Support for Programming Languages and Operating
  Systems
URL:http://www.wikicfp.com/cfp/servlet/event.showcfp?eventid=109027&copyo
 wnerid=146484
UID:cfp903077-E@wikicfp.com
END:VEVENT
BEGIN:VEVENT
DTSTAMP:20260421T230207Z
DTSTART;VALUE=DATE:20200814
SUMMARY:ASPLOS 2021 Abstract Due
DESCRIPTION:Architectural Support for Programming Languages and Operating
  Systems
URL:http://www.wikicfp.com/cfp/servlet/event.showcfp?eventid=109027&copyo
 wnerid=146484
UID:cfp903077-A@wikicfp.com
END:VEVENT
BEGIN:VEVENT
DTSTAMP:20260421T230207Z
DTSTART;VALUE=DATE:20200821
SUMMARY:ASPLOS 2021 Deadline
DESCRIPTION:Architectural Support for Programming Languages and Operating
  Systems
URL:http://www.wikicfp.com/cfp/servlet/event.showcfp?eventid=109027&copyo
 wnerid=146484
UID:cfp903077-D@wikicfp.com
END:VEVENT
BEGIN:VEVENT
DTSTAMP:20260421T230207Z
DTSTART;VALUE=DATE:20201104
SUMMARY:ASPLOS 2021 Notification Due
DESCRIPTION:Architectural Support for Programming Languages and Operating
  Systems
URL:http://www.wikicfp.com/cfp/servlet/event.showcfp?eventid=109027&copyo
 wnerid=146484
UID:cfp903077-N@wikicfp.com
END:VEVENT
BEGIN:VEVENT
DTSTAMP:20260421T230207Z
DTSTART;VALUE=DATE:20210201
SUMMARY:ASPLOS 2021 Final Version Due
DESCRIPTION:Architectural Support for Programming Languages and Operating
  Systems
URL:http://www.wikicfp.com/cfp/servlet/event.showcfp?eventid=109027&copyo
 wnerid=146484
UID:cfp903077-N@wikicfp.com
END:VEVENT
BEGIN:VEVENT
DTSTAMP:20260421T230207Z
DTSTART;VALUE=DATE:20220404
DTEND;VALUE=DATE:20220407
SUMMARY:NSDI 2022
DESCRIPTION:19th USENIX Symposium on Networked Systems Design and Impleme
 ntation
URL:http://www.wikicfp.com/cfp/servlet/event.showcfp?eventid=125223&copyo
 wnerid=146484
UID:cfp903079-E@wikicfp.com
END:VEVENT
BEGIN:VEVENT
DTSTAMP:20260421T230207Z
DTSTART;VALUE=DATE:20210304
SUMMARY:NSDI 2022 Abstract Due
DESCRIPTION:19th USENIX Symposium on Networked Systems Design and Impleme
 ntation
URL:http://www.wikicfp.com/cfp/servlet/event.showcfp?eventid=125223&copyo
 wnerid=146484
UID:cfp903079-A@wikicfp.com
END:VEVENT
BEGIN:VEVENT
DTSTAMP:20260421T230207Z
DTSTART;VALUE=DATE:20210310
SUMMARY:NSDI 2022 Deadline
DESCRIPTION:19th USENIX Symposium on Networked Systems Design and Impleme
 ntation
URL:http://www.wikicfp.com/cfp/servlet/event.showcfp?eventid=125223&copyo
 wnerid=146484
UID:cfp903079-D@wikicfp.com
END:VEVENT
BEGIN:VEVENT
DTSTAMP:20260421T230207Z
DTSTART;VALUE=DATE:20210611
SUMMARY:NSDI 2022 Notification Due
DESCRIPTION:19th USENIX Symposium on Networked Systems Design and Impleme
 ntation
URL:http://www.wikicfp.com/cfp/servlet/event.showcfp?eventid=125223&copyo
 wnerid=146484
UID:cfp903079-N@wikicfp.com
END:VEVENT
BEGIN:VEVENT
DTSTAMP:20260421T230207Z
DTSTART;VALUE=DATE:20210825
SUMMARY:NSDI 2022 Final Version Due
DESCRIPTION:19th USENIX Symposium on Networked Systems Design and Impleme
 ntation
URL:http://www.wikicfp.com/cfp/servlet/event.showcfp?eventid=125223&copyo
 wnerid=146484
UID:cfp903079-N@wikicfp.com
END:VEVENT
BEGIN:VEVENT
DTSTAMP:20260421T230207Z
DTSTART;VALUE=DATE:20211114
DTEND;VALUE=DATE:20211120
SUMMARY:SC 2021
DESCRIPTION:Conference on High Performance Computing (Supercomputing)
URL:http://www.wikicfp.com/cfp/servlet/event.showcfp?eventid=122031&copyo
 wnerid=146484
UID:cfp903070-E@wikicfp.com
END:VEVENT
BEGIN:VEVENT
DTSTAMP:20260421T230207Z
DTSTART;VALUE=DATE:20210402
SUMMARY:SC 2021 Abstract Due
DESCRIPTION:Conference on High Performance Computing (Supercomputing)
URL:http://www.wikicfp.com/cfp/servlet/event.showcfp?eventid=122031&copyo
 wnerid=146484
UID:cfp903070-A@wikicfp.com
END:VEVENT
BEGIN:VEVENT
DTSTAMP:20260421T230207Z
DTSTART;VALUE=DATE:20210409
SUMMARY:SC 2021 Deadline
DESCRIPTION:Conference on High Performance Computing (Supercomputing)
URL:http://www.wikicfp.com/cfp/servlet/event.showcfp?eventid=122031&copyo
 wnerid=146484
UID:cfp903070-D@wikicfp.com
END:VEVENT
BEGIN:VEVENT
DTSTAMP:20260421T230207Z
DTSTART;VALUE=DATE:20210621
SUMMARY:SC 2021 Notification Due
DESCRIPTION:Conference on High Performance Computing (Supercomputing)
URL:http://www.wikicfp.com/cfp/servlet/event.showcfp?eventid=122031&copyo
 wnerid=146484
UID:cfp903070-N@wikicfp.com
END:VEVENT
BEGIN:VEVENT
DTSTAMP:20260421T230207Z
DTSTART;VALUE=DATE:20210827
SUMMARY:SC 2021 Final Version Due
DESCRIPTION:Conference on High Performance Computing (Supercomputing)
URL:http://www.wikicfp.com/cfp/servlet/event.showcfp?eventid=122031&copyo
 wnerid=146484
UID:cfp903070-N@wikicfp.com
END:VEVENT
BEGIN:VEVENT
DTSTAMP:20260421T230207Z
DTSTART;VALUE=DATE:20210809
DTEND;VALUE=DATE:20210813
SUMMARY:ICPP 2021
DESCRIPTION:International Conference on Parallel Processing
URL:http://www.wikicfp.com/cfp/servlet/event.showcfp?eventid=122909&copyo
 wnerid=146484
UID:cfp903071-E@wikicfp.com
END:VEVENT
BEGIN:VEVENT
DTSTAMP:20260421T230207Z
DTSTART;VALUE=DATE:20210416
SUMMARY:ICPP 2021 Deadline
DESCRIPTION:International Conference on Parallel Processing
URL:http://www.wikicfp.com/cfp/servlet/event.showcfp?eventid=122909&copyo
 wnerid=146484
UID:cfp903071-D@wikicfp.com
END:VEVENT
BEGIN:VEVENT
DTSTAMP:20260421T230207Z
DTSTART;VALUE=DATE:20210727
DTEND;VALUE=DATE:20210729
SUMMARY:HotStorage 2021
DESCRIPTION:13th Workshop on Hot Topics in Storage and File Systems
URL:http://www.wikicfp.com/cfp/servlet/event.showcfp?eventid=125731&copyo
 wnerid=146484
UID:cfp903078-E@wikicfp.com
END:VEVENT
BEGIN:VEVENT
DTSTAMP:20260421T230207Z
DTSTART;VALUE=DATE:20210430
SUMMARY:HotStorage 2021 Deadline
DESCRIPTION:13th Workshop on Hot Topics in Storage and File Systems
URL:http://www.wikicfp.com/cfp/servlet/event.showcfp?eventid=125731&copyo
 wnerid=146484
UID:cfp903078-D@wikicfp.com
END:VEVENT
BEGIN:VEVENT
DTSTAMP:20260421T230207Z
DTSTART;VALUE=DATE:20210608
SUMMARY:HotStorage 2021 Notification Due
DESCRIPTION:13th Workshop on Hot Topics in Storage and File Systems
URL:http://www.wikicfp.com/cfp/servlet/event.showcfp?eventid=125731&copyo
 wnerid=146484
UID:cfp903078-N@wikicfp.com
END:VEVENT
BEGIN:VEVENT
DTSTAMP:20260421T230207Z
DTSTART;VALUE=DATE:20210629
SUMMARY:HotStorage 2021 Final Version Due
DESCRIPTION:13th Workshop on Hot Topics in Storage and File Systems
URL:http://www.wikicfp.com/cfp/servlet/event.showcfp?eventid=125731&copyo
 wnerid=146484
UID:cfp903078-N@wikicfp.com
END:VEVENT
BEGIN:VEVENT
DTSTAMP:20260421T230207Z
DTSTART;VALUE=DATE:20211101
DTEND;VALUE=DATE:20211104
SUMMARY:SoCC 2021
DESCRIPTION:Symposium on Cloud Computing
URL:http://www.wikicfp.com/cfp/servlet/event.showcfp?eventid=129712&copyo
 wnerid=146484
UID:cfp903075-E@wikicfp.com
END:VEVENT
BEGIN:VEVENT
DTSTAMP:20260421T230207Z
DTSTART;VALUE=DATE:20210528
SUMMARY:SoCC 2021 Deadline
DESCRIPTION:Symposium on Cloud Computing
URL:http://www.wikicfp.com/cfp/servlet/event.showcfp?eventid=129712&copyo
 wnerid=146484
UID:cfp903075-D@wikicfp.com
END:VEVENT
BEGIN:VEVENT
DTSTAMP:20260421T230207Z
DTSTART;VALUE=DATE:20210828
SUMMARY:SoCC 2021 Notification Due
DESCRIPTION:Symposium on Cloud Computing
URL:http://www.wikicfp.com/cfp/servlet/event.showcfp?eventid=129712&copyo
 wnerid=146484
UID:cfp903075-N@wikicfp.com
END:VEVENT
BEGIN:VEVENT
DTSTAMP:20260421T230207Z
DTSTART;VALUE=DATE:20211001
SUMMARY:SoCC 2021 Final Version Due
DESCRIPTION:Symposium on Cloud Computing
URL:http://www.wikicfp.com/cfp/servlet/event.showcfp?eventid=129712&copyo
 wnerid=146484
UID:cfp903075-N@wikicfp.com
END:VEVENT
BEGIN:VEVENT
DTSTAMP:20260421T230207Z
DTSTART;VALUE=DATE:20220212
DTEND;VALUE=DATE:20220217
SUMMARY:PPoPP 2022
DESCRIPTION:The 27th ACM SIGPLAN Annual Symposium on Principles and Pract
 ice of Parallel Programming
URL:http://www.wikicfp.com/cfp/servlet/event.showcfp?eventid=137245&copyo
 wnerid=146484
UID:cfp903074-E@wikicfp.com
END:VEVENT
BEGIN:VEVENT
DTSTAMP:20260421T230207Z
DTSTART;VALUE=DATE:20210809
SUMMARY:PPoPP 2022 Abstract Due
DESCRIPTION:The 27th ACM SIGPLAN Annual Symposium on Principles and Pract
 ice of Parallel Programming
URL:http://www.wikicfp.com/cfp/servlet/event.showcfp?eventid=137245&copyo
 wnerid=146484
UID:cfp903074-A@wikicfp.com
END:VEVENT
BEGIN:VEVENT
DTSTAMP:20260421T230207Z
DTSTART;VALUE=DATE:20210813
SUMMARY:PPoPP 2022 Deadline
DESCRIPTION:The 27th ACM SIGPLAN Annual Symposium on Principles and Pract
 ice of Parallel Programming
URL:http://www.wikicfp.com/cfp/servlet/event.showcfp?eventid=137245&copyo
 wnerid=146484
UID:cfp903074-D@wikicfp.com
END:VEVENT
BEGIN:VEVENT
DTSTAMP:20260421T230207Z
DTSTART;VALUE=DATE:20211116
SUMMARY:PPoPP 2022 Notification Due
DESCRIPTION:The 27th ACM SIGPLAN Annual Symposium on Principles and Pract
 ice of Parallel Programming
URL:http://www.wikicfp.com/cfp/servlet/event.showcfp?eventid=137245&copyo
 wnerid=146484
UID:cfp903074-N@wikicfp.com
END:VEVENT
BEGIN:VEVENT
DTSTAMP:20260421T230207Z
DTSTART;VALUE=DATE:20211227
SUMMARY:PPoPP 2022 Final Version Due
DESCRIPTION:The 27th ACM SIGPLAN Annual Symposium on Principles and Pract
 ice of Parallel Programming
URL:http://www.wikicfp.com/cfp/servlet/event.showcfp?eventid=137245&copyo
 wnerid=146484
UID:cfp903074-N@wikicfp.com
END:VEVENT
BEGIN:VEVENT
DTSTAMP:20260421T230207Z
DTSTART;VALUE=DATE:20220405
DTEND;VALUE=DATE:20220409
SUMMARY:EuroSys 2022
DESCRIPTION:The European Conference on Computer Systems
URL:http://www.wikicfp.com/cfp/servlet/event.showcfp?eventid=143506&copyo
 wnerid=146484
UID:cfp903076-E@wikicfp.com
END:VEVENT
BEGIN:VEVENT
DTSTAMP:20260421T230207Z
DTSTART;VALUE=DATE:20211001
SUMMARY:EuroSys 2022 Abstract Due
DESCRIPTION:The European Conference on Computer Systems
URL:http://www.wikicfp.com/cfp/servlet/event.showcfp?eventid=143506&copyo
 wnerid=146484
UID:cfp903076-A@wikicfp.com
END:VEVENT
BEGIN:VEVENT
DTSTAMP:20260421T230207Z
DTSTART;VALUE=DATE:20211009
SUMMARY:EuroSys 2022 Deadline
DESCRIPTION:The European Conference on Computer Systems
URL:http://www.wikicfp.com/cfp/servlet/event.showcfp?eventid=143506&copyo
 wnerid=146484
UID:cfp903076-D@wikicfp.com
END:VEVENT
BEGIN:VEVENT
DTSTAMP:20260421T230207Z
DTSTART;VALUE=DATE:20220711
DTEND;VALUE=DATE:20220714
SUMMARY:OSDI 2022
DESCRIPTION:16th USENIX Symposium on Operating Systems Design and Impleme
 ntation
URL:http://www.wikicfp.com/cfp/servlet/event.showcfp?eventid=143168&copyo
 wnerid=146484
UID:cfp903073-E@wikicfp.com
END:VEVENT
BEGIN:VEVENT
DTSTAMP:20260421T230207Z
DTSTART;VALUE=DATE:20211207
SUMMARY:OSDI 2022 Abstract Due
DESCRIPTION:16th USENIX Symposium on Operating Systems Design and Impleme
 ntation
URL:http://www.wikicfp.com/cfp/servlet/event.showcfp?eventid=143168&copyo
 wnerid=146484
UID:cfp903073-A@wikicfp.com
END:VEVENT
BEGIN:VEVENT
DTSTAMP:20260421T230207Z
DTSTART;VALUE=DATE:20211214
SUMMARY:OSDI 2022 Deadline
DESCRIPTION:16th USENIX Symposium on Operating Systems Design and Impleme
 ntation
URL:http://www.wikicfp.com/cfp/servlet/event.showcfp?eventid=143168&copyo
 wnerid=146484
UID:cfp903073-D@wikicfp.com
END:VEVENT
BEGIN:VEVENT
DTSTAMP:20260421T230207Z
DTSTART;VALUE=DATE:20220711
DTEND;VALUE=DATE:20220714
SUMMARY:USENIX ATC 2022
DESCRIPTION:2022 USENIX Annual Technical Conference
URL:http://www.wikicfp.com/cfp/servlet/event.showcfp?eventid=143169&copyo
 wnerid=146484
UID:cfp903069-E@wikicfp.com
END:VEVENT
BEGIN:VEVENT
DTSTAMP:20260421T230207Z
DTSTART;VALUE=DATE:20220113
SUMMARY:USENIX ATC 2022 Deadline
DESCRIPTION:2022 USENIX Annual Technical Conference
URL:http://www.wikicfp.com/cfp/servlet/event.showcfp?eventid=143169&copyo
 wnerid=146484
UID:cfp903069-D@wikicfp.com
END:VEVENT
END:VCALENDAR
