BEGIN:VCALENDAR
PRODID:-//WikiCFP//mr_t_dtone 1.0//EN
VERSION:2.0
CALSCALE:GREGORIAN
BEGIN:VEVENT
DTSTAMP:20260421T025906Z
DTSTART;VALUE=DATE:20101122
DTEND;VALUE=DATE:20101125
SUMMARY:IWSEC 2010
DESCRIPTION:The 5th International Workshop on Security
URL:http://www.wikicfp.com/cfp/servlet/event.showcfp?eventid=8185&copyown
 erid=14647
UID:cfp102133-E@wikicfp.com
END:VEVENT
BEGIN:VEVENT
DTSTAMP:20260421T025906Z
DTSTART;VALUE=DATE:20100430
SUMMARY:IWSEC 2010 Deadline
DESCRIPTION:The 5th International Workshop on Security
URL:http://www.wikicfp.com/cfp/servlet/event.showcfp?eventid=8185&copyown
 erid=14647
UID:cfp102133-D@wikicfp.com
END:VEVENT
BEGIN:VEVENT
DTSTAMP:20260421T025906Z
DTSTART;VALUE=DATE:20100709
SUMMARY:IWSEC 2010 Notification Due
DESCRIPTION:The 5th International Workshop on Security
URL:http://www.wikicfp.com/cfp/servlet/event.showcfp?eventid=8185&copyown
 erid=14647
UID:cfp102133-N@wikicfp.com
END:VEVENT
BEGIN:VEVENT
DTSTAMP:20260421T025906Z
DTSTART;VALUE=DATE:20110731
DTEND;VALUE=DATE:20110806
SUMMARY:ISIT 2011
DESCRIPTION:IEEE International Symposium on Information Theory
URL:http://www.wikicfp.com/cfp/servlet/event.showcfp?eventid=9988&copyown
 erid=14647
UID:cfp102132-E@wikicfp.com
END:VEVENT
BEGIN:VEVENT
DTSTAMP:20260421T025906Z
DTSTART;VALUE=DATE:20110215
SUMMARY:ISIT 2011 Deadline
DESCRIPTION:IEEE International Symposium on Information Theory
URL:http://www.wikicfp.com/cfp/servlet/event.showcfp?eventid=9988&copyown
 erid=14647
UID:cfp102132-D@wikicfp.com
END:VEVENT
BEGIN:VEVENT
DTSTAMP:20260421T025906Z
DTSTART;VALUE=DATE:20110501
SUMMARY:ISIT 2011 Notification Due
DESCRIPTION:IEEE International Symposium on Information Theory
URL:http://www.wikicfp.com/cfp/servlet/event.showcfp?eventid=9988&copyown
 erid=14647
UID:cfp102132-N@wikicfp.com
END:VEVENT
BEGIN:VEVENT
DTSTAMP:20260421T025906Z
DTSTART;VALUE=DATE:20110531
SUMMARY:ISIT 2011 Final Version Due
DESCRIPTION:IEEE International Symposium on Information Theory
URL:http://www.wikicfp.com/cfp/servlet/event.showcfp?eventid=9988&copyown
 erid=14647
UID:cfp102132-N@wikicfp.com
END:VEVENT
END:VCALENDAR
