BEGIN:VCALENDAR
PRODID:-//WikiCFP//pmiron 1.0//EN
VERSION:2.0
CALSCALE:GREGORIAN
BEGIN:VEVENT
DTSTAMP:20260423T175016Z
DTSTART;VALUE=DATE:20110521
DTEND;VALUE=DATE:20110529
SUMMARY:ICSE 2011
DESCRIPTION:33rd International Conference on Software Engineering
URL:http://www.wikicfp.com/cfp/servlet/event.showcfp?eventid=7837&copyown
 erid=14331
UID:cfp100427-E@wikicfp.com
END:VEVENT
BEGIN:VEVENT
DTSTAMP:20260423T175016Z
DTSTART;VALUE=DATE:20100820
SUMMARY:ICSE 2011 Deadline
DESCRIPTION:33rd International Conference on Software Engineering
URL:http://www.wikicfp.com/cfp/servlet/event.showcfp?eventid=7837&copyown
 erid=14331
UID:cfp100427-D@wikicfp.com
END:VEVENT
BEGIN:VEVENT
DTSTAMP:20260423T175016Z
DTSTART;VALUE=DATE:20101119
SUMMARY:ICSE 2011 Notification Due
DESCRIPTION:33rd International Conference on Software Engineering
URL:http://www.wikicfp.com/cfp/servlet/event.showcfp?eventid=7837&copyown
 erid=14331
UID:cfp100427-N@wikicfp.com
END:VEVENT
END:VCALENDAR
